BEGIN:VCALENDAR
VERSION:2.0
PRODID:-//Фондација Српски легат - ECPv6.3.4//NONSGML v1.0//EN
CALSCALE:GREGORIAN
METHOD:PUBLISH
X-WR-CALNAME:Фондација Српски легат
X-ORIGINAL-URL:https://www.srpskilegat.rs
X-WR-CALDESC:Events for Фондација Српски легат
REFRESH-INTERVAL;VALUE=DURATION:PT1H
X-Robots-Tag:noindex
X-PUBLISHED-TTL:PT1H
BEGIN:VTIMEZONE
TZID:Europe/Belgrade
BEGIN:DAYLIGHT
TZOFFSETFROM:+0100
TZOFFSETTO:+0200
TZNAME:CEST
DTSTART:20150329T010000
END:DAYLIGHT
BEGIN:STANDARD
TZOFFSETFROM:+0200
TZOFFSETTO:+0100
TZNAME:CET
DTSTART:20151025T010000
END:STANDARD
END:VTIMEZONE
BEGIN:VEVENT
DTSTART;VALUE=DATE:20151112
DTEND;VALUE=DATE:20151113
DTSTAMP:20260422T144140
CREATED:20150621T105757Z
LAST-MODIFIED:20150705T172510Z
UID:2423-1447286400-1447372799@www.srpskilegat.rs
SUMMARY:КАТОЛИЧКИ : Јозафат\, Куниберт\, Дидак
DESCRIPTION:
URL:https://www.srpskilegat.rs/dogadjaj/katolicki-jozafat-kunibert-didak/
CATEGORIES:Верски празници,Католички празници
END:VEVENT
BEGIN:VEVENT
DTSTART;VALUE=DATE:20151111
DTEND;VALUE=DATE:20151112
DTSTAMP:20260422T144140
CREATED:20150621T105634Z
LAST-MODIFIED:20150705T172537Z
UID:2422-1447200000-1447286399@www.srpskilegat.rs
SUMMARY:КАТОЛИЧКИ : Мартин Тоурски\, Мартина
DESCRIPTION:
URL:https://www.srpskilegat.rs/dogadjaj/katolicki-martin-tourski-martina/
CATEGORIES:Верски празници,Католички празници
END:VEVENT
BEGIN:VEVENT
DTSTART;VALUE=DATE:20151110
DTEND;VALUE=DATE:20151111
DTSTAMP:20260422T144140
CREATED:20150621T105550Z
LAST-MODIFIED:20150705T171904Z
UID:2421-1447113600-1447199999@www.srpskilegat.rs
SUMMARY:КАТОЛИЧКИ : Леон Велики\, Лавослав\, Лав\, Деметрије
DESCRIPTION:
URL:https://www.srpskilegat.rs/dogadjaj/katolicki-leon-veliki-lavoslav-lav-demetrije/
CATEGORIES:Верски празници,Католички празници
END:VEVENT
BEGIN:VEVENT
DTSTART;VALUE=DATE:20151109
DTEND;VALUE=DATE:20151110
DTSTAMP:20260422T144140
CREATED:20150621T105500Z
LAST-MODIFIED:20150705T171931Z
UID:2420-1447027200-1447113599@www.srpskilegat.rs
SUMMARY:КАТОЛИЧКИ : ПОСВЕТА ЛАТЕРАНСКЕ БАЗИЛИКЕ\, Витомир
DESCRIPTION:
URL:https://www.srpskilegat.rs/dogadjaj/katolicki-posveta-lateranske-bazilike-vitomir/
CATEGORIES:Верски празници,Католички празници
END:VEVENT
BEGIN:VEVENT
DTSTART;VALUE=DATE:20151108
DTEND;VALUE=DATE:20151109
DTSTAMP:20260422T144140
CREATED:20150621T105414Z
LAST-MODIFIED:20150705T171959Z
UID:2419-1446940800-1447027199@www.srpskilegat.rs
SUMMARY:КАТОЛИЧКИ : 32.Кроз годину\, Грација Которски\, Клаудије\, Никострат
DESCRIPTION:
URL:https://www.srpskilegat.rs/dogadjaj/katolicki-32-kroz-godinu-gracija-kotorski-klaudije-nikostrat/
CATEGORIES:Верски празници,Католички празници
END:VEVENT
BEGIN:VEVENT
DTSTART;VALUE=DATE:20151107
DTEND;VALUE=DATE:20151108
DTSTAMP:20260422T144140
CREATED:20150621T105316Z
LAST-MODIFIED:20150705T172028Z
UID:2418-1446854400-1446940799@www.srpskilegat.rs
SUMMARY:КАТОЛИЧКИ : Балдо\, Лазар Стилита\, Енгелберт\, Анђелко
DESCRIPTION:
URL:https://www.srpskilegat.rs/dogadjaj/katolicki-baldo-lazar-stilita-engelbert-andjelko/
CATEGORIES:Верски празници,Католички празници
END:VEVENT
BEGIN:VEVENT
DTSTART;VALUE=DATE:20151106
DTEND;VALUE=DATE:20151107
DTSTAMP:20260422T144140
CREATED:20150621T105232Z
LAST-MODIFIED:20150705T172056Z
UID:2417-1446768000-1446854399@www.srpskilegat.rs
SUMMARY:КАТОЛИЧКИ : Меланија\, Леонард пустињак\, Теобалд\, Кристина
DESCRIPTION:
URL:https://www.srpskilegat.rs/dogadjaj/katolicki-melanija-leonard-pustinjak-teobald-kristina/
CATEGORIES:Верски празници,Католички празници
END:VEVENT
BEGIN:VEVENT
DTSTART;VALUE=DATE:20151105
DTEND;VALUE=DATE:20151106
DTSTAMP:20260422T144140
CREATED:20150621T105157Z
LAST-MODIFIED:20150705T172124Z
UID:2416-1446681600-1446767999@www.srpskilegat.rs
SUMMARY:КАТОЛИЧКИ : Сријемски мученици\, Елизабета\, Емерик
DESCRIPTION:
URL:https://www.srpskilegat.rs/dogadjaj/katolicki-srijemski-mucenici-elizabeta-emerik/
CATEGORIES:Верски празници,Католички празници
END:VEVENT
BEGIN:VEVENT
DTSTART;VALUE=DATE:20151104
DTEND;VALUE=DATE:20151105
DTSTAMP:20260422T144140
CREATED:20150621T105054Z
LAST-MODIFIED:20150705T172147Z
UID:2415-1446595200-1446681599@www.srpskilegat.rs
SUMMARY:КАТОЛИЧКИ : Карло Боромејски\, Драгутин\, Драго\, Драгица
DESCRIPTION:
URL:https://www.srpskilegat.rs/dogadjaj/katolicki-karlo-boromejski-dragutin-drago-dragica/
CATEGORIES:Верски празници,Католички празници
END:VEVENT
BEGIN:VEVENT
DTSTART;VALUE=DATE:20151103
DTEND;VALUE=DATE:20151104
DTSTAMP:20260422T144140
CREATED:20150621T105001Z
LAST-MODIFIED:20150705T171605Z
UID:2414-1446508800-1446595199@www.srpskilegat.rs
SUMMARY:КАТОЛИЧКИ : Мартин из Пореса\, Силвија\, Берард\, Ида
DESCRIPTION:
URL:https://www.srpskilegat.rs/dogadjaj/katolicki-martin-iz-poresa-silvija-berard-ida/
CATEGORIES:Верски празници,Католички празници
END:VEVENT
BEGIN:VEVENT
DTSTART;VALUE=DATE:20151102
DTEND;VALUE=DATE:20151103
DTSTAMP:20260422T144140
CREATED:20150621T104849Z
LAST-MODIFIED:20150705T171637Z
UID:2413-1446422400-1446508799@www.srpskilegat.rs
SUMMARY:КАТОЛИЧКИ : ДУШНИ ДАН
DESCRIPTION:
URL:https://www.srpskilegat.rs/dogadjaj/katolicki-dusni-dan/
CATEGORIES:Верски празници,Католички празници
END:VEVENT
BEGIN:VEVENT
DTSTART;VALUE=DATE:20151101
DTEND;VALUE=DATE:20151102
DTSTAMP:20260422T144140
CREATED:20150621T104800Z
LAST-MODIFIED:20150705T171702Z
UID:2412-1446336000-1446422399@www.srpskilegat.rs
SUMMARY:КАТОЛИЧКИ : СВИ СВЕТИ
DESCRIPTION:
URL:https://www.srpskilegat.rs/dogadjaj/katolicki-svi-sveti/
CATEGORIES:Верски празници,Католички празници
END:VEVENT
BEGIN:VEVENT
DTSTART;VALUE=DATE:20151031
DTEND;VALUE=DATE:20151101
DTSTAMP:20260422T144140
CREATED:20150621T104115Z
LAST-MODIFIED:20150705T171728Z
UID:2411-1446249600-1446335999@www.srpskilegat.rs
SUMMARY:КАТОЛИЧКИ : Vолфганг\, Вук\, Вукмир\, Кристофор
DESCRIPTION:
URL:https://www.srpskilegat.rs/dogadjaj/katolicki-volfgang-vuk-vukmir-kristofor/
CATEGORIES:Верски празници,Католички празници
END:VEVENT
BEGIN:VEVENT
DTSTART;VALUE=DATE:20151030
DTEND;VALUE=DATE:20151031
DTSTAMP:20260422T144140
CREATED:20150621T104003Z
LAST-MODIFIED:20150705T171750Z
UID:2410-1446163200-1446249599@www.srpskilegat.rs
SUMMARY:КАТОЛИЧКИ : Марцијан\, Марцел\, Марсела\, Клаудије\, Герард
DESCRIPTION:
URL:https://www.srpskilegat.rs/dogadjaj/katolicki-marcijan-marcel-marsela-klaudije-gerard/
CATEGORIES:Верски празници,Католички празници
END:VEVENT
BEGIN:VEVENT
DTSTART;VALUE=DATE:20151029
DTEND;VALUE=DATE:20151030
DTSTAMP:20260422T144140
CREATED:20150621T103916Z
LAST-MODIFIED:20150705T171820Z
UID:2409-1446076800-1446163199@www.srpskilegat.rs
SUMMARY:КАТОЛИЧКИ : Нарцис\, Хонорат\, Часлав
DESCRIPTION:
URL:https://www.srpskilegat.rs/dogadjaj/katolicki-narcis-honorat-caslav/
CATEGORIES:Верски празници,Католички празници
END:VEVENT
BEGIN:VEVENT
DTSTART;VALUE=DATE:20151028
DTEND;VALUE=DATE:20151029
DTSTAMP:20260422T144140
CREATED:20150621T103834Z
LAST-MODIFIED:20150705T171851Z
UID:2408-1445990400-1446076799@www.srpskilegat.rs
SUMMARY:КАТОЛИЧКИ : ШИМУН И ЈУДА ТАДЕЈ ап.\, Тада\, Синиша\, Сабина
DESCRIPTION:
URL:https://www.srpskilegat.rs/dogadjaj/katolicki-simun-i-juda-tadej-ap-tada-sinisa-sabina/
CATEGORIES:Верски празници,Католички празници
END:VEVENT
BEGIN:VEVENT
DTSTART;VALUE=DATE:20151027
DTEND;VALUE=DATE:20151028
DTSTAMP:20260422T144140
CREATED:20150621T103744Z
LAST-MODIFIED:20150705T171201Z
UID:2407-1445904000-1445990399@www.srpskilegat.rs
SUMMARY:КАТОЛИЧКИ : Намат\, Бартол\, Бартоломеј\, Баре\, Флор\, Флоријан
DESCRIPTION:
URL:https://www.srpskilegat.rs/dogadjaj/katolicki-namat-bartol-bartolomej-bare-flor-florijan/
CATEGORIES:Верски празници,Католички празници
END:VEVENT
BEGIN:VEVENT
DTSTART;VALUE=DATE:20151026
DTEND;VALUE=DATE:20151027
DTSTAMP:20260422T144140
CREATED:20150621T103702Z
LAST-MODIFIED:20150705T171232Z
UID:2406-1445817600-1445903999@www.srpskilegat.rs
SUMMARY:КАТОЛИЧКИ : Димитрије Сријемски\, Луцијан\, Марцијан
DESCRIPTION:
URL:https://www.srpskilegat.rs/dogadjaj/katolicki-dimitrije-srijemski-lucijan-marcijan/
CATEGORIES:Верски празници,Католички празници
END:VEVENT
BEGIN:VEVENT
DTSTART;VALUE=DATE:20151025
DTEND;VALUE=DATE:20151026
DTSTAMP:20260422T144140
CREATED:20150621T103606Z
LAST-MODIFIED:20150705T171300Z
UID:2405-1445731200-1445817599@www.srpskilegat.rs
SUMMARY:КАТОЛИЧКИ : 30.Кроз годину\, Катарина Котроманић\, Кризант\, Дарија\, Криспин
DESCRIPTION:
URL:https://www.srpskilegat.rs/dogadjaj/katolicki-30-kroz-godinu-katarina-kotromanic-krizant-darija-krispin/
CATEGORIES:Верски празници,Католички празници
END:VEVENT
BEGIN:VEVENT
DTSTART;VALUE=DATE:20151024
DTEND;VALUE=DATE:20151025
DTSTAMP:20260422T144140
CREATED:20150621T103450Z
LAST-MODIFIED:20150705T171330Z
UID:2404-1445644800-1445731199@www.srpskilegat.rs
SUMMARY:КАТОЛИЧКИ : Антун М. Цларет\, Прокло Цариградски
DESCRIPTION:
URL:https://www.srpskilegat.rs/dogadjaj/katolicki-antun-m-claret-proklo-carigradski/
CATEGORIES:Верски празници,Католички празници
END:VEVENT
BEGIN:VEVENT
DTSTART;VALUE=DATE:20151023
DTEND;VALUE=DATE:20151024
DTSTAMP:20260422T144140
CREATED:20150621T103348Z
LAST-MODIFIED:20150705T171437Z
UID:2403-1445558400-1445644799@www.srpskilegat.rs
SUMMARY:КАТОЛИЧКИ : Иван Капистрански\, Теодорет\, Северин
DESCRIPTION:
URL:https://www.srpskilegat.rs/dogadjaj/katolicki-ivan-kapistranski-teodoret-severin/
CATEGORIES:Верски празници,Католички празници
END:VEVENT
BEGIN:VEVENT
DTSTART;VALUE=DATE:20151022
DTEND;VALUE=DATE:20151023
DTSTAMP:20260422T144140
CREATED:20150621T103305Z
LAST-MODIFIED:20150705T171502Z
UID:2402-1445472000-1445558399@www.srpskilegat.rs
SUMMARY:КАТОЛИЧКИ : Иван Павао II.\, Марко Јерузалемски\, Филип
DESCRIPTION:
URL:https://www.srpskilegat.rs/dogadjaj/katolicki-ivan-pavao-ii-marko-jeruzalemski-filip/
CATEGORIES:Верски празници,Католички празници
END:VEVENT
BEGIN:VEVENT
DTSTART;VALUE=DATE:20151021
DTEND;VALUE=DATE:20151022
DTSTAMP:20260422T144140
CREATED:20150621T103135Z
LAST-MODIFIED:20150705T170341Z
UID:2401-1445385600-1445471999@www.srpskilegat.rs
SUMMARY:КАТОЛИЧКИ : Уршула\, Кајо\, Хиларион
DESCRIPTION:
URL:https://www.srpskilegat.rs/dogadjaj/katolicki-ursula-kajo-hilarion/
CATEGORIES:Верски празници,Католички празници
END:VEVENT
BEGIN:VEVENT
DTSTART;VALUE=DATE:20151020
DTEND;VALUE=DATE:20151021
DTSTAMP:20260422T144140
CREATED:20150621T103026Z
LAST-MODIFIED:20150705T170409Z
UID:2400-1445299200-1445385599@www.srpskilegat.rs
SUMMARY:КАТОЛИЧКИ : Венделин\, Корнелије\, Андрија\, Аделина
DESCRIPTION:
URL:https://www.srpskilegat.rs/dogadjaj/katolicki-vendelin-kornelije-andrija-adelina/
CATEGORIES:Верски празници,Католички празници
END:VEVENT
BEGIN:VEVENT
DTSTART;VALUE=DATE:20151019
DTEND;VALUE=DATE:20151020
DTSTAMP:20260422T144140
CREATED:20150621T102846Z
LAST-MODIFIED:20150705T170434Z
UID:2399-1445212800-1445299199@www.srpskilegat.rs
SUMMARY:КАТОЛИЧКИ : Иван Бребефски\, Павао од Крижа\, Петар Ал.
DESCRIPTION:
URL:https://www.srpskilegat.rs/dogadjaj/katolicki-ivan-brebefski-pavao-od-kriza-petar-al/
CATEGORIES:Верски празници,Католички празници
END:VEVENT
BEGIN:VEVENT
DTSTART;VALUE=DATE:20151018
DTEND;VALUE=DATE:20151019
DTSTAMP:20260422T144140
CREATED:20150621T102751Z
LAST-MODIFIED:20150705T170458Z
UID:2398-1445126400-1445212799@www.srpskilegat.rs
SUMMARY:КАТОЛИЧКИ : 29.Кроз годину\, ЛУКА ев.
DESCRIPTION:
URL:https://www.srpskilegat.rs/dogadjaj/katolicki-29-kroz-godinu-luka-ev/
CATEGORIES:Верски празници,Католички празници
END:VEVENT
BEGIN:VEVENT
DTSTART;VALUE=DATE:20151017
DTEND;VALUE=DATE:20151018
DTSTAMP:20260422T144140
CREATED:20150621T102652Z
LAST-MODIFIED:20150705T170552Z
UID:2397-1445040000-1445126399@www.srpskilegat.rs
SUMMARY:КАТОЛИЧКИ : Игнације Антиохијски\, Ватрослав\, Ватро
DESCRIPTION:
URL:https://www.srpskilegat.rs/dogadjaj/katolicki-ignacije-antiohijski-vatroslav-vatro/
CATEGORIES:Верски празници,Католички празници
END:VEVENT
BEGIN:VEVENT
DTSTART;VALUE=DATE:20151016
DTEND;VALUE=DATE:20151017
DTSTAMP:20260422T144140
CREATED:20150621T102607Z
LAST-MODIFIED:20150705T170626Z
UID:2396-1444953600-1445039999@www.srpskilegat.rs
SUMMARY:КАТОЛИЧКИ : Хедвига\, Марија Магдалена
DESCRIPTION:
URL:https://www.srpskilegat.rs/dogadjaj/katolicki-hedviga-marija-magdalena/
CATEGORIES:Верски празници,Католички празници
END:VEVENT
BEGIN:VEVENT
DTSTART;VALUE=DATE:20151015
DTEND;VALUE=DATE:20151016
DTSTAMP:20260422T144140
CREATED:20150621T102305Z
LAST-MODIFIED:20150705T170703Z
UID:2395-1444867200-1444953599@www.srpskilegat.rs
SUMMARY:КАТОЛИЧКИ : Терезија Авилска\, Тереза\, Текла
DESCRIPTION:
URL:https://www.srpskilegat.rs/dogadjaj/katolicki-terezija-avilska-tereza-tekla/
CATEGORIES:Верски празници,Католички празници
END:VEVENT
BEGIN:VEVENT
DTSTART;VALUE=DATE:20151014
DTEND;VALUE=DATE:20151015
DTSTAMP:20260422T144140
CREATED:20150621T102229Z
LAST-MODIFIED:20150705T165929Z
UID:2394-1444780800-1444867199@www.srpskilegat.rs
SUMMARY:КАТОЛИЧКИ : Калист I.\, Дивна\, Станислав
DESCRIPTION:
URL:https://www.srpskilegat.rs/dogadjaj/katolicki-kalist-i-divna-stanislav/
CATEGORIES:Верски празници,Католички празници
END:VEVENT
END:VCALENDAR