BEGIN:VCALENDAR
VERSION:2.0
PRODID:-//Фондација Српски легат - ECPv6.3.4//NONSGML v1.0//EN
CALSCALE:GREGORIAN
METHOD:PUBLISH
X-WR-CALNAME:Фондација Српски легат
X-ORIGINAL-URL:https://www.srpskilegat.rs
X-WR-CALDESC:Events for Фондација Српски легат
REFRESH-INTERVAL;VALUE=DURATION:PT1H
X-Robots-Tag:noindex
X-PUBLISHED-TTL:PT1H
BEGIN:VTIMEZONE
TZID:Europe/Belgrade
BEGIN:DAYLIGHT
TZOFFSETFROM:+0100
TZOFFSETTO:+0200
TZNAME:CEST
DTSTART:20150329T010000
END:DAYLIGHT
BEGIN:STANDARD
TZOFFSETFROM:+0200
TZOFFSETTO:+0100
TZNAME:CET
DTSTART:20151025T010000
END:STANDARD
END:VTIMEZONE
BEGIN:VEVENT
DTSTART;VALUE=DATE:20151212
DTEND;VALUE=DATE:20151213
DTSTAMP:20260422T102134
CREATED:20150621T113544Z
LAST-MODIFIED:20150705T173527Z
UID:2453-1449878400-1449964799@www.srpskilegat.rs
SUMMARY:КАТОЛИЧКИ : БДМ Гуадалупска\, Спиридон\, Шпиро кватре
DESCRIPTION:
URL:https://www.srpskilegat.rs/dogadjaj/katolicki-bdm-guadalupska-spiridon-spiro-kvatre/
CATEGORIES:Верски празници,Католички празници
END:VEVENT
BEGIN:VEVENT
DTSTART;VALUE=DATE:20151211
DTEND;VALUE=DATE:20151212
DTSTAMP:20260422T102134
CREATED:20150621T113425Z
LAST-MODIFIED:20150705T173608Z
UID:2452-1449792000-1449878399@www.srpskilegat.rs
SUMMARY:КАТОЛИЧКИ : Дамаз\, Данијел\, Хуголин\, Артур кватре
DESCRIPTION:
URL:https://www.srpskilegat.rs/dogadjaj/katolicki-damaz-danijel-hugolin-artur-kvatre/
CATEGORIES:Верски празници,Католички празници
END:VEVENT
BEGIN:VEVENT
DTSTART;VALUE=DATE:20151210
DTEND;VALUE=DATE:20151211
DTSTAMP:20260422T102134
CREATED:20150621T113320Z
LAST-MODIFIED:20150705T173636Z
UID:2451-1449705600-1449791999@www.srpskilegat.rs
SUMMARY:КАТОЛИЧКИ : Госпа Лоретска\, Јулија
DESCRIPTION:
URL:https://www.srpskilegat.rs/dogadjaj/katolicki-gospa-loretska-julija/
CATEGORIES:Верски празници,Католички празници
END:VEVENT
BEGIN:VEVENT
DTSTART;VALUE=DATE:20151209
DTEND;VALUE=DATE:20151210
DTSTAMP:20260422T102134
CREATED:20150621T113229Z
LAST-MODIFIED:20150705T173700Z
UID:2450-1449619200-1449705599@www.srpskilegat.rs
SUMMARY:КАТОЛИЧКИ : Валерија\, Здравка\, Ципријан кватре
DESCRIPTION:
URL:https://www.srpskilegat.rs/dogadjaj/katolicki-valerija-zdravka-ciprijan-kvatre/
CATEGORIES:Верски празници,Католички празници
END:VEVENT
BEGIN:VEVENT
DTSTART;VALUE=DATE:20151208
DTEND;VALUE=DATE:20151209
DTSTAMP:20260422T102134
CREATED:20150621T112927Z
LAST-MODIFIED:20150705T173724Z
UID:2449-1449532800-1449619199@www.srpskilegat.rs
SUMMARY:КАТОЛИЧКИ : БЕЗГРЈЕШНО ЗАЧЕЋЕ БДМ\, Имакулата
DESCRIPTION:
URL:https://www.srpskilegat.rs/dogadjaj/katolicki-bezgrjesno-zacece-bdm-imakulata/
CATEGORIES:Верски празници,Католички празници
END:VEVENT
BEGIN:VEVENT
DTSTART;VALUE=DATE:20151207
DTEND;VALUE=DATE:20151208
DTSTAMP:20260422T102134
CREATED:20150621T112820Z
LAST-MODIFIED:20150705T173746Z
UID:2448-1449446400-1449532799@www.srpskilegat.rs
SUMMARY:КАТОЛИЧКИ : Амброзије\, Амброз\, Сабина\, Урбан
DESCRIPTION:
URL:https://www.srpskilegat.rs/dogadjaj/katolicki-ambrozije-ambroz-sabina-urban/
CATEGORIES:Верски празници,Католички празници
END:VEVENT
BEGIN:VEVENT
DTSTART;VALUE=DATE:20151206
DTEND;VALUE=DATE:20151207
DTSTAMP:20260422T102134
CREATED:20150621T112736Z
LAST-MODIFIED:20150705T173218Z
UID:2447-1449360000-1449446399@www.srpskilegat.rs
SUMMARY:КАТОЛИЧКИ : 2. ДОШАШЋА\, Никола бискуп\, Никша\, Никица
DESCRIPTION:
URL:https://www.srpskilegat.rs/dogadjaj/katolicki-2-dosasca-nikola-biskup-niksa-nikica/
CATEGORIES:Верски празници,Католички празници
END:VEVENT
BEGIN:VEVENT
DTSTART;VALUE=DATE:20151205
DTEND;VALUE=DATE:20151206
DTSTAMP:20260422T102134
CREATED:20150621T112341Z
LAST-MODIFIED:20150705T173243Z
UID:2446-1449273600-1449359999@www.srpskilegat.rs
SUMMARY:КАТОЛИЧКИ : Криспина\, Саба
DESCRIPTION:
URL:https://www.srpskilegat.rs/dogadjaj/katolicki-krispina-saba/
CATEGORIES:Верски празници,Католички празници
END:VEVENT
BEGIN:VEVENT
DTSTART;VALUE=DATE:20151204
DTEND;VALUE=DATE:20151205
DTSTAMP:20260422T102134
CREATED:20150621T112242Z
LAST-MODIFIED:20150705T173325Z
UID:2445-1449187200-1449273599@www.srpskilegat.rs
SUMMARY:КАТОЛИЧКИ : Иван Дамашћански\, Барбара\, Адолф Колпинг
DESCRIPTION:
URL:https://www.srpskilegat.rs/dogadjaj/katolicki-ivan-damascanski-barbara-adolf-kolping/
CATEGORIES:Верски празници,Католички празници
END:VEVENT
BEGIN:VEVENT
DTSTART;VALUE=DATE:20151203
DTEND;VALUE=DATE:20151204
DTSTAMP:20260422T102134
CREATED:20150621T112125Z
LAST-MODIFIED:20150705T173349Z
UID:2444-1449100800-1449187199@www.srpskilegat.rs
SUMMARY:КАТОЛИЧКИ : Фрањо Ксаверски\, Софонија пр.\, Луције
DESCRIPTION:
URL:https://www.srpskilegat.rs/dogadjaj/katolicki-franjo-ksaverski-sofonija-pr-lucije/
CATEGORIES:Верски празници,Католички празници
END:VEVENT
BEGIN:VEVENT
DTSTART;VALUE=DATE:20151202
DTEND;VALUE=DATE:20151203
DTSTAMP:20260422T102134
CREATED:20150621T112024Z
LAST-MODIFIED:20150705T173412Z
UID:2443-1449014400-1449100799@www.srpskilegat.rs
SUMMARY:КАТОЛИЧКИ : Бланка\, Хабакук пр.\, Бибијана\, Кромације
DESCRIPTION:
URL:https://www.srpskilegat.rs/dogadjaj/katolicki-blanka-habakuk-pr-bibijana-kromacije/
CATEGORIES:Верски празници,Католички празници
END:VEVENT
BEGIN:VEVENT
DTSTART;VALUE=DATE:20151201
DTEND;VALUE=DATE:20151202
DTSTAMP:20260422T102134
CREATED:20150621T111933Z
LAST-MODIFIED:20150705T173435Z
UID:2442-1448928000-1449014399@www.srpskilegat.rs
SUMMARY:КАТОЛИЧКИ : Наум пр.\, Флоренција\, Леонције\, Казимир
DESCRIPTION:
URL:https://www.srpskilegat.rs/dogadjaj/katolicki-naum-pr-florencija-leoncije-kazimir/
CATEGORIES:Верски празници,Католички празници
END:VEVENT
BEGIN:VEVENT
DTSTART;VALUE=DATE:20151130
DTEND;VALUE=DATE:20151201
DTSTAMP:20260422T102134
CREATED:20150621T111817Z
LAST-MODIFIED:20150705T173502Z
UID:2441-1448841600-1448927999@www.srpskilegat.rs
SUMMARY:КАТОЛИЧКИ : АНДРИЈА ап.\, Андро\, Андреа
DESCRIPTION:
URL:https://www.srpskilegat.rs/dogadjaj/katolicki-andrija-ap-andro-andrea/
CATEGORIES:Верски празници,Католички празници
END:VEVENT
BEGIN:VEVENT
DTSTART;VALUE=DATE:20151129
DTEND;VALUE=DATE:20151130
DTSTAMP:20260422T102134
CREATED:20150621T111720Z
LAST-MODIFIED:20150705T172930Z
UID:2440-1448755200-1448841599@www.srpskilegat.rs
SUMMARY:КАТОЛИЧКИ : 1. ДОШАШЋА\, Сатурнин\, Филомен\, Илумината\, Сви свети Фрањевачког реда
DESCRIPTION:
URL:https://www.srpskilegat.rs/dogadjaj/katolicki-1-dosasca-saturnin-filomen-iluminata-svi-sveti-franjevackog-reda/
CATEGORIES:Верски празници,Католички празници
END:VEVENT
BEGIN:VEVENT
DTSTART;VALUE=DATE:20151128
DTEND;VALUE=DATE:20151129
DTSTAMP:20260422T102134
CREATED:20150621T111602Z
LAST-MODIFIED:20150705T173000Z
UID:2439-1448668800-1448755199@www.srpskilegat.rs
SUMMARY:КАТОЛИЧКИ : Јаков Маркијски
DESCRIPTION:
URL:https://www.srpskilegat.rs/dogadjaj/katolicki-jakov-markijski/
CATEGORIES:Верски празници,Католички празници
END:VEVENT
BEGIN:VEVENT
DTSTART;VALUE=DATE:20151127
DTEND;VALUE=DATE:20151128
DTSTAMP:20260422T102134
CREATED:20150621T111513Z
LAST-MODIFIED:20150705T173024Z
UID:2438-1448582400-1448668799@www.srpskilegat.rs
SUMMARY:КАТОЛИЧКИ : Факундо\, Виргил\, Максим\, Валерије
DESCRIPTION:
URL:https://www.srpskilegat.rs/dogadjaj/katolicki-fakundo-virgil-maksim-valerije/
CATEGORIES:Верски празници,Католички празници
END:VEVENT
BEGIN:VEVENT
DTSTART;VALUE=DATE:20151126
DTEND;VALUE=DATE:20151127
DTSTAMP:20260422T102134
CREATED:20150621T111346Z
LAST-MODIFIED:20150705T173051Z
UID:2437-1448496000-1448582399@www.srpskilegat.rs
SUMMARY:КАТОЛИЧКИ : Сириције\, Конрад\, Делфина
DESCRIPTION:
URL:https://www.srpskilegat.rs/dogadjaj/katolicki-siricije-konrad-delfina/
CATEGORIES:Верски празници,Католички празници
END:VEVENT
BEGIN:VEVENT
DTSTART;VALUE=DATE:20151125
DTEND;VALUE=DATE:20151126
DTSTAMP:20260422T102134
CREATED:20150621T111257Z
LAST-MODIFIED:20150705T173121Z
UID:2436-1448409600-1448495999@www.srpskilegat.rs
SUMMARY:КАТОЛИЧКИ : Катарина Александријска\, Ката\, Катица
DESCRIPTION:
URL:https://www.srpskilegat.rs/dogadjaj/katolicki-katarina-aleksandrijska-kata-katica/
CATEGORIES:Верски празници,Католички празници
END:VEVENT
BEGIN:VEVENT
DTSTART;VALUE=DATE:20151124
DTEND;VALUE=DATE:20151125
DTSTAMP:20260422T102134
CREATED:20150621T111209Z
LAST-MODIFIED:20150705T173148Z
UID:2435-1448323200-1448409599@www.srpskilegat.rs
SUMMARY:КАТОЛИЧКИ : Андрија Дунг-Лац и др.\, Кризогон
DESCRIPTION:
URL:https://www.srpskilegat.rs/dogadjaj/katolicki-andrija-dung-lac-i-dr-krizogon/
CATEGORIES:Верски празници,Католички празници
END:VEVENT
BEGIN:VEVENT
DTSTART;VALUE=DATE:20151123
DTEND;VALUE=DATE:20151124
DTSTAMP:20260422T102134
CREATED:20150621T111029Z
LAST-MODIFIED:20150705T172617Z
UID:2434-1448236800-1448323199@www.srpskilegat.rs
SUMMARY:КАТОЛИЧКИ : Клемент И.\, Фелицита\, Лукреција
DESCRIPTION:
URL:https://www.srpskilegat.rs/dogadjaj/katolicki-klement-i-felicita-lukrecija/
CATEGORIES:Верски празници,Католички празници
END:VEVENT
BEGIN:VEVENT
DTSTART;VALUE=DATE:20151122
DTEND;VALUE=DATE:20151123
DTSTAMP:20260422T102134
CREATED:20150621T110920Z
LAST-MODIFIED:20150705T172645Z
UID:2433-1448150400-1448236799@www.srpskilegat.rs
SUMMARY:КАТОЛИЧКИ : КРИСТ КРАЉ\, Цецилија\, Бенигна\, Добрила
DESCRIPTION:
URL:https://www.srpskilegat.rs/dogadjaj/katolicki-krist-kralj-cecilija-benigna-dobrila/
CATEGORIES:Верски празници,Католички празници
END:VEVENT
BEGIN:VEVENT
DTSTART;VALUE=DATE:20151121
DTEND;VALUE=DATE:20151122
DTSTAMP:20260422T102134
CREATED:20150621T110826Z
LAST-MODIFIED:20150705T172708Z
UID:2432-1448064000-1448150399@www.srpskilegat.rs
SUMMARY:КАТОЛИЧКИ : Приказање БДМ\, Здравка\, Здравко\, Валент\, Валентина
DESCRIPTION:
URL:https://www.srpskilegat.rs/dogadjaj/katolicki-prikazanje-bdm-zdravka-zdravko-valent-valentina/
CATEGORIES:Верски празници,Католички празници
END:VEVENT
BEGIN:VEVENT
DTSTART;VALUE=DATE:20151120
DTEND;VALUE=DATE:20151121
DTSTAMP:20260422T102134
CREATED:20150621T110731Z
LAST-MODIFIED:20150705T172739Z
UID:2431-1447977600-1448063999@www.srpskilegat.rs
SUMMARY:КАТОЛИЧКИ : Феликс из Валоиса\, Срећко\, Едмунд
DESCRIPTION:
URL:https://www.srpskilegat.rs/dogadjaj/katolicki-feliks-iz-valoisa-srecko-edmund/
CATEGORIES:Верски празници,Католички празници
END:VEVENT
BEGIN:VEVENT
DTSTART;VALUE=DATE:20151119
DTEND;VALUE=DATE:20151120
DTSTAMP:20260422T102134
CREATED:20150621T110619Z
LAST-MODIFIED:20150705T172804Z
UID:2430-1447891200-1447977599@www.srpskilegat.rs
SUMMARY:КАТОЛИЧКИ : Обадија пр.\, Максим\, Матилда\, Саломеја
DESCRIPTION:
URL:https://www.srpskilegat.rs/dogadjaj/katolicki-obadija-pr-maksim-matilda-salomeja/
CATEGORIES:Верски празници,Католички празници
END:VEVENT
BEGIN:VEVENT
DTSTART;VALUE=DATE:20151118
DTEND;VALUE=DATE:20151119
DTSTAMP:20260422T102134
CREATED:20150621T110515Z
LAST-MODIFIED:20150705T172828Z
UID:2429-1447804800-1447891199@www.srpskilegat.rs
SUMMARY:КАТОЛИЧКИ : Посвета базилике св. Петра и Павла\, Роман
DESCRIPTION:
URL:https://www.srpskilegat.rs/dogadjaj/katolicki-posveta-bazilike-sv-petra-i-pavla-roman/
CATEGORIES:Верски празници,Католички празници
END:VEVENT
BEGIN:VEVENT
DTSTART;VALUE=DATE:20151117
DTEND;VALUE=DATE:20151118
DTSTAMP:20260422T102134
CREATED:20150621T110254Z
LAST-MODIFIED:20150705T172849Z
UID:2428-1447718400-1447804799@www.srpskilegat.rs
SUMMARY:КАТОЛИЧКИ : Елизабета Угарска\, Алфеј и Закеј
DESCRIPTION:
URL:https://www.srpskilegat.rs/dogadjaj/katolicki-elizabeta-ugarska-alfej-i-zakej/
CATEGORIES:Верски празници,Католички празници
END:VEVENT
BEGIN:VEVENT
DTSTART;VALUE=DATE:20151116
DTEND;VALUE=DATE:20151117
DTSTAMP:20260422T102134
CREATED:20150621T110157Z
LAST-MODIFIED:20150705T172222Z
UID:2427-1447632000-1447718399@www.srpskilegat.rs
SUMMARY:КАТОЛИЧКИ : Маргарета Шкотска\, Гертруда\, Гера
DESCRIPTION:
URL:https://www.srpskilegat.rs/dogadjaj/katolicki-margareta-skotska-gertruda-gera/
CATEGORIES:Верски празници,Католички празници
END:VEVENT
BEGIN:VEVENT
DTSTART;VALUE=DATE:20151115
DTEND;VALUE=DATE:20151116
DTSTAMP:20260422T102134
CREATED:20150621T110053Z
LAST-MODIFIED:20150705T172307Z
UID:2426-1447545600-1447631999@www.srpskilegat.rs
SUMMARY:КАТОЛИЧКИ : 33.Кроз годину\, Алберт Велики\, Албертина\, Сидонија
DESCRIPTION:
URL:https://www.srpskilegat.rs/dogadjaj/katolicki-33-kroz-godinu-albert-veliki-albertina-sidonija/
CATEGORIES:Верски празници,Католички празници
END:VEVENT
BEGIN:VEVENT
DTSTART;VALUE=DATE:20151114
DTEND;VALUE=DATE:20151115
DTSTAMP:20260422T102134
CREATED:20150621T105938Z
LAST-MODIFIED:20150705T172337Z
UID:2425-1447459200-1447545599@www.srpskilegat.rs
SUMMARY:КАТОЛИЧКИ : Никола Тавелић\, Николина\, Николета
DESCRIPTION:
URL:https://www.srpskilegat.rs/dogadjaj/katolicki-nikola-tavelic-nikolina-nikoleta/
CATEGORIES:Верски празници,Католички празници
END:VEVENT
BEGIN:VEVENT
DTSTART;VALUE=DATE:20151113
DTEND;VALUE=DATE:20151114
DTSTAMP:20260422T102134
CREATED:20150621T105841Z
LAST-MODIFIED:20150705T172416Z
UID:2424-1447372800-1447459199@www.srpskilegat.rs
SUMMARY:КАТОЛИЧКИ : Станислав Костка\, Митар\, Иван Трогирски
DESCRIPTION:
URL:https://www.srpskilegat.rs/dogadjaj/katolicki-stanislav-kostka-mitar-ivan-trogirski/
CATEGORIES:Верски празници,Католички празници
END:VEVENT
END:VCALENDAR