BEGIN:VCALENDAR
VERSION:2.0
PRODID:-//Фондација Српски легат - ECPv6.3.4//NONSGML v1.0//EN
CALSCALE:GREGORIAN
METHOD:PUBLISH
X-ORIGINAL-URL:https://www.srpskilegat.rs
X-WR-CALDESC:Events for Фондација Српски легат
REFRESH-INTERVAL;VALUE=DURATION:PT1H
X-Robots-Tag:noindex
X-PUBLISHED-TTL:PT1H
BEGIN:VTIMEZONE
TZID:Europe/Belgrade
BEGIN:DAYLIGHT
TZOFFSETFROM:+0100
TZOFFSETTO:+0200
TZNAME:CEST
DTSTART:20150329T010000
END:DAYLIGHT
BEGIN:STANDARD
TZOFFSETFROM:+0200
TZOFFSETTO:+0100
TZNAME:CET
DTSTART:20151025T010000
END:STANDARD
BEGIN:DAYLIGHT
TZOFFSETFROM:+0100
TZOFFSETTO:+0200
TZNAME:CEST
DTSTART:20160327T010000
END:DAYLIGHT
BEGIN:STANDARD
TZOFFSETFROM:+0200
TZOFFSETTO:+0100
TZNAME:CET
DTSTART:20161030T010000
END:STANDARD
BEGIN:DAYLIGHT
TZOFFSETFROM:+0100
TZOFFSETTO:+0200
TZNAME:CEST
DTSTART:20170326T010000
END:DAYLIGHT
BEGIN:STANDARD
TZOFFSETFROM:+0200
TZOFFSETTO:+0100
TZNAME:CET
DTSTART:20171029T010000
END:STANDARD
BEGIN:DAYLIGHT
TZOFFSETFROM:+0100
TZOFFSETTO:+0200
TZNAME:CEST
DTSTART:20180325T010000
END:DAYLIGHT
BEGIN:STANDARD
TZOFFSETFROM:+0200
TZOFFSETTO:+0100
TZNAME:CET
DTSTART:20181028T010000
END:STANDARD
END:VTIMEZONE
BEGIN:VEVENT
DTSTART;VALUE=DATE:20181121
DTEND;VALUE=DATE:20181122
DTSTAMP:20260422T084526
CREATED:20181121T063624Z
LAST-MODIFIED:20181121T063742Z
UID:16267-1542758400-1542844799@www.srpskilegat.rs
SUMMARY:СРПСКИ НАРОДНИ КАЛЕНДАР 2018 (21. новембар)
DESCRIPTION:АРАНЂЕЛОВДАН \nОвај дан је установљен као празник арханђела Михаила. Изабран је новембар\, јер се зна да је Бог стварао свет на овај дан у марту\, а како има девет чинова анђеоских\, почасни девети месец од марта до новембра посвећен је најважнијем анђелу Михаилу. \nАрханђел Михаило је први међу анђелима и војвода анђелске небеске војске. Кад је Луцифер отпао од Бога и са собом повукао део анђела\, први му се успешно успротивио. Сабрао је преостале анђеле\, организовао их на принципу једномислија\, једнодушности\, љубави\, као и на апсолутној послушности нижих чинова према вишим и светој вољи Божјој као коначном и безгрешном. Тако је Бог победио Луцифера и прогнао га из небеског савршенства међу људски\, грешни свет. \nМнога су народна веровања о овом анђелу. Он обилази све болеснике. Ако стане код ногу\, није добро; ако стане код главе\, добро је и болесник ће прездравити. \nПрема народном веровању\, које је забележено у народној поезији\, кад су свеци делили улоге\, арханђел Михаило доби јесење и зимско време. Време зиме и зимске тешкоће. Говори се да у ово време арханђел лута светом обучен у просјака и куша људе. \nПрича из Шумадије каже да је у околини Крагујевца живео човек по имену Љубо Бумбар. Није му то вероватно било право име\, биће пре да му је то какав надимак из детињства\, који га је као прирепак пратио кроз живот. Како то обично бива\, човек је заборављен и нико се више ни њега ни његовог лика није могао сетити. Бумбар се олако обогати и подигну кућерину\, скоро дворац\, са стотину соба. Као и сваки скоројевић\, волео је да се размеће богатством\, засењујући њиме простоту. Обичавао је да нагиздан заједно са женом – која беше његова слика и прилика – шета градом\, гледајући охоло и са висине на остали свет. Једног дана наиђоше на просјака који од њих затражи милостињу. Бумбар одмахну руком\, грубо га одби речима да ни њему нико ништа није дао. На те речи просјак се узвиси\, збаци просјачке прње и рече: „Зар ти ништа не даде Бог?ˮ Охоли пар га погледа и угледа пред собом дванаестокрилног арханђела Михаила. Падоше ничице пред њим и затражише милост. Арханђел им одговори: „Ево вам моје просјачко одело. Од сада ћете у њему ходити.ˮ Тако и би. Од свег богатства\, остадоше им просјачке прње\, а они овоземаљски живот проведоше лутајући светом\, тражећи милостињу и молећи се Господу и Михаилу. \nАрханђел једини може да заузда хромог вука\, да промени вољу Светог Саве\, да заведе вукове да одлутају у дивљину где нема ни стоке ни људи. Он оставља тајне знаке по селима. Кад их вукови осете\, морају да заобиђу село. \nАрханђел је једини који јури аждаје да не поједу месец. Тад рашири крила не дајући немани да дође до вечитог земљиног пратиоца и зато настаје помрачење месеца. \nОн седи на небесима\, гледа на свет и кад хоће силази међу народ да изгрди невернике и помогне невољницима. \nНе прави никакву разлику међу људима који се огреше. Било да су они цареви или пуки сиромаси\, онај ко погреши мора да испашта. \nЦар Душан Силни славио је крсну славу Аранђеловдан\, а светац\, невидљив за све\, стајао је на десном рамену и све надгледао. Цар је сваког госта дочекивао и стојећи служио. Међутим\, једном\, што од умора а што од заборава\, превари се и седе за трпезу. Свети Михаило прасну\, удари цара крилом по образу и љутито одлете. Цар је Михаила једва умилостивио вишемесечним молитвама. \nАрханђел Михаило био је слава Стефана Немање и његових синова. \nСрби верују да је он жив\, па за његову славу не праве жито. \nСлави се као крсна слава. \nПо бројности свечара налази се на другом месту. \nИзвор: Д. Антонић\, Српски народни календар 2018/7526\, Informatika\, Београд\, 2017. \n 
URL:https://www.srpskilegat.rs/dogadjaj/srpski-narodni-kalendar-2018-21-novembar/
CATEGORIES:Верски празници,Католички празници
ATTACH;FMTTYPE=image/jpeg:https://www.srpskilegat.rs/wp-content/uploads/2018/11/Архангел_Михаил._1914-1915.jpg
END:VEVENT
BEGIN:VEVENT
DTSTART;VALUE=DATE:20151231
DTEND;VALUE=DATE:20160101
DTSTAMP:20260422T084526
CREATED:20150621T120434Z
LAST-MODIFIED:20150712T224153Z
UID:2472-1451520000-1451606399@www.srpskilegat.rs
SUMMARY:КАТОЛИЧКИ : Силвестар И.\, Силвио\, Доната\, Паулина
DESCRIPTION:
URL:https://www.srpskilegat.rs/dogadjaj/katolicki-silvestar-i-silvio-donata-paulina/
CATEGORIES:Верски празници,Католички празници
END:VEVENT
BEGIN:VEVENT
DTSTART;VALUE=DATE:20151230
DTEND;VALUE=DATE:20151231
DTSTAMP:20260422T084526
CREATED:20150621T120340Z
LAST-MODIFIED:20150712T224154Z
UID:2471-1451433600-1451519999@www.srpskilegat.rs
SUMMARY:КАТОЛИЧКИ : Феликс И.\, Јукундо\, Рајнер
DESCRIPTION:
URL:https://www.srpskilegat.rs/dogadjaj/katolicki-feliks-i-jukundo-rajner/
CATEGORIES:Верски празници,Католички празници
END:VEVENT
BEGIN:VEVENT
DTSTART;VALUE=DATE:20151229
DTEND;VALUE=DATE:20151230
DTSTAMP:20260422T084526
CREATED:20150621T120246Z
LAST-MODIFIED:20150712T224155Z
UID:2470-1451347200-1451433599@www.srpskilegat.rs
SUMMARY:КАТОЛИЧКИ : Тома Бецкет\, Томислав\, Давид краљ
DESCRIPTION:
URL:https://www.srpskilegat.rs/dogadjaj/katolicki-toma-becket-tomislav-david-kralj/
CATEGORIES:Верски празници,Католички празници
END:VEVENT
BEGIN:VEVENT
DTSTART;VALUE=DATE:20151228
DTEND;VALUE=DATE:20151229
DTSTAMP:20260422T084526
CREATED:20150621T115953Z
LAST-MODIFIED:20150712T224156Z
UID:2469-1451260800-1451347199@www.srpskilegat.rs
SUMMARY:КАТОЛИЧКИ : НЕВИНА ДЈЕЧИЦА\, Невен\, Младен
DESCRIPTION:
URL:https://www.srpskilegat.rs/dogadjaj/katolicki-nevina-djecica-neven-mladen/
CATEGORIES:Верски празници,Католички празници
END:VEVENT
BEGIN:VEVENT
DTSTART;VALUE=DATE:20151227
DTEND;VALUE=DATE:20151228
DTSTAMP:20260422T084526
CREATED:20150621T115856Z
LAST-MODIFIED:20150712T224157Z
UID:2468-1451174400-1451260799@www.srpskilegat.rs
SUMMARY:КАТОЛИЧКИ : СВЕТА ОБИТЕЉ\, ИВАН ап. и ев.\, Ивона
DESCRIPTION:
URL:https://www.srpskilegat.rs/dogadjaj/katolicki-sveta-obitelj-ivan-ap-i-ev-ivona/
CATEGORIES:Верски празници,Католички празници
END:VEVENT
BEGIN:VEVENT
DTSTART;VALUE=DATE:20151226
DTEND;VALUE=DATE:20151227
DTSTAMP:20260422T084526
CREATED:20150621T115812Z
LAST-MODIFIED:20150712T224158Z
UID:2467-1451088000-1451174399@www.srpskilegat.rs
SUMMARY:КАТОЛИЧКИ : СТЈЕПАН ПРВОМУЧЕНИК\, Стјепко\, Круно
DESCRIPTION:
URL:https://www.srpskilegat.rs/dogadjaj/katolicki-stjepan-prvomucenik-stjepko-kruno/
CATEGORIES:Верски празници,Католички празници
END:VEVENT
BEGIN:VEVENT
DTSTART;VALUE=DATE:20151225
DTEND;VALUE=DATE:20151226
DTSTAMP:20260422T084526
CREATED:20150621T115729Z
LAST-MODIFIED:20150705T174129Z
UID:2466-1451001600-1451087999@www.srpskilegat.rs
SUMMARY:КАТОЛИЧКИ : РОЂЕЊЕ ГОСПОДЊЕ - БОЖИЋ\, Божо\, Наталија
DESCRIPTION:
URL:https://www.srpskilegat.rs/dogadjaj/katolicki-rodjenje-gospodnje-bozic-bozo-natalija/
CATEGORIES:Верски празници,Католички празници
END:VEVENT
BEGIN:VEVENT
DTSTART;VALUE=DATE:20151224
DTEND;VALUE=DATE:20151225
DTSTAMP:20260422T084526
CREATED:20150621T115610Z
LAST-MODIFIED:20150705T174154Z
UID:2465-1450915200-1451001599@www.srpskilegat.rs
SUMMARY:КАТОЛИЧКИ : БАДЊИ ДАН\, Делфина\, Ирмина\, Ирма
DESCRIPTION:
URL:https://www.srpskilegat.rs/dogadjaj/katolicki-badnji-dan-delfina-irmina-irma/
CATEGORIES:Верски празници,Католички празници
END:VEVENT
BEGIN:VEVENT
DTSTART;VALUE=DATE:20151223
DTEND;VALUE=DATE:20151224
DTSTAMP:20260422T084526
CREATED:20150621T115428Z
LAST-MODIFIED:20150705T174222Z
UID:2464-1450828800-1450915199@www.srpskilegat.rs
SUMMARY:КАТОЛИЧКИ : Иван Кентски\, Ивон
DESCRIPTION:
URL:https://www.srpskilegat.rs/dogadjaj/katolicki-ivan-kentski-ivon/
CATEGORIES:Верски празници,Католички празници
END:VEVENT
BEGIN:VEVENT
DTSTART;VALUE=DATE:20151222
DTEND;VALUE=DATE:20151223
DTSTAMP:20260422T084526
CREATED:20150621T115348Z
LAST-MODIFIED:20150705T174246Z
UID:2463-1450742400-1450828799@www.srpskilegat.rs
SUMMARY:КАТОЛИЧКИ : Тома Холанд
DESCRIPTION:
URL:https://www.srpskilegat.rs/dogadjaj/katolicki-toma-holand/
CATEGORIES:Верски празници,Католички празници
END:VEVENT
BEGIN:VEVENT
DTSTART;VALUE=DATE:20151221
DTEND;VALUE=DATE:20151222
DTSTAMP:20260422T084526
CREATED:20150621T115249Z
LAST-MODIFIED:20150705T174320Z
UID:2462-1450656000-1450742399@www.srpskilegat.rs
SUMMARY:КАТОЛИЧКИ : Петар Канизије\, Михеј пр.
DESCRIPTION:
URL:https://www.srpskilegat.rs/dogadjaj/katolicki-petar-kanizije-mihej-pr/
CATEGORIES:Верски празници,Католички празници
END:VEVENT
BEGIN:VEVENT
DTSTART;VALUE=DATE:20151220
DTEND;VALUE=DATE:20151221
DTSTAMP:20260422T084526
CREATED:20150621T115156Z
LAST-MODIFIED:20150705T174355Z
UID:2461-1450569600-1450655999@www.srpskilegat.rs
SUMMARY:КАТОЛИЧКИ : 4. ДОШАШЋА\, Зефирин\, Слободан
DESCRIPTION:
URL:https://www.srpskilegat.rs/dogadjaj/katolicki-4-dosasca-zefirin-slobodan/
CATEGORIES:Верски празници,Католички празници
END:VEVENT
BEGIN:VEVENT
DTSTART;VALUE=DATE:20151219
DTEND;VALUE=DATE:20151220
DTSTAMP:20260422T084526
CREATED:20150621T115016Z
LAST-MODIFIED:20150705T173811Z
UID:2460-1450483200-1450569599@www.srpskilegat.rs
SUMMARY:КАТОЛИЧКИ : Анастазије\, Урбан\, Владимир\, Ева
DESCRIPTION:
URL:https://www.srpskilegat.rs/dogadjaj/katolicki-anastazije-urban-vladimir-eva/
CATEGORIES:Верски празници,Католички празници
END:VEVENT
BEGIN:VEVENT
DTSTART;VALUE=DATE:20151218
DTEND;VALUE=DATE:20151219
DTSTAMP:20260422T084526
CREATED:20150621T114923Z
LAST-MODIFIED:20150705T173832Z
UID:2459-1450396800-1450483199@www.srpskilegat.rs
SUMMARY:КАТОЛИЧКИ : Малахија пр.\, Грацијан
DESCRIPTION:
URL:https://www.srpskilegat.rs/dogadjaj/katolicki-malahija-pr-gracijan/
CATEGORIES:Верски празници,Католички празници
END:VEVENT
BEGIN:VEVENT
DTSTART;VALUE=DATE:20151217
DTEND;VALUE=DATE:20151218
DTSTAMP:20260422T084526
CREATED:20150621T114718Z
LAST-MODIFIED:20150705T173849Z
UID:2458-1450310400-1450396799@www.srpskilegat.rs
SUMMARY:КАТОЛИЧКИ : Модест\, Хијацинт
DESCRIPTION:
URL:https://www.srpskilegat.rs/dogadjaj/katolicki-modest-hijacint/
CATEGORIES:Верски празници,Католички празници
END:VEVENT
BEGIN:VEVENT
DTSTART;VALUE=DATE:20151216
DTEND;VALUE=DATE:20151217
DTSTAMP:20260422T084526
CREATED:20150621T114505Z
LAST-MODIFIED:20150705T173920Z
UID:2457-1450224000-1450310399@www.srpskilegat.rs
SUMMARY:КАТОЛИЧКИ : Хагај пр.\, Адон\, Себастијан
DESCRIPTION:
URL:https://www.srpskilegat.rs/dogadjaj/katolicki-hagaj-pr-adon-sebastijan/
CATEGORIES:Верски празници,Католички празници
END:VEVENT
BEGIN:VEVENT
DTSTART;VALUE=DATE:20151215
DTEND;VALUE=DATE:20151216
DTSTAMP:20260422T084526
CREATED:20150621T114035Z
LAST-MODIFIED:20150705T173944Z
UID:2456-1450137600-1450223999@www.srpskilegat.rs
SUMMARY:КАТОЛИЧКИ : Дринске мученице\, Викторија
DESCRIPTION:
URL:https://www.srpskilegat.rs/dogadjaj/katolicki-drinske-mucenice-viktorija/
CATEGORIES:Верски празници,Католички празници
END:VEVENT
BEGIN:VEVENT
DTSTART;VALUE=DATE:20151214
DTEND;VALUE=DATE:20151215
DTSTAMP:20260422T084526
CREATED:20150621T113943Z
LAST-MODIFIED:20150705T174009Z
UID:2455-1450051200-1450137599@www.srpskilegat.rs
SUMMARY:КАТОЛИЧКИ : Иван од Крижа\, Венанције
DESCRIPTION:
URL:https://www.srpskilegat.rs/dogadjaj/katolicki-ivan-od-kriza-venancije/
CATEGORIES:Верски празници,Католички празници
END:VEVENT
BEGIN:VEVENT
DTSTART;VALUE=DATE:20151213
DTEND;VALUE=DATE:20151214
DTSTAMP:20260422T084526
CREATED:20150621T113637Z
LAST-MODIFIED:20150705T174053Z
UID:2454-1449964800-1450051199@www.srpskilegat.rs
SUMMARY:КАТОЛИЧКИ : 3. ДОШАШЋА\, "Гаудете"\, Луција\, Луца\, Свјетлана\, Отилија
DESCRIPTION:
URL:https://www.srpskilegat.rs/dogadjaj/katolicki-3-dosasca-gaudete-lucija-luca-svjetlana-otilija/
CATEGORIES:Верски празници,Католички празници
END:VEVENT
BEGIN:VEVENT
DTSTART;VALUE=DATE:20151212
DTEND;VALUE=DATE:20151213
DTSTAMP:20260422T084526
CREATED:20150621T113544Z
LAST-MODIFIED:20150705T173527Z
UID:2453-1449878400-1449964799@www.srpskilegat.rs
SUMMARY:КАТОЛИЧКИ : БДМ Гуадалупска\, Спиридон\, Шпиро кватре
DESCRIPTION:
URL:https://www.srpskilegat.rs/dogadjaj/katolicki-bdm-guadalupska-spiridon-spiro-kvatre/
CATEGORIES:Верски празници,Католички празници
END:VEVENT
BEGIN:VEVENT
DTSTART;VALUE=DATE:20151211
DTEND;VALUE=DATE:20151212
DTSTAMP:20260422T084526
CREATED:20150621T113425Z
LAST-MODIFIED:20150705T173608Z
UID:2452-1449792000-1449878399@www.srpskilegat.rs
SUMMARY:КАТОЛИЧКИ : Дамаз\, Данијел\, Хуголин\, Артур кватре
DESCRIPTION:
URL:https://www.srpskilegat.rs/dogadjaj/katolicki-damaz-danijel-hugolin-artur-kvatre/
CATEGORIES:Верски празници,Католички празници
END:VEVENT
BEGIN:VEVENT
DTSTART;VALUE=DATE:20151210
DTEND;VALUE=DATE:20151211
DTSTAMP:20260422T084526
CREATED:20150621T113320Z
LAST-MODIFIED:20150705T173636Z
UID:2451-1449705600-1449791999@www.srpskilegat.rs
SUMMARY:КАТОЛИЧКИ : Госпа Лоретска\, Јулија
DESCRIPTION:
URL:https://www.srpskilegat.rs/dogadjaj/katolicki-gospa-loretska-julija/
CATEGORIES:Верски празници,Католички празници
END:VEVENT
BEGIN:VEVENT
DTSTART;VALUE=DATE:20151209
DTEND;VALUE=DATE:20151210
DTSTAMP:20260422T084526
CREATED:20150621T113229Z
LAST-MODIFIED:20150705T173700Z
UID:2450-1449619200-1449705599@www.srpskilegat.rs
SUMMARY:КАТОЛИЧКИ : Валерија\, Здравка\, Ципријан кватре
DESCRIPTION:
URL:https://www.srpskilegat.rs/dogadjaj/katolicki-valerija-zdravka-ciprijan-kvatre/
CATEGORIES:Верски празници,Католички празници
END:VEVENT
BEGIN:VEVENT
DTSTART;VALUE=DATE:20151208
DTEND;VALUE=DATE:20151209
DTSTAMP:20260422T084526
CREATED:20150621T112927Z
LAST-MODIFIED:20150705T173724Z
UID:2449-1449532800-1449619199@www.srpskilegat.rs
SUMMARY:КАТОЛИЧКИ : БЕЗГРЈЕШНО ЗАЧЕЋЕ БДМ\, Имакулата
DESCRIPTION:
URL:https://www.srpskilegat.rs/dogadjaj/katolicki-bezgrjesno-zacece-bdm-imakulata/
CATEGORIES:Верски празници,Католички празници
END:VEVENT
BEGIN:VEVENT
DTSTART;VALUE=DATE:20151207
DTEND;VALUE=DATE:20151208
DTSTAMP:20260422T084526
CREATED:20150621T112820Z
LAST-MODIFIED:20150705T173746Z
UID:2448-1449446400-1449532799@www.srpskilegat.rs
SUMMARY:КАТОЛИЧКИ : Амброзије\, Амброз\, Сабина\, Урбан
DESCRIPTION:
URL:https://www.srpskilegat.rs/dogadjaj/katolicki-ambrozije-ambroz-sabina-urban/
CATEGORIES:Верски празници,Католички празници
END:VEVENT
BEGIN:VEVENT
DTSTART;VALUE=DATE:20151206
DTEND;VALUE=DATE:20151207
DTSTAMP:20260422T084526
CREATED:20150621T112736Z
LAST-MODIFIED:20150705T173218Z
UID:2447-1449360000-1449446399@www.srpskilegat.rs
SUMMARY:КАТОЛИЧКИ : 2. ДОШАШЋА\, Никола бискуп\, Никша\, Никица
DESCRIPTION:
URL:https://www.srpskilegat.rs/dogadjaj/katolicki-2-dosasca-nikola-biskup-niksa-nikica/
CATEGORIES:Верски празници,Католички празници
END:VEVENT
BEGIN:VEVENT
DTSTART;VALUE=DATE:20151205
DTEND;VALUE=DATE:20151206
DTSTAMP:20260422T084526
CREATED:20150621T112341Z
LAST-MODIFIED:20150705T173243Z
UID:2446-1449273600-1449359999@www.srpskilegat.rs
SUMMARY:КАТОЛИЧКИ : Криспина\, Саба
DESCRIPTION:
URL:https://www.srpskilegat.rs/dogadjaj/katolicki-krispina-saba/
CATEGORIES:Верски празници,Католички празници
END:VEVENT
BEGIN:VEVENT
DTSTART;VALUE=DATE:20151204
DTEND;VALUE=DATE:20151205
DTSTAMP:20260422T084526
CREATED:20150621T112242Z
LAST-MODIFIED:20150705T173325Z
UID:2445-1449187200-1449273599@www.srpskilegat.rs
SUMMARY:КАТОЛИЧКИ : Иван Дамашћански\, Барбара\, Адолф Колпинг
DESCRIPTION:
URL:https://www.srpskilegat.rs/dogadjaj/katolicki-ivan-damascanski-barbara-adolf-kolping/
CATEGORIES:Верски празници,Католички празници
END:VEVENT
BEGIN:VEVENT
DTSTART;VALUE=DATE:20151203
DTEND;VALUE=DATE:20151204
DTSTAMP:20260422T084526
CREATED:20150621T112125Z
LAST-MODIFIED:20150705T173349Z
UID:2444-1449100800-1449187199@www.srpskilegat.rs
SUMMARY:КАТОЛИЧКИ : Фрањо Ксаверски\, Софонија пр.\, Луције
DESCRIPTION:
URL:https://www.srpskilegat.rs/dogadjaj/katolicki-franjo-ksaverski-sofonija-pr-lucije/
CATEGORIES:Верски празници,Католички празници
END:VEVENT
END:VCALENDAR