BEGIN:VCALENDAR
VERSION:2.0
PRODID:-//Фондација Српски легат - ECPv6.3.4//NONSGML v1.0//EN
CALSCALE:GREGORIAN
METHOD:PUBLISH
X-ORIGINAL-URL:https://www.srpskilegat.rs
X-WR-CALDESC:Events for Фондација Српски легат
REFRESH-INTERVAL;VALUE=DURATION:PT1H
X-Robots-Tag:noindex
X-PUBLISHED-TTL:PT1H
BEGIN:VTIMEZONE
TZID:Europe/Belgrade
BEGIN:DAYLIGHT
TZOFFSETFROM:+0100
TZOFFSETTO:+0200
TZNAME:CEST
DTSTART:20150329T010000
END:DAYLIGHT
BEGIN:STANDARD
TZOFFSETFROM:+0200
TZOFFSETTO:+0100
TZNAME:CET
DTSTART:20151025T010000
END:STANDARD
END:VTIMEZONE
BEGIN:VEVENT
DTSTART;VALUE=DATE:20151021
DTEND;VALUE=DATE:20151022
DTSTAMP:20260422T164739
CREATED:20151005T182453Z
LAST-MODIFIED:20151005T182453Z
UID:5328-1445385600-1445471999@www.srpskilegat.rs
SUMMARY:ЈЕВРЕЈСКИ : 8.ХЕШВАН 5776.
DESCRIPTION:
URL:https://www.srpskilegat.rs/dogadjaj/jevrejski-8-hesvan-5776/
CATEGORIES:Верски празници,Јеврејски празници
END:VEVENT
BEGIN:VEVENT
DTSTART;VALUE=DATE:20151020
DTEND;VALUE=DATE:20151021
DTSTAMP:20260422T164739
CREATED:20151005T182357Z
LAST-MODIFIED:20151005T182357Z
UID:5327-1445299200-1445385599@www.srpskilegat.rs
SUMMARY:ЈЕВРЕЈСКИ : 7.ХЕШВАН 5776.
DESCRIPTION:
URL:https://www.srpskilegat.rs/dogadjaj/jevrejski-7-hesvan-5776/
CATEGORIES:Верски празници,Јеврејски празници
END:VEVENT
BEGIN:VEVENT
DTSTART;VALUE=DATE:20151019
DTEND;VALUE=DATE:20151020
DTSTAMP:20260422T164739
CREATED:20151005T182300Z
LAST-MODIFIED:20151005T182300Z
UID:5326-1445212800-1445299199@www.srpskilegat.rs
SUMMARY:ЈЕВРЕЈСКИ : 6.ХЕШВАН 5776.
DESCRIPTION:
URL:https://www.srpskilegat.rs/dogadjaj/jevrejski-6-hesvan-5776/
CATEGORIES:Верски празници,Јеврејски празници
END:VEVENT
BEGIN:VEVENT
DTSTART;VALUE=DATE:20151018
DTEND;VALUE=DATE:20151019
DTSTAMP:20260422T164739
CREATED:20151005T182202Z
LAST-MODIFIED:20151005T182202Z
UID:5325-1445126400-1445212799@www.srpskilegat.rs
SUMMARY:ЈЕВРЕЈСКИ : 5.ХЕШВАН 5776.
DESCRIPTION:
URL:https://www.srpskilegat.rs/dogadjaj/jevrejski-5-hesvan-5776/
CATEGORIES:Верски празници,Јеврејски празници
END:VEVENT
BEGIN:VEVENT
DTSTART;VALUE=DATE:20151017
DTEND;VALUE=DATE:20151018
DTSTAMP:20260422T164739
CREATED:20151005T182106Z
LAST-MODIFIED:20151005T182106Z
UID:5324-1445040000-1445126399@www.srpskilegat.rs
SUMMARY:ЈЕВРЕЈСКИ : 4.ХЕШВАН 5776. НОАХ
DESCRIPTION:
URL:https://www.srpskilegat.rs/dogadjaj/jevrejski-4-hesvan-5776-noah/
CATEGORIES:Верски празници,Јеврејски празници
END:VEVENT
BEGIN:VEVENT
DTSTART;VALUE=DATE:20151016
DTEND;VALUE=DATE:20151017
DTSTAMP:20260422T164739
CREATED:20151005T181951Z
LAST-MODIFIED:20151005T181951Z
UID:5323-1444953600-1445039999@www.srpskilegat.rs
SUMMARY:ЈЕВРЕЈСКИ : 3.ХЕШВАН 5776. ЕРЕВ ШАБАТ
DESCRIPTION:
URL:https://www.srpskilegat.rs/dogadjaj/jevrejski-3-hesvan-5776-erev-sabat/
CATEGORIES:Верски празници,Јеврејски празници
END:VEVENT
BEGIN:VEVENT
DTSTART;VALUE=DATE:20151015
DTEND;VALUE=DATE:20151016
DTSTAMP:20260422T164739
CREATED:20151005T181832Z
LAST-MODIFIED:20151005T181832Z
UID:5322-1444867200-1444953599@www.srpskilegat.rs
SUMMARY:ЈЕВРЕЈСКИ : 2.ХЕШВАН 5776.
DESCRIPTION:
URL:https://www.srpskilegat.rs/dogadjaj/jevrejski-2-hesvan-5776/
CATEGORIES:Верски празници,Јеврејски празници
END:VEVENT
BEGIN:VEVENT
DTSTART;VALUE=DATE:20151014
DTEND;VALUE=DATE:20151015
DTSTAMP:20260422T164739
CREATED:20151005T181713Z
LAST-MODIFIED:20151005T181713Z
UID:5321-1444780800-1444867199@www.srpskilegat.rs
SUMMARY:ЈЕВРЕЈСКИ : 1.ХЕШВАН 5776. РОШ ХОДЕШ ХЕШВАН 2
DESCRIPTION:
URL:https://www.srpskilegat.rs/dogadjaj/jevrejski-1-hesvan-5776-ros-hodes-hesvan-2/
CATEGORIES:Верски празници,Јеврејски празници
END:VEVENT
BEGIN:VEVENT
DTSTART;VALUE=DATE:20151013
DTEND;VALUE=DATE:20151014
DTSTAMP:20260422T164739
CREATED:20151005T181449Z
LAST-MODIFIED:20151005T181449Z
UID:5320-1444694400-1444780799@www.srpskilegat.rs
SUMMARY:ЈЕВРЕЈСКИ : 30.ТИШРИ 5776. РОШ ХОДЕШ ХЕШВАН 1
DESCRIPTION:
URL:https://www.srpskilegat.rs/dogadjaj/jevrejski-30-tisri-5776-ros-hodes-hesvan-1/
CATEGORIES:Верски празници,Јеврејски празници
END:VEVENT
BEGIN:VEVENT
DTSTART;VALUE=DATE:20151012
DTEND;VALUE=DATE:20151013
DTSTAMP:20260422T164739
CREATED:20151005T181304Z
LAST-MODIFIED:20151005T181304Z
UID:5319-1444608000-1444694399@www.srpskilegat.rs
SUMMARY:ЈЕВРЕЈСКИ : 29.ТИШРИ 5776.
DESCRIPTION:
URL:https://www.srpskilegat.rs/dogadjaj/jevrejski-29-tisri-5776/
CATEGORIES:Верски празници,Јеврејски празници
END:VEVENT
BEGIN:VEVENT
DTSTART;VALUE=DATE:20151011
DTEND;VALUE=DATE:20151012
DTSTAMP:20260422T164739
CREATED:20151005T181151Z
LAST-MODIFIED:20151005T181151Z
UID:5318-1444521600-1444607999@www.srpskilegat.rs
SUMMARY:ЈЕВРЕЈСКИ : 28.ТИШРИ 5776.
DESCRIPTION:
URL:https://www.srpskilegat.rs/dogadjaj/jevrejski-28-tisri-5776/
CATEGORIES:Верски празници,Јеврејски празници
END:VEVENT
BEGIN:VEVENT
DTSTART;VALUE=DATE:20151010
DTEND;VALUE=DATE:20151011
DTSTAMP:20260422T164739
CREATED:20151005T175059Z
LAST-MODIFIED:20151005T175059Z
UID:5311-1444435200-1444521599@www.srpskilegat.rs
SUMMARY:ЈЕВРЕЈСКИ : 27.ТИШРИ 5776. ШАБАТ МЕВАРХИМ
DESCRIPTION:
URL:https://www.srpskilegat.rs/dogadjaj/jevrejski-27-tisri-5776-sabat-mevarhim/
CATEGORIES:Верски празници,Јеврејски празници
END:VEVENT
BEGIN:VEVENT
DTSTART;VALUE=DATE:20151009
DTEND;VALUE=DATE:20151010
DTSTAMP:20260422T164739
CREATED:20151005T174808Z
LAST-MODIFIED:20151005T174808Z
UID:5309-1444348800-1444435199@www.srpskilegat.rs
SUMMARY:ЈЕВРЕЈСКИ : 26.ТИШРИ 5776. ЕРЕВ ШАБАТ
DESCRIPTION:
URL:https://www.srpskilegat.rs/dogadjaj/jevrejski-26-tisri-5776-erev-sabat/
CATEGORIES:Јеврејски празници
END:VEVENT
BEGIN:VEVENT
DTSTART;VALUE=DATE:20151008
DTEND;VALUE=DATE:20151009
DTSTAMP:20260422T164739
CREATED:20151005T174637Z
LAST-MODIFIED:20151005T174637Z
UID:5308-1444262400-1444348799@www.srpskilegat.rs
SUMMARY:ЈЕВРЕЈСКИ : 25.ТИШРИ 5776.
DESCRIPTION:
URL:https://www.srpskilegat.rs/dogadjaj/jevrejski-25-tisri-5776/
CATEGORIES:Верски празници,Јеврејски празници
END:VEVENT
BEGIN:VEVENT
DTSTART;VALUE=DATE:20151007
DTEND;VALUE=DATE:20151008
DTSTAMP:20260422T164739
CREATED:20151005T174518Z
LAST-MODIFIED:20151005T174518Z
UID:5307-1444176000-1444262399@www.srpskilegat.rs
SUMMARY:ЈЕВРЕЈСКИ : 24.ТИШРИ 5776.
DESCRIPTION:
URL:https://www.srpskilegat.rs/dogadjaj/jevrejski-24-tisri-5776/
CATEGORIES:Верски празници,Јеврејски празници
END:VEVENT
BEGIN:VEVENT
DTSTART;VALUE=DATE:20151006
DTEND;VALUE=DATE:20151007
DTSTAMP:20260422T164739
CREATED:20151005T174411Z
LAST-MODIFIED:20151005T174411Z
UID:5306-1444089600-1444175999@www.srpskilegat.rs
SUMMARY:ЈЕВРЕЈСКИ : 23.ТИШРИ 5776. СИМХАТ ТОРА
DESCRIPTION:
URL:https://www.srpskilegat.rs/dogadjaj/jevrejski-23-tisri-5776-simhat-tora/
CATEGORIES:Верски празници,Јеврејски празници
END:VEVENT
BEGIN:VEVENT
DTSTART;VALUE=DATE:20151005
DTEND;VALUE=DATE:20151006
DTSTAMP:20260422T164739
CREATED:20151005T174137Z
LAST-MODIFIED:20151005T174137Z
UID:5304-1444003200-1444089599@www.srpskilegat.rs
SUMMARY:ЈЕВРЕЈСКИ : 22.ТИШРИ 5776. ЕРЕВ СИМХАТ ТОРА
DESCRIPTION:
URL:https://www.srpskilegat.rs/dogadjaj/jevrejski-22-tisri-5776-erev-simhat-tora/
CATEGORIES:Верски празници,Јеврејски празници
END:VEVENT
BEGIN:VEVENT
DTSTART;VALUE=DATE:20151004
DTEND;VALUE=DATE:20151005
DTSTAMP:20260422T164739
CREATED:20151005T175514Z
LAST-MODIFIED:20151005T175514Z
UID:5315-1443916800-1444003199@www.srpskilegat.rs
SUMMARY:ЈЕВРЕЈСКИ : 21.ТИШРИ 5776.
DESCRIPTION:
URL:https://www.srpskilegat.rs/dogadjaj/jevrejski-21-tisri-5776/
CATEGORIES:Верски празници,Јеврејски празници
END:VEVENT
BEGIN:VEVENT
DTSTART;VALUE=DATE:20151003
DTEND;VALUE=DATE:20151004
DTSTAMP:20260422T164739
CREATED:20151005T175415Z
LAST-MODIFIED:20151005T175415Z
UID:5314-1443830400-1443916799@www.srpskilegat.rs
SUMMARY:ЈЕВРЕЈСКИ : 20.ТИШРИ 5776.
DESCRIPTION:
URL:https://www.srpskilegat.rs/dogadjaj/jevrejski-20-tisri-5776/
CATEGORIES:Верски празници,Јеврејски празници
END:VEVENT
BEGIN:VEVENT
DTSTART;VALUE=DATE:20151002
DTEND;VALUE=DATE:20151003
DTSTAMP:20260422T164739
CREATED:20151005T175321Z
LAST-MODIFIED:20151005T175321Z
UID:5313-1443744000-1443830399@www.srpskilegat.rs
SUMMARY:ЈЕВРЕЈСКИ : 19.ТИШРИ 5776. ЕРЕВ ШАБАТ
DESCRIPTION:
URL:https://www.srpskilegat.rs/dogadjaj/jevrejski-19-tisri-5776-erev-sabat/
CATEGORIES:Верски празници,Јеврејски празници
END:VEVENT
BEGIN:VEVENT
DTSTART;VALUE=DATE:20151001
DTEND;VALUE=DATE:20151002
DTSTAMP:20260422T164739
CREATED:20151005T175222Z
LAST-MODIFIED:20151005T175222Z
UID:5312-1443657600-1443743999@www.srpskilegat.rs
SUMMARY:ЈЕВРЕЈСКИ : 18.ТИШРИ 5776. ХОЛ АМДЕД 2
DESCRIPTION:
URL:https://www.srpskilegat.rs/dogadjaj/jevrejski-18-tisri-5776-hol-amded-2/
CATEGORIES:Верски празници,Јеврејски празници
END:VEVENT
BEGIN:VEVENT
DTSTART;VALUE=DATE:20150913
DTEND;VALUE=DATE:20150914
DTSTAMP:20260422T164739
CREATED:20150630T125445Z
LAST-MODIFIED:20150705T164140Z
UID:2895-1442102400-1442188799@www.srpskilegat.rs
SUMMARY:ЈЕВРЕЈСКИ : 29.Елул 5775.г Ерев Рош Ашана
DESCRIPTION:
URL:https://www.srpskilegat.rs/dogadjaj/jevrejski-29-elul-5775-g-erev-ros-asana/
CATEGORIES:Верски празници,Јеврејски празници
END:VEVENT
BEGIN:VEVENT
DTSTART;VALUE=DATE:20150912
DTEND;VALUE=DATE:20150913
DTSTAMP:20260422T164739
CREATED:20150630T125335Z
LAST-MODIFIED:20150705T164216Z
UID:2894-1442016000-1442102399@www.srpskilegat.rs
SUMMARY:ЈЕВРЕЈСКИ : 28.Елул 5775.г Ницавим
DESCRIPTION:
URL:https://www.srpskilegat.rs/dogadjaj/jevrejski-28-elul-5775-g-nicavim/
CATEGORIES:Верски празници,Јеврејски празници
END:VEVENT
BEGIN:VEVENT
DTSTART;VALUE=DATE:20150911
DTEND;VALUE=DATE:20150912
DTSTAMP:20260422T164739
CREATED:20150630T125143Z
LAST-MODIFIED:20150705T164308Z
UID:2893-1441929600-1442015999@www.srpskilegat.rs
SUMMARY:ЈЕВРЕЈСКИ : 27.Елул 5775.г Ерев Шабат
DESCRIPTION:
URL:https://www.srpskilegat.rs/dogadjaj/jevrejski-27-elul-5775-g-erev-sabat/
CATEGORIES:Верски празници,Јеврејски празници
END:VEVENT
BEGIN:VEVENT
DTSTART;VALUE=DATE:20150910
DTEND;VALUE=DATE:20150911
DTSTAMP:20260422T164739
CREATED:20150630T125057Z
LAST-MODIFIED:20150705T164339Z
UID:2892-1441843200-1441929599@www.srpskilegat.rs
SUMMARY:ЈЕВРЕЈСКИ : 26.Елул 5775.г
DESCRIPTION:
URL:https://www.srpskilegat.rs/dogadjaj/jevrejski-26-elul-5775-g/
CATEGORIES:Верски празници,Јеврејски празници
END:VEVENT
BEGIN:VEVENT
DTSTART;VALUE=DATE:20150909
DTEND;VALUE=DATE:20150910
DTSTAMP:20260422T164739
CREATED:20150630T125024Z
LAST-MODIFIED:20150705T164411Z
UID:2891-1441756800-1441843199@www.srpskilegat.rs
SUMMARY:ЈЕВРЕЈСКИ : 25.Елул 5775.г Створен свет
DESCRIPTION:
URL:https://www.srpskilegat.rs/dogadjaj/jevrejski-25-elul-5775-g-stvoren-svet/
CATEGORIES:Верски празници,Јеврејски празници
END:VEVENT
BEGIN:VEVENT
DTSTART;VALUE=DATE:20150908
DTEND;VALUE=DATE:20150909
DTSTAMP:20260422T164739
CREATED:20150630T124931Z
LAST-MODIFIED:20150705T163807Z
UID:2890-1441670400-1441756799@www.srpskilegat.rs
SUMMARY:ЈЕВРЕЈСКИ : 24.Елул 5775.г
DESCRIPTION:
URL:https://www.srpskilegat.rs/dogadjaj/jevrejski-24-elul-5775-g/
CATEGORIES:Верски празници,Јеврејски празници
END:VEVENT
BEGIN:VEVENT
DTSTART;VALUE=DATE:20150907
DTEND;VALUE=DATE:20150908
DTSTAMP:20260422T164739
CREATED:20150630T124839Z
LAST-MODIFIED:20150705T163843Z
UID:2889-1441584000-1441670399@www.srpskilegat.rs
SUMMARY:ЈЕВРЕЈСКИ : 23.Елул 5775.г
DESCRIPTION:
URL:https://www.srpskilegat.rs/dogadjaj/jevrejski-23-elul-5775-g/
CATEGORIES:Верски празници,Јеврејски празници
END:VEVENT
BEGIN:VEVENT
DTSTART;VALUE=DATE:20150906
DTEND;VALUE=DATE:20150907
DTSTAMP:20260422T164739
CREATED:20150630T124807Z
LAST-MODIFIED:20150705T163946Z
UID:2888-1441497600-1441583999@www.srpskilegat.rs
SUMMARY:ЈЕВРЕЈСКИ : 22.Елул 5775.г
DESCRIPTION:
URL:https://www.srpskilegat.rs/dogadjaj/jevrejski-22-elul-5775-g/
CATEGORIES:Верски празници,Јеврејски празници
END:VEVENT
BEGIN:VEVENT
DTSTART;VALUE=DATE:20150905
DTEND;VALUE=DATE:20150906
DTSTAMP:20260422T164739
CREATED:20150630T124727Z
LAST-MODIFIED:20150705T164020Z
UID:2887-1441411200-1441497599@www.srpskilegat.rs
SUMMARY:ЈЕВРЕЈСКИ : 21.Елул 5775.г Ки Таво Селихот Ашкенази
DESCRIPTION:
URL:https://www.srpskilegat.rs/dogadjaj/jevrejski-21-elul-5775-g-ki-tavo-selihot-askenazi/
CATEGORIES:Верски празници,Јеврејски празници
END:VEVENT
END:VCALENDAR