BEGIN:VCALENDAR
VERSION:2.0
PRODID:-//Фондација Српски легат - ECPv6.3.4//NONSGML v1.0//EN
CALSCALE:GREGORIAN
METHOD:PUBLISH
X-ORIGINAL-URL:https://www.srpskilegat.rs
X-WR-CALDESC:Events for Фондација Српски легат
REFRESH-INTERVAL;VALUE=DURATION:PT1H
X-Robots-Tag:noindex
X-PUBLISHED-TTL:PT1H
BEGIN:VTIMEZONE
TZID:Europe/Belgrade
BEGIN:DAYLIGHT
TZOFFSETFROM:+0100
TZOFFSETTO:+0200
TZNAME:CEST
DTSTART:20150329T010000
END:DAYLIGHT
BEGIN:STANDARD
TZOFFSETFROM:+0200
TZOFFSETTO:+0100
TZNAME:CET
DTSTART:20151025T010000
END:STANDARD
END:VTIMEZONE
BEGIN:VEVENT
DTSTART;VALUE=DATE:20151121
DTEND;VALUE=DATE:20151122
DTSTAMP:20260422T121700
CREATED:20151005T191927Z
LAST-MODIFIED:20151005T191927Z
UID:5368-1448064000-1448150399@www.srpskilegat.rs
SUMMARY:ЈЕВРЕЈСКИ : 9.КИСЛЕВ 5776. ВЕЈЕЦЕ
DESCRIPTION:
URL:https://www.srpskilegat.rs/dogadjaj/jevrejski-9-kislev-5776-vejece/
CATEGORIES:Верски празници,Јеврејски празници
END:VEVENT
BEGIN:VEVENT
DTSTART;VALUE=DATE:20151120
DTEND;VALUE=DATE:20151121
DTSTAMP:20260422T121700
CREATED:20151005T191659Z
LAST-MODIFIED:20151005T191659Z
UID:5367-1447977600-1448063999@www.srpskilegat.rs
SUMMARY:ЈЕВРЕЈСКИ : 8.КИСЛЕВ 5776. ЕРЕВ ШАБАТ
DESCRIPTION:
URL:https://www.srpskilegat.rs/dogadjaj/jevrejski-8-kislev-5776-erev-sabat/
CATEGORIES:Верски празници,Јеврејски празници
END:VEVENT
BEGIN:VEVENT
DTSTART;VALUE=DATE:20151119
DTEND;VALUE=DATE:20151120
DTSTAMP:20260422T121700
CREATED:20151005T191526Z
LAST-MODIFIED:20151005T191526Z
UID:5366-1447891200-1447977599@www.srpskilegat.rs
SUMMARY:ЈЕВРЕЈСКИ : 7.КИСЛЕВ 5776.
DESCRIPTION:
URL:https://www.srpskilegat.rs/dogadjaj/jevrejski-7-kislev-5776/
CATEGORIES:Верски празници,Јеврејски празници
END:VEVENT
BEGIN:VEVENT
DTSTART;VALUE=DATE:20151118
DTEND;VALUE=DATE:20151119
DTSTAMP:20260422T121700
CREATED:20151005T191129Z
LAST-MODIFIED:20151005T191129Z
UID:5365-1447804800-1447891199@www.srpskilegat.rs
SUMMARY:ЈЕВРЕЈСКИ : 6.КИСЛЕВ 5776.
DESCRIPTION:
URL:https://www.srpskilegat.rs/dogadjaj/jevrejski-6-kislev-5776/
CATEGORIES:Верски празници,Јеврејски празници
END:VEVENT
BEGIN:VEVENT
DTSTART;VALUE=DATE:20151117
DTEND;VALUE=DATE:20151118
DTSTAMP:20260422T121700
CREATED:20151005T190909Z
LAST-MODIFIED:20151005T190909Z
UID:5364-1447718400-1447804799@www.srpskilegat.rs
SUMMARY:ЈЕВРЕЈСКИ : 4.КИСЛЕВ 5776.
DESCRIPTION:
URL:https://www.srpskilegat.rs/dogadjaj/jevrejski-4-kislev-5776/
CATEGORIES:Верски празници,Јеврејски празници
END:VEVENT
BEGIN:VEVENT
DTSTART;VALUE=DATE:20151115
DTEND;VALUE=DATE:20151116
DTSTAMP:20260422T121700
CREATED:20151005T190519Z
LAST-MODIFIED:20151005T190519Z
UID:5363-1447545600-1447631999@www.srpskilegat.rs
SUMMARY:ЈЕВРЕЈСКИ : 3.КИСЛЕВ 5776.
DESCRIPTION:
URL:https://www.srpskilegat.rs/dogadjaj/jevrejski-3-kislev-5776/
CATEGORIES:Верски празници,Јеврејски празници
END:VEVENT
BEGIN:VEVENT
DTSTART;VALUE=DATE:20151114
DTEND;VALUE=DATE:20151115
DTSTAMP:20260422T121700
CREATED:20151005T185939Z
LAST-MODIFIED:20151005T185939Z
UID:5359-1447459200-1447545599@www.srpskilegat.rs
SUMMARY:ЈЕВРЕЈСКИ : 2.КИСЛЕВ 5776.
DESCRIPTION:
URL:https://www.srpskilegat.rs/dogadjaj/jevrejski-2-kislev-5776/
CATEGORIES:Верски празници,Јеврејски празници
END:VEVENT
BEGIN:VEVENT
DTSTART;VALUE=DATE:20151113
DTEND;VALUE=DATE:20151114
DTSTAMP:20260422T121700
CREATED:20151005T185704Z
LAST-MODIFIED:20151005T185704Z
UID:5357-1447372800-1447459199@www.srpskilegat.rs
SUMMARY:ЈЕВРЕЈСКИ : 1.КИСЛЕВ 5776. РОШ ХОДЕШ КИСЛЕВ 2 ЕРЕВ ШАБАТ
DESCRIPTION:
URL:https://www.srpskilegat.rs/dogadjaj/jevrejski-1-kislev-5776-ros-hodes-kislev-2-erev-sabat/
CATEGORIES:Верски празници,Јеврејски празници
END:VEVENT
BEGIN:VEVENT
DTSTART;VALUE=DATE:20151112
DTEND;VALUE=DATE:20151113
DTSTAMP:20260422T121700
CREATED:20151005T185538Z
LAST-MODIFIED:20151005T185538Z
UID:5355-1447286400-1447372799@www.srpskilegat.rs
SUMMARY:ЈЕВРЕЈСКИ : 30.ХЕШВАН 5776. РОШ ХОДЕШ КИСЛЕВ 1
DESCRIPTION:
URL:https://www.srpskilegat.rs/dogadjaj/jevrejski-30-hesvan-5776-ros-hodes-kislev-1/
CATEGORIES:Верски празници,Јеврејски празници
END:VEVENT
BEGIN:VEVENT
DTSTART;VALUE=DATE:20151111
DTEND;VALUE=DATE:20151112
DTSTAMP:20260422T121700
CREATED:20151005T185403Z
LAST-MODIFIED:20151005T185403Z
UID:5354-1447200000-1447286399@www.srpskilegat.rs
SUMMARY:ЈЕВРЕЈСКИ : 29.ХЕШВАН 5776.
DESCRIPTION:
URL:https://www.srpskilegat.rs/dogadjaj/jevrejski-29-hesvan-5776/
CATEGORIES:Верски празници,Јеврејски празници
END:VEVENT
BEGIN:VEVENT
DTSTART;VALUE=DATE:20151110
DTEND;VALUE=DATE:20151111
DTSTAMP:20260422T121700
CREATED:20151005T185303Z
LAST-MODIFIED:20151005T185303Z
UID:5351-1447113600-1447199999@www.srpskilegat.rs
SUMMARY:ЈЕВРЕЈСКИ : 28.ХЕШВАН 5776.
DESCRIPTION:
URL:https://www.srpskilegat.rs/dogadjaj/jevrejski-28-hesvan-5776/
CATEGORIES:Верски празници,Јеврејски празници
END:VEVENT
BEGIN:VEVENT
DTSTART;VALUE=DATE:20151109
DTEND;VALUE=DATE:20151110
DTSTAMP:20260422T121700
CREATED:20151005T185039Z
LAST-MODIFIED:20151005T185039Z
UID:5350-1447027200-1447113599@www.srpskilegat.rs
SUMMARY:ЈЕВРЕЈСКИ : 27.ХЕШВАН 5776.
DESCRIPTION:
URL:https://www.srpskilegat.rs/dogadjaj/jevrejski-27-hesvan-5776/
CATEGORIES:Верски празници,Јеврејски празници
END:VEVENT
BEGIN:VEVENT
DTSTART;VALUE=DATE:20151108
DTEND;VALUE=DATE:20151109
DTSTAMP:20260422T121700
CREATED:20151005T184718Z
LAST-MODIFIED:20151005T184718Z
UID:5349-1446940800-1447027199@www.srpskilegat.rs
SUMMARY:ЈЕВРЕЈСКИ : 26.ХЕШВАН 5776.
DESCRIPTION:
URL:https://www.srpskilegat.rs/dogadjaj/jevrejski-26-hesvan-5776/
CATEGORIES:Верски празници,Јеврејски празници
END:VEVENT
BEGIN:VEVENT
DTSTART;VALUE=DATE:20151107
DTEND;VALUE=DATE:20151108
DTSTAMP:20260422T121700
CREATED:20151005T184357Z
LAST-MODIFIED:20151005T184357Z
UID:5348-1446854400-1446940799@www.srpskilegat.rs
SUMMARY:ЈЕВРЕЈСКИ : 25.ХЕШВАН 5776. ХАЈЕ САРА ШАБАТ МЕВАРХИМ
DESCRIPTION:
URL:https://www.srpskilegat.rs/dogadjaj/jevrejski-25-hesvan-5776-haje-sara-sabat-mevarhim/
CATEGORIES:Верски празници,Јеврејски празници
END:VEVENT
BEGIN:VEVENT
DTSTART;VALUE=DATE:20151106
DTEND;VALUE=DATE:20151107
DTSTAMP:20260422T121700
CREATED:20151005T184228Z
LAST-MODIFIED:20151005T184228Z
UID:5347-1446768000-1446854399@www.srpskilegat.rs
SUMMARY:ЈЕВРЕЈСКИ : 24.ХЕШВАН 5776. ЕРЕВ ШАБАТ
DESCRIPTION:
URL:https://www.srpskilegat.rs/dogadjaj/jevrejski-24-hesvan-5776-erev-sabat/
CATEGORIES:Верски празници,Јеврејски празници
END:VEVENT
BEGIN:VEVENT
DTSTART;VALUE=DATE:20151105
DTEND;VALUE=DATE:20151106
DTSTAMP:20260422T121700
CREATED:20151005T184116Z
LAST-MODIFIED:20151005T184116Z
UID:5346-1446681600-1446767999@www.srpskilegat.rs
SUMMARY:ЈЕВРЕЈСКИ : 23.ХЕШВАН 5776.
DESCRIPTION:
URL:https://www.srpskilegat.rs/dogadjaj/jevrejski-23-hesvan-5776/
CATEGORIES:Верски празници,Јеврејски празници
END:VEVENT
BEGIN:VEVENT
DTSTART;VALUE=DATE:20151104
DTEND;VALUE=DATE:20151105
DTSTAMP:20260422T121700
CREATED:20151005T184028Z
LAST-MODIFIED:20151005T184028Z
UID:5345-1446595200-1446681599@www.srpskilegat.rs
SUMMARY:ЈЕВРЕЈСКИ : 22.ХЕШВАН 5776.
DESCRIPTION:
URL:https://www.srpskilegat.rs/dogadjaj/jevrejski-22-hesvan-5776/
CATEGORIES:Верски празници,Јеврејски празници
END:VEVENT
BEGIN:VEVENT
DTSTART;VALUE=DATE:20151103
DTEND;VALUE=DATE:20151104
DTSTAMP:20260422T121700
CREATED:20151005T183943Z
LAST-MODIFIED:20151005T183943Z
UID:5343-1446508800-1446595199@www.srpskilegat.rs
SUMMARY:ЈЕВРЕЈСКИ : 21.ХЕШВАН 5776.
DESCRIPTION:
URL:https://www.srpskilegat.rs/dogadjaj/jevrejski-21-hesvan-5776/
CATEGORIES:Верски празници,Јеврејски празници
END:VEVENT
BEGIN:VEVENT
DTSTART;VALUE=DATE:20151102
DTEND;VALUE=DATE:20151103
DTSTAMP:20260422T121700
CREATED:20151005T183739Z
LAST-MODIFIED:20151005T183739Z
UID:5342-1446422400-1446508799@www.srpskilegat.rs
SUMMARY:ЈЕВРЕЈСКИ : 20.ХЕШВАН 5776.
DESCRIPTION:
URL:https://www.srpskilegat.rs/dogadjaj/jevrejski-20-hesvan-5776/
CATEGORIES:Верски празници,Јеврејски празници
END:VEVENT
BEGIN:VEVENT
DTSTART;VALUE=DATE:20151101
DTEND;VALUE=DATE:20151102
DTSTAMP:20260422T121700
CREATED:20151005T183655Z
LAST-MODIFIED:20151005T183655Z
UID:5341-1446336000-1446422399@www.srpskilegat.rs
SUMMARY:ЈЕВРЕЈСКИ : 19.ХЕШВАН 5776.
DESCRIPTION:
URL:https://www.srpskilegat.rs/dogadjaj/jevrejski-19-hesvan-5776/
CATEGORIES:Верски празници,Јеврејски празници
END:VEVENT
BEGIN:VEVENT
DTSTART;VALUE=DATE:20151031
DTEND;VALUE=DATE:20151101
DTSTAMP:20260422T121700
CREATED:20151005T183504Z
LAST-MODIFIED:20151005T183504Z
UID:5340-1446249600-1446335999@www.srpskilegat.rs
SUMMARY:ЈЕВРЕЈСКИ : 18.ХЕШВАН 5776.
DESCRIPTION:
URL:https://www.srpskilegat.rs/dogadjaj/jevrejski-18-hesvan-5776/
CATEGORIES:Верски празници,Јеврејски празници
END:VEVENT
BEGIN:VEVENT
DTSTART;VALUE=DATE:20151030
DTEND;VALUE=DATE:20151031
DTSTAMP:20260422T121700
CREATED:20151005T183356Z
LAST-MODIFIED:20151005T183356Z
UID:5339-1446163200-1446249599@www.srpskilegat.rs
SUMMARY:ЈЕВРЕЈСКИ : 17.ХЕШВАН 5776. ЕРЕВ ШАБАТ
DESCRIPTION:
URL:https://www.srpskilegat.rs/dogadjaj/jevrejski-17-hesvan-5776-erev-sabat/
CATEGORIES:Верски празници,Јеврејски празници
END:VEVENT
BEGIN:VEVENT
DTSTART;VALUE=DATE:20151029
DTEND;VALUE=DATE:20151030
DTSTAMP:20260422T121700
CREATED:20151005T183253Z
LAST-MODIFIED:20151005T183253Z
UID:5338-1446076800-1446163199@www.srpskilegat.rs
SUMMARY:ЈЕВРЕЈСКИ : 16.ХЕШВАН 5776.
DESCRIPTION:
URL:https://www.srpskilegat.rs/dogadjaj/jevrejski-16-hesvan-5776/
CATEGORIES:Верски празници,Јеврејски празници
END:VEVENT
BEGIN:VEVENT
DTSTART;VALUE=DATE:20151028
DTEND;VALUE=DATE:20151029
DTSTAMP:20260422T121700
CREATED:20151005T183150Z
LAST-MODIFIED:20151005T183150Z
UID:5337-1445990400-1446076799@www.srpskilegat.rs
SUMMARY:ЈЕВРЕЈСКИ : 15.ХЕШВАН 5776.
DESCRIPTION:
URL:https://www.srpskilegat.rs/dogadjaj/jevrejski-15-hesvan-5776/
CATEGORIES:Верски празници,Јеврејски празници
END:VEVENT
BEGIN:VEVENT
DTSTART;VALUE=DATE:20151027
DTEND;VALUE=DATE:20151028
DTSTAMP:20260422T121700
CREATED:20151005T183047Z
LAST-MODIFIED:20151005T183047Z
UID:5336-1445904000-1445990399@www.srpskilegat.rs
SUMMARY:ЈЕВРЕЈСКИ : 14.ХЕШВАН 5776.
DESCRIPTION:
URL:https://www.srpskilegat.rs/dogadjaj/jevrejski-14-hesvan-5776/
CATEGORIES:Верски празници,Јеврејски празници
END:VEVENT
BEGIN:VEVENT
DTSTART;VALUE=DATE:20151026
DTEND;VALUE=DATE:20151027
DTSTAMP:20260422T121700
CREATED:20151005T182958Z
LAST-MODIFIED:20151005T182958Z
UID:5334-1445817600-1445903999@www.srpskilegat.rs
SUMMARY:ЈЕВРЕЈСКИ : 13.ХЕШВАН 5776.
DESCRIPTION:
URL:https://www.srpskilegat.rs/dogadjaj/jevrejski-13-hesvan-5776/
CATEGORIES:Верски празници,Јеврејски празници
END:VEVENT
BEGIN:VEVENT
DTSTART;VALUE=DATE:20151025
DTEND;VALUE=DATE:20151026
DTSTAMP:20260422T121700
CREATED:20151005T182854Z
LAST-MODIFIED:20151005T182854Z
UID:5333-1445731200-1445817599@www.srpskilegat.rs
SUMMARY:ЈЕВРЕЈСКИ : 12.ХЕШВАН 5776.
DESCRIPTION:
URL:https://www.srpskilegat.rs/dogadjaj/jevrejski-12-hesvan-5776/
CATEGORIES:Верски празници,Јеврејски празници
END:VEVENT
BEGIN:VEVENT
DTSTART;VALUE=DATE:20151024
DTEND;VALUE=DATE:20151025
DTSTAMP:20260422T121700
CREATED:20151005T182743Z
LAST-MODIFIED:20151005T182743Z
UID:5332-1445644800-1445731199@www.srpskilegat.rs
SUMMARY:ЈЕВРЕЈСКИ : 11.ХЕШВАН 5776.
DESCRIPTION:
URL:https://www.srpskilegat.rs/dogadjaj/jevrejski-11-hesvan-5776/
CATEGORIES:Верски празници,Јеврејски празници
END:VEVENT
BEGIN:VEVENT
DTSTART;VALUE=DATE:20151023
DTEND;VALUE=DATE:20151024
DTSTAMP:20260422T121700
CREATED:20151005T182651Z
LAST-MODIFIED:20151005T182651Z
UID:5331-1445558400-1445644799@www.srpskilegat.rs
SUMMARY:ЈЕВРЕЈСКИ : 10.ХЕШВАН 5776. ЕРЕВ ШАБАТ
DESCRIPTION:
URL:https://www.srpskilegat.rs/dogadjaj/jevrejski-10-hesvan-5776-erev-sabat/
CATEGORIES:Верски празници,Јеврејски празници
END:VEVENT
BEGIN:VEVENT
DTSTART;VALUE=DATE:20151022
DTEND;VALUE=DATE:20151023
DTSTAMP:20260422T121700
CREATED:20151005T182545Z
LAST-MODIFIED:20151005T182545Z
UID:5329-1445472000-1445558399@www.srpskilegat.rs
SUMMARY:ЈЕВРЕЈСКИ : 9.ХЕШВАН 5776.
DESCRIPTION:
URL:https://www.srpskilegat.rs/dogadjaj/jevrejski-9-hesvan-5776/
CATEGORIES:Верски празници,Јеврејски празници
END:VEVENT
END:VCALENDAR