BEGIN:VCALENDAR
VERSION:2.0
PRODID:-//Фондација Српски легат - ECPv6.3.4//NONSGML v1.0//EN
CALSCALE:GREGORIAN
METHOD:PUBLISH
X-ORIGINAL-URL:https://www.srpskilegat.rs
X-WR-CALDESC:Events for Фондација Српски легат
REFRESH-INTERVAL;VALUE=DURATION:PT1H
X-Robots-Tag:noindex
X-PUBLISHED-TTL:PT1H
BEGIN:VTIMEZONE
TZID:Europe/Belgrade
BEGIN:DAYLIGHT
TZOFFSETFROM:+0100
TZOFFSETTO:+0200
TZNAME:CEST
DTSTART:20150329T010000
END:DAYLIGHT
BEGIN:STANDARD
TZOFFSETFROM:+0200
TZOFFSETTO:+0100
TZNAME:CET
DTSTART:20151025T010000
END:STANDARD
END:VTIMEZONE
BEGIN:VEVENT
DTSTART;VALUE=DATE:20151221
DTEND;VALUE=DATE:20151222
DTSTAMP:20260422T090932
CREATED:20151006T112215Z
LAST-MODIFIED:20151006T112215Z
UID:5399-1450656000-1450742399@www.srpskilegat.rs
SUMMARY:ЈЕВРЕЈСКИ : 9.ТЕВЕТ 5776.
DESCRIPTION:
URL:https://www.srpskilegat.rs/dogadjaj/jevrejski-9-tevet-5776/
CATEGORIES:Верски празници,Јеврејски празници
END:VEVENT
BEGIN:VEVENT
DTSTART;VALUE=DATE:20151220
DTEND;VALUE=DATE:20151221
DTSTAMP:20260422T090932
CREATED:20151006T112127Z
LAST-MODIFIED:20151006T112127Z
UID:5398-1450569600-1450655999@www.srpskilegat.rs
SUMMARY:ЈЕВРЕЈСКИ : 8.ТЕВЕТ 5776.
DESCRIPTION:
URL:https://www.srpskilegat.rs/dogadjaj/jevrejski-8-tevet-5776/
CATEGORIES:Верски празници,Јеврејски празници
END:VEVENT
BEGIN:VEVENT
DTSTART;VALUE=DATE:20151219
DTEND;VALUE=DATE:20151220
DTSTAMP:20260422T090932
CREATED:20151006T112034Z
LAST-MODIFIED:20151006T112034Z
UID:5397-1450483200-1450569599@www.srpskilegat.rs
SUMMARY:ЈЕВРЕЈСКИ : 7.ТЕВЕТ 5776. ВАЈИГАШ
DESCRIPTION:
URL:https://www.srpskilegat.rs/dogadjaj/jevrejski-7-tevet-5776-vajigas/
CATEGORIES:Верски празници,Јеврејски празници
END:VEVENT
BEGIN:VEVENT
DTSTART;VALUE=DATE:20151218
DTEND;VALUE=DATE:20151219
DTSTAMP:20260422T090932
CREATED:20151006T111942Z
LAST-MODIFIED:20151006T111942Z
UID:5396-1450396800-1450483199@www.srpskilegat.rs
SUMMARY:ЈЕВРЕЈСКИ : 6.ТЕВЕТ 5776. ЕРЕВ ШАБАТ
DESCRIPTION:
URL:https://www.srpskilegat.rs/dogadjaj/jevrejski-6-tevet-5776-erev-sabat/
CATEGORIES:Верски празници,Јеврејски празници
END:VEVENT
BEGIN:VEVENT
DTSTART;VALUE=DATE:20151217
DTEND;VALUE=DATE:20151218
DTSTAMP:20260422T090932
CREATED:20151006T111850Z
LAST-MODIFIED:20151006T111850Z
UID:5395-1450310400-1450396799@www.srpskilegat.rs
SUMMARY:ЈЕВРЕЈСКИ : 5.ТЕВЕТ 5776.
DESCRIPTION:
URL:https://www.srpskilegat.rs/dogadjaj/jevrejski-5-tevet-5776/
CATEGORIES:Верски празници,Јеврејски празници
END:VEVENT
BEGIN:VEVENT
DTSTART;VALUE=DATE:20151216
DTEND;VALUE=DATE:20151217
DTSTAMP:20260422T090932
CREATED:20151006T111804Z
LAST-MODIFIED:20151006T111804Z
UID:5394-1450224000-1450310399@www.srpskilegat.rs
SUMMARY:ЈЕВРЕЈСКИ : 4.ТЕВЕТ 5776.
DESCRIPTION:
URL:https://www.srpskilegat.rs/dogadjaj/jevrejski-4-tevet-5776/
CATEGORIES:Верски празници,Јеврејски празници
END:VEVENT
BEGIN:VEVENT
DTSTART;VALUE=DATE:20151215
DTEND;VALUE=DATE:20151216
DTSTAMP:20260422T090932
CREATED:20151006T111624Z
LAST-MODIFIED:20151006T111624Z
UID:5393-1450137600-1450223999@www.srpskilegat.rs
SUMMARY:ЈЕВРЕЈСКИ : 3.ТЕВЕТ 5776.
DESCRIPTION:
URL:https://www.srpskilegat.rs/dogadjaj/jevrejski-3-tevet-5776/
CATEGORIES:Верски празници,Јеврејски празници
END:VEVENT
BEGIN:VEVENT
DTSTART;VALUE=DATE:20151214
DTEND;VALUE=DATE:20151215
DTSTAMP:20260422T090932
CREATED:20151006T111438Z
LAST-MODIFIED:20151006T111438Z
UID:5392-1450051200-1450137599@www.srpskilegat.rs
SUMMARY:ЈЕВРЕЈСКИ : 2.ТЕВЕТ 5776. ХАНУКА VIII
DESCRIPTION:
URL:https://www.srpskilegat.rs/dogadjaj/jevrejski-2-tevet-5776-hanuka-viii/
CATEGORIES:Верски празници,Јеврејски празници
END:VEVENT
BEGIN:VEVENT
DTSTART;VALUE=DATE:20151213
DTEND;VALUE=DATE:20151214
DTSTAMP:20260422T090932
CREATED:20151006T111325Z
LAST-MODIFIED:20151006T111325Z
UID:5391-1449964800-1450051199@www.srpskilegat.rs
SUMMARY:ЈЕВРЕЈСКИ : 1.ТЕВЕТ 5776. РОШ ХОДЕШ ТЕВЕТ 1 ХАНУКА VII
DESCRIPTION:
URL:https://www.srpskilegat.rs/dogadjaj/jevrejski-1-tevet-5776-ros-hodes-tevet-1-hanuka-vii/
CATEGORIES:Верски празници,Јеврејски празници
END:VEVENT
BEGIN:VEVENT
DTSTART;VALUE=DATE:20151212
DTEND;VALUE=DATE:20151213
DTSTAMP:20260422T090932
CREATED:20151006T111135Z
LAST-MODIFIED:20151006T111135Z
UID:5390-1449878400-1449964799@www.srpskilegat.rs
SUMMARY:ЈЕВРЕЈСКИ : 30.КИСЛЕВ 5776. ХАНУКА VI РОШ ХОДЕШ ТЕВЕТ 1
DESCRIPTION:
URL:https://www.srpskilegat.rs/dogadjaj/jevrejski-30-kislev-5776-hanuka-vi-ros-hodes-tevet-1/
CATEGORIES:Верски празници,Јеврејски празници
END:VEVENT
BEGIN:VEVENT
DTSTART;VALUE=DATE:20151211
DTEND;VALUE=DATE:20151212
DTSTAMP:20260422T090932
CREATED:20151006T110928Z
LAST-MODIFIED:20151006T110928Z
UID:5389-1449792000-1449878399@www.srpskilegat.rs
SUMMARY:ЈЕВРЕЈСКИ : 29.КИСЛЕВ 5776. ХАНУКА V ЕРЕВ ШАБАТ
DESCRIPTION:
URL:https://www.srpskilegat.rs/dogadjaj/jevrejski-29-kislev-5776-hanuka-v-erev-sabat/
CATEGORIES:Верски празници,Јеврејски празници
END:VEVENT
BEGIN:VEVENT
DTSTART;VALUE=DATE:20151210
DTEND;VALUE=DATE:20151211
DTSTAMP:20260422T090932
CREATED:20151006T110805Z
LAST-MODIFIED:20151006T110805Z
UID:5388-1449705600-1449791999@www.srpskilegat.rs
SUMMARY:ЈЕВРЕЈСКИ : 28.КИСЛЕВ 5776. ХАНУКА IV
DESCRIPTION:
URL:https://www.srpskilegat.rs/dogadjaj/jevrejski-28-kislev-5776-hanuka-iv/
CATEGORIES:Верски празници,Јеврејски празници
END:VEVENT
BEGIN:VEVENT
DTSTART;VALUE=DATE:20151209
DTEND;VALUE=DATE:20151210
DTSTAMP:20260422T090932
CREATED:20151006T110706Z
LAST-MODIFIED:20151006T110706Z
UID:5387-1449619200-1449705599@www.srpskilegat.rs
SUMMARY:ЈЕВРЕЈСКИ : 27.КИСЛЕВ 5776. ХАНУКА III
DESCRIPTION:
URL:https://www.srpskilegat.rs/dogadjaj/jevrejski-27-kislev-5776-hanuka-iii/
CATEGORIES:Верски празници,Јеврејски празници
END:VEVENT
BEGIN:VEVENT
DTSTART;VALUE=DATE:20151208
DTEND;VALUE=DATE:20151209
DTSTAMP:20260422T090932
CREATED:20151006T110610Z
LAST-MODIFIED:20151006T110610Z
UID:5386-1449532800-1449619199@www.srpskilegat.rs
SUMMARY:ЈЕВРЕЈСКИ : 26.КИСЛЕВ 5776. ХАНУКА II
DESCRIPTION:
URL:https://www.srpskilegat.rs/dogadjaj/jevrejski-26-kislev-5776-hanuka-ii/
CATEGORIES:Верски празници,Јеврејски празници
END:VEVENT
BEGIN:VEVENT
DTSTART;VALUE=DATE:20151207
DTEND;VALUE=DATE:20151208
DTSTAMP:20260422T090932
CREATED:20151006T110345Z
LAST-MODIFIED:20151006T110345Z
UID:5385-1449446400-1449532799@www.srpskilegat.rs
SUMMARY:ЈЕВРЕЈСКИ : 25.КИСЛЕВ 5776. ХАНУКА I
DESCRIPTION:
URL:https://www.srpskilegat.rs/dogadjaj/jevrejski-25-kislev-5776-hanuka-i/
CATEGORIES:Верски празници,Јеврејски празници
END:VEVENT
BEGIN:VEVENT
DTSTART;VALUE=DATE:20151206
DTEND;VALUE=DATE:20151207
DTSTAMP:20260422T090932
CREATED:20151006T110218Z
LAST-MODIFIED:20151006T110218Z
UID:5384-1449360000-1449446399@www.srpskilegat.rs
SUMMARY:ЈЕВРЕЈСКИ : 24.КИСЛЕВ 5776. ЕРЕВ ХАНУКА
DESCRIPTION:
URL:https://www.srpskilegat.rs/dogadjaj/jevrejski-24-kislev-5776-erev-hanuka/
CATEGORIES:Верски празници,Јеврејски празници
END:VEVENT
BEGIN:VEVENT
DTSTART;VALUE=DATE:20151205
DTEND;VALUE=DATE:20151206
DTSTAMP:20260422T090932
CREATED:20151006T105604Z
LAST-MODIFIED:20151006T110122Z
UID:5382-1449273600-1449359999@www.srpskilegat.rs
SUMMARY:ЈЕВРЕЈСКИ : 23.КИСЛЕВ 5776. ВАЈШЕВ ШАБАТ МЕВАРХИМ
DESCRIPTION:
URL:https://www.srpskilegat.rs/dogadjaj/jevrejski-23-kislev-5776-vajsev-sabat-mevarhim/
CATEGORIES:Верски празници,Јеврејски празници
END:VEVENT
BEGIN:VEVENT
DTSTART;VALUE=DATE:20151204
DTEND;VALUE=DATE:20151205
DTSTAMP:20260422T090932
CREATED:20151006T105224Z
LAST-MODIFIED:20151006T105224Z
UID:5381-1449187200-1449273599@www.srpskilegat.rs
SUMMARY:ЈЕВРЕЈСКИ : 22.КИСЛЕВ 5776. ЕРЕВ ШАБАТ
DESCRIPTION:
URL:https://www.srpskilegat.rs/dogadjaj/jevrejski-22-kislev-5776-erev-sabat/
CATEGORIES:Верски празници,Јеврејски празници
END:VEVENT
BEGIN:VEVENT
DTSTART;VALUE=DATE:20151203
DTEND;VALUE=DATE:20151204
DTSTAMP:20260422T090932
CREATED:20151006T104934Z
LAST-MODIFIED:20151006T104934Z
UID:5380-1449100800-1449187199@www.srpskilegat.rs
SUMMARY:ЈЕВРЕЈСКИ : 21.КИСЛЕВ 5776.
DESCRIPTION:
URL:https://www.srpskilegat.rs/dogadjaj/jevrejski-21-kislev-5776/
CATEGORIES:Верски празници,Јеврејски празници
END:VEVENT
BEGIN:VEVENT
DTSTART;VALUE=DATE:20151202
DTEND;VALUE=DATE:20151203
DTSTAMP:20260422T090932
CREATED:20151006T104833Z
LAST-MODIFIED:20151006T104833Z
UID:5379-1449014400-1449100799@www.srpskilegat.rs
SUMMARY:ЈЕВРЕЈСКИ : 20.КИСЛЕВ 5776.
DESCRIPTION:
URL:https://www.srpskilegat.rs/dogadjaj/jevrejski-20-kislev-5776/
CATEGORIES:Верски празници,Јеврејски празници
END:VEVENT
BEGIN:VEVENT
DTSTART;VALUE=DATE:20151201
DTEND;VALUE=DATE:20151202
DTSTAMP:20260422T090932
CREATED:20151006T104703Z
LAST-MODIFIED:20151006T104703Z
UID:5378-1448928000-1449014399@www.srpskilegat.rs
SUMMARY:ЈЕВРЕЈСКИ : 19.КИСЛЕВ 5776.
DESCRIPTION:
URL:https://www.srpskilegat.rs/dogadjaj/jevrejski-19-kislev-5776/
CATEGORIES:Верски празници,Јеврејски празници
END:VEVENT
BEGIN:VEVENT
DTSTART;VALUE=DATE:20151130
DTEND;VALUE=DATE:20151201
DTSTAMP:20260422T090932
CREATED:20151005T193005Z
LAST-MODIFIED:20151005T193005Z
UID:5377-1448841600-1448927999@www.srpskilegat.rs
SUMMARY:ЈЕВРЕЈСКИ : 18.КИСЛЕВ 5776.
DESCRIPTION:
URL:https://www.srpskilegat.rs/dogadjaj/jevrejski-18-kislev-5776/
CATEGORIES:Верски празници,Јеврејски празници
END:VEVENT
BEGIN:VEVENT
DTSTART;VALUE=DATE:20151129
DTEND;VALUE=DATE:20151130
DTSTAMP:20260422T090932
CREATED:20151005T192759Z
LAST-MODIFIED:20151005T192759Z
UID:5376-1448755200-1448841599@www.srpskilegat.rs
SUMMARY:ЈЕВРЕЈСКИ : 17.КИСЛЕВ 5776.
DESCRIPTION:
URL:https://www.srpskilegat.rs/dogadjaj/jevrejski-17-kislev-5776/
CATEGORIES:Верски празници,Јеврејски празници
END:VEVENT
BEGIN:VEVENT
DTSTART;VALUE=DATE:20151128
DTEND;VALUE=DATE:20151129
DTSTAMP:20260422T090932
CREATED:20151005T192707Z
LAST-MODIFIED:20151005T192707Z
UID:5375-1448668800-1448755199@www.srpskilegat.rs
SUMMARY:ЈЕВРЕЈСКИ : 16.КИСЛЕВ 5776.
DESCRIPTION:
URL:https://www.srpskilegat.rs/dogadjaj/jevrejski-16-kislev-5776/
CATEGORIES:Верски празници,Јеврејски празници
END:VEVENT
BEGIN:VEVENT
DTSTART;VALUE=DATE:20151127
DTEND;VALUE=DATE:20151128
DTSTAMP:20260422T090932
CREATED:20151005T192620Z
LAST-MODIFIED:20151005T192620Z
UID:5374-1448582400-1448668799@www.srpskilegat.rs
SUMMARY:ЈЕВРЕЈСКИ : 15.КИСЛЕВ 5776. ЕРЕВ ШАБАТ
DESCRIPTION:
URL:https://www.srpskilegat.rs/dogadjaj/jevrejski-15-kislev-5776-erev-sabat/
CATEGORIES:Верски празници,Јеврејски празници
END:VEVENT
BEGIN:VEVENT
DTSTART;VALUE=DATE:20151126
DTEND;VALUE=DATE:20151127
DTSTAMP:20260422T090932
CREATED:20151005T192429Z
LAST-MODIFIED:20151005T192429Z
UID:5373-1448496000-1448582399@www.srpskilegat.rs
SUMMARY:ЈЕВРЕЈСКИ : 14.КИСЛЕВ 5776.
DESCRIPTION:
URL:https://www.srpskilegat.rs/dogadjaj/jevrejski-14-kislev-5776/
CATEGORIES:Верски празници,Јеврејски празници
END:VEVENT
BEGIN:VEVENT
DTSTART;VALUE=DATE:20151125
DTEND;VALUE=DATE:20151126
DTSTAMP:20260422T090932
CREATED:20151005T192327Z
LAST-MODIFIED:20151005T192327Z
UID:5372-1448409600-1448495999@www.srpskilegat.rs
SUMMARY:ЈЕВРЕЈСКИ : 13.КИСЛЕВ 5776.
DESCRIPTION:
URL:https://www.srpskilegat.rs/dogadjaj/jevrejski-13-kislev-5776/
CATEGORIES:Верски празници,Јеврејски празници
END:VEVENT
BEGIN:VEVENT
DTSTART;VALUE=DATE:20151124
DTEND;VALUE=DATE:20151125
DTSTAMP:20260422T090932
CREATED:20151005T192241Z
LAST-MODIFIED:20151005T192241Z
UID:5371-1448323200-1448409599@www.srpskilegat.rs
SUMMARY:ЈЕВРЕЈСКИ : 12.КИСЛЕВ 5776.
DESCRIPTION:
URL:https://www.srpskilegat.rs/dogadjaj/jevrejski-12-kislev-5776/
CATEGORIES:Верски празници,Јеврејски празници
END:VEVENT
BEGIN:VEVENT
DTSTART;VALUE=DATE:20151123
DTEND;VALUE=DATE:20151124
DTSTAMP:20260422T090932
CREATED:20151005T192143Z
LAST-MODIFIED:20151005T192143Z
UID:5370-1448236800-1448323199@www.srpskilegat.rs
SUMMARY:ЈЕВРЕЈСКИ : 11.КИСЛЕВ 5776.
DESCRIPTION:
URL:https://www.srpskilegat.rs/dogadjaj/jevrejski-11-kislev-5776/
CATEGORIES:Верски празници,Јеврејски празници
END:VEVENT
BEGIN:VEVENT
DTSTART;VALUE=DATE:20151122
DTEND;VALUE=DATE:20151123
DTSTAMP:20260422T090932
CREATED:20151005T192020Z
LAST-MODIFIED:20151005T192020Z
UID:5369-1448150400-1448236799@www.srpskilegat.rs
SUMMARY:ЈЕВРЕЈСКИ : 10.КИСЛЕВ 5776.
DESCRIPTION:
URL:https://www.srpskilegat.rs/dogadjaj/jevrejski-10-kislev-5776/
CATEGORIES:Верски празници,Јеврејски празници
END:VEVENT
END:VCALENDAR