BEGIN:VCALENDAR
VERSION:2.0
PRODID:-//Фондација Српски легат - ECPv6.3.4//NONSGML v1.0//EN
CALSCALE:GREGORIAN
METHOD:PUBLISH
X-WR-CALNAME:Фондација Српски легат
X-ORIGINAL-URL:https://www.srpskilegat.rs
X-WR-CALDESC:Events for Фондација Српски легат
REFRESH-INTERVAL;VALUE=DURATION:PT1H
X-Robots-Tag:noindex
X-PUBLISHED-TTL:PT1H
BEGIN:VTIMEZONE
TZID:Europe/Belgrade
BEGIN:DAYLIGHT
TZOFFSETFROM:+0100
TZOFFSETTO:+0200
TZNAME:CEST
DTSTART:20150329T010000
END:DAYLIGHT
BEGIN:STANDARD
TZOFFSETFROM:+0200
TZOFFSETTO:+0100
TZNAME:CET
DTSTART:20151025T010000
END:STANDARD
END:VTIMEZONE
BEGIN:VEVENT
DTSTART;VALUE=DATE:20151101
DTEND;VALUE=DATE:20151102
DTSTAMP:20260425T031723
CREATED:20150621T202159Z
LAST-MODIFIED:20150705T171709Z
UID:2622-1446336000-1446422399@www.srpskilegat.rs
SUMMARY:ИСЛАМСКИ : 19. Мухарем 1437.г
DESCRIPTION:
URL:https://www.srpskilegat.rs/dogadjaj/islamski-19-muharem-1437-g/
CATEGORIES:Верски празници,Исламски празници
END:VEVENT
BEGIN:VEVENT
DTSTART;VALUE=DATE:20151031
DTEND;VALUE=DATE:20151101
DTSTAMP:20260425T031723
CREATED:20150621T201734Z
LAST-MODIFIED:20150705T171734Z
UID:2616-1446249600-1446335999@www.srpskilegat.rs
SUMMARY:ИСЛАМСКИ : 18. Мухарем 1437.г
DESCRIPTION:
URL:https://www.srpskilegat.rs/dogadjaj/islamski-18-muharem-1437-g/
CATEGORIES:Верски празници,Исламски празници
END:VEVENT
BEGIN:VEVENT
DTSTART;VALUE=DATE:20151030
DTEND;VALUE=DATE:20151031
DTSTAMP:20260425T031723
CREATED:20150621T201642Z
LAST-MODIFIED:20150705T171801Z
UID:2612-1446163200-1446249599@www.srpskilegat.rs
SUMMARY:ИСЛАМСКИ : 17. Мухарем 1437.г
DESCRIPTION:
URL:https://www.srpskilegat.rs/dogadjaj/islamski-17-muharem-1437-g/
CATEGORIES:Верски празници,Исламски празници
END:VEVENT
BEGIN:VEVENT
DTSTART;VALUE=DATE:20151029
DTEND;VALUE=DATE:20151030
DTSTAMP:20260425T031723
CREATED:20150621T201450Z
LAST-MODIFIED:20150705T171830Z
UID:2611-1446076800-1446163199@www.srpskilegat.rs
SUMMARY:ИСЛАМСКИ : 16. Мухарем 1437.г
DESCRIPTION:
URL:https://www.srpskilegat.rs/dogadjaj/islamski-16-muharem-1437-g/
CATEGORIES:Верски празници,Исламски празници
END:VEVENT
BEGIN:VEVENT
DTSTART;VALUE=DATE:20151028
DTEND;VALUE=DATE:20151029
DTSTAMP:20260425T031723
CREATED:20150621T201410Z
LAST-MODIFIED:20150705T171137Z
UID:2609-1445990400-1446076799@www.srpskilegat.rs
SUMMARY:ИСЛАМСКИ : 15. Мухарем 1437.г
DESCRIPTION:
URL:https://www.srpskilegat.rs/dogadjaj/islamski-15-muharem-1437-g/
CATEGORIES:Верски празници,Исламски празници
END:VEVENT
BEGIN:VEVENT
DTSTART;VALUE=DATE:20151027
DTEND;VALUE=DATE:20151028
DTSTAMP:20260425T031723
CREATED:20150621T201318Z
LAST-MODIFIED:20150705T171209Z
UID:2607-1445904000-1445990399@www.srpskilegat.rs
SUMMARY:ИСЛАМСКИ : 14. Мухарем 1437.г
DESCRIPTION:
URL:https://www.srpskilegat.rs/dogadjaj/islamski-14-muharem-1437-g/
CATEGORIES:Верски празници,Исламски празници
END:VEVENT
BEGIN:VEVENT
DTSTART;VALUE=DATE:20151026
DTEND;VALUE=DATE:20151027
DTSTAMP:20260425T031723
CREATED:20150621T201152Z
LAST-MODIFIED:20150705T171240Z
UID:2606-1445817600-1445903999@www.srpskilegat.rs
SUMMARY:ИСЛАМСКИ : 13. Мухарем 1437.г
DESCRIPTION:
URL:https://www.srpskilegat.rs/dogadjaj/islamski-13-muharem-1437-g/
CATEGORIES:Верски празници,Исламски празници
END:VEVENT
BEGIN:VEVENT
DTSTART;VALUE=DATE:20151025
DTEND;VALUE=DATE:20151026
DTSTAMP:20260425T031723
CREATED:20150621T201034Z
LAST-MODIFIED:20150705T171313Z
UID:2605-1445731200-1445817599@www.srpskilegat.rs
SUMMARY:ИСЛАМСКИ : 12. Мухарем 1437.г
DESCRIPTION:
URL:https://www.srpskilegat.rs/dogadjaj/islamski-12-muharem-1437-g/
CATEGORIES:Верски празници,Исламски празници
END:VEVENT
BEGIN:VEVENT
DTSTART;VALUE=DATE:20151024
DTEND;VALUE=DATE:20151025
DTSTAMP:20260425T031723
CREATED:20150621T200942Z
LAST-MODIFIED:20150705T171336Z
UID:2603-1445644800-1445731199@www.srpskilegat.rs
SUMMARY:ИСЛАМСКИ : 11. Мухарем 1437.г
DESCRIPTION:
URL:https://www.srpskilegat.rs/dogadjaj/islamski-11-muharem-1437-g/
CATEGORIES:Верски празници,Исламски празници
END:VEVENT
BEGIN:VEVENT
DTSTART;VALUE=DATE:20151023
DTEND;VALUE=DATE:20151024
DTSTAMP:20260425T031723
CREATED:20150621T200902Z
LAST-MODIFIED:20150705T171446Z
UID:2601-1445558400-1445644799@www.srpskilegat.rs
SUMMARY:ИСЛАМСКИ : 10. Мухарем 1437.г Јеумул- ашура
DESCRIPTION:
URL:https://www.srpskilegat.rs/dogadjaj/islamski-10-muharem-1437-g-jeumul-asura/
CATEGORIES:Верски празници,Исламски празници
END:VEVENT
BEGIN:VEVENT
DTSTART;VALUE=DATE:20151022
DTEND;VALUE=DATE:20151023
DTSTAMP:20260425T031723
CREATED:20150621T200634Z
LAST-MODIFIED:20150705T171511Z
UID:2597-1445472000-1445558399@www.srpskilegat.rs
SUMMARY:ИСЛАМСКИ : 9. Мухарем 1437.г
DESCRIPTION:
URL:https://www.srpskilegat.rs/dogadjaj/islamski-9-muharem-1437-g/
CATEGORIES:Верски празници,Исламски празници
END:VEVENT
BEGIN:VEVENT
DTSTART;VALUE=DATE:20151021
DTEND;VALUE=DATE:20151022
DTSTAMP:20260425T031723
CREATED:20150621T200516Z
LAST-MODIFIED:20150705T170349Z
UID:2593-1445385600-1445471999@www.srpskilegat.rs
SUMMARY:ИСЛАМСКИ : 8. Мухарем 1437.г
DESCRIPTION:
URL:https://www.srpskilegat.rs/dogadjaj/islamski-8-muharem-1437-g/
CATEGORIES:Верски празници,Исламски празници
END:VEVENT
BEGIN:VEVENT
DTSTART;VALUE=DATE:20151020
DTEND;VALUE=DATE:20151021
DTSTAMP:20260425T031723
CREATED:20150621T200444Z
LAST-MODIFIED:20150705T170416Z
UID:2592-1445299200-1445385599@www.srpskilegat.rs
SUMMARY:ИСЛАМСКИ : 7. Мухарем 1437.г
DESCRIPTION:
URL:https://www.srpskilegat.rs/dogadjaj/islamski-7-muharem-1437-g/
CATEGORIES:Верски празници,Исламски празници
END:VEVENT
BEGIN:VEVENT
DTSTART;VALUE=DATE:20151019
DTEND;VALUE=DATE:20151020
DTSTAMP:20260425T031723
CREATED:20150621T200413Z
LAST-MODIFIED:20150705T170441Z
UID:2587-1445212800-1445299199@www.srpskilegat.rs
SUMMARY:ИСЛАМСКИ : 6. Мухарем 1437.г
DESCRIPTION:
URL:https://www.srpskilegat.rs/dogadjaj/islamski-6-muharem-1437-g/
CATEGORIES:Верски празници,Исламски празници
END:VEVENT
BEGIN:VEVENT
DTSTART;VALUE=DATE:20151018
DTEND;VALUE=DATE:20151019
DTSTAMP:20260425T031723
CREATED:20150621T194948Z
LAST-MODIFIED:20150705T170514Z
UID:2586-1445126400-1445212799@www.srpskilegat.rs
SUMMARY:ИСЛАМСКИ : 5. Мухарем 1437.г
DESCRIPTION:
URL:https://www.srpskilegat.rs/dogadjaj/islamski-5-muharem-1437-g/
CATEGORIES:Верски празници,Исламски празници
END:VEVENT
BEGIN:VEVENT
DTSTART;VALUE=DATE:20151017
DTEND;VALUE=DATE:20151018
DTSTAMP:20260425T031723
CREATED:20150621T194913Z
LAST-MODIFIED:20150705T170603Z
UID:2585-1445040000-1445126399@www.srpskilegat.rs
SUMMARY:ИСЛАМСКИ : 4. Мухарем 1437.г
DESCRIPTION:
URL:https://www.srpskilegat.rs/dogadjaj/islamski-4-muharem-1437-g/
CATEGORIES:Верски празници,Исламски празници
END:VEVENT
BEGIN:VEVENT
DTSTART;VALUE=DATE:20151016
DTEND;VALUE=DATE:20151017
DTSTAMP:20260425T031723
CREATED:20150621T194820Z
LAST-MODIFIED:20150705T170639Z
UID:2584-1444953600-1445039999@www.srpskilegat.rs
SUMMARY:ИСЛАМСКИ : 3. Мухарем 1437.г
DESCRIPTION:
URL:https://www.srpskilegat.rs/dogadjaj/islamski-3-muharem-1437-g/
CATEGORIES:Верски празници,Исламски празници
END:VEVENT
BEGIN:VEVENT
DTSTART;VALUE=DATE:20151015
DTEND;VALUE=DATE:20151016
DTSTAMP:20260425T031723
CREATED:20150621T193122Z
LAST-MODIFIED:20150705T170712Z
UID:2583-1444867200-1444953599@www.srpskilegat.rs
SUMMARY:ИСЛАМСКИ : 2. Мухарем 1437.г
DESCRIPTION:
URL:https://www.srpskilegat.rs/dogadjaj/islamski-2-muharem-1437-g/
CATEGORIES:Верски празници,Исламски празници
END:VEVENT
BEGIN:VEVENT
DTSTART;VALUE=DATE:20151014
DTEND;VALUE=DATE:20151015
DTSTAMP:20260425T031723
CREATED:20150621T191834Z
LAST-MODIFIED:20150705T165937Z
UID:2581-1444780800-1444867199@www.srpskilegat.rs
SUMMARY:ИСЛАМСКИ : 1. Мухарем 1437.г Нова 1437. хиџретска година
DESCRIPTION:
URL:https://www.srpskilegat.rs/dogadjaj/islamski-1-muharem-1437-g-nova-1437-hidzretska-godina/
CATEGORIES:Верски празници,Исламски празници
END:VEVENT
BEGIN:VEVENT
DTSTART;VALUE=DATE:20151013
DTEND;VALUE=DATE:20151014
DTSTAMP:20260425T031723
CREATED:20150621T191608Z
LAST-MODIFIED:20150705T170012Z
UID:2580-1444694400-1444780799@www.srpskilegat.rs
SUMMARY:ИСЛАМСКИ : 30. Зул-хиџе 1436.г
DESCRIPTION:
URL:https://www.srpskilegat.rs/dogadjaj/islamski-30-zul-hidze-1436-g/
CATEGORIES:Верски празници,Исламски празници
END:VEVENT
BEGIN:VEVENT
DTSTART;VALUE=DATE:20151012
DTEND;VALUE=DATE:20151013
DTSTAMP:20260425T031723
CREATED:20150621T191509Z
LAST-MODIFIED:20150705T170122Z
UID:2579-1444608000-1444694399@www.srpskilegat.rs
SUMMARY:ИСЛАМСКИ : 29. Зул-хиџе 1436.г
DESCRIPTION:
URL:https://www.srpskilegat.rs/dogadjaj/islamski-29-zul-hidze-1436-g/
CATEGORIES:Верски празници,Исламски празници
END:VEVENT
BEGIN:VEVENT
DTSTART;VALUE=DATE:20151011
DTEND;VALUE=DATE:20151012
DTSTAMP:20260425T031723
CREATED:20150621T191438Z
LAST-MODIFIED:20150705T170208Z
UID:2578-1444521600-1444607999@www.srpskilegat.rs
SUMMARY:ИСЛАМСКИ : 28. Зул-хиџе 1436.г
DESCRIPTION:
URL:https://www.srpskilegat.rs/dogadjaj/islamski-28-zul-hidze-1436-g/
CATEGORIES:Верски празници,Исламски празници
END:VEVENT
BEGIN:VEVENT
DTSTART;VALUE=DATE:20151010
DTEND;VALUE=DATE:20151011
DTSTAMP:20260425T031723
CREATED:20150621T190009Z
LAST-MODIFIED:20150705T170241Z
UID:2577-1444435200-1444521599@www.srpskilegat.rs
SUMMARY:ИСЛАМСКИ : 27. Зул-хиџе 1436.г
DESCRIPTION:
URL:https://www.srpskilegat.rs/dogadjaj/islamski-27-zul-hidze-1436-g/
CATEGORIES:Верски празници,Исламски празници
END:VEVENT
BEGIN:VEVENT
DTSTART;VALUE=DATE:20151009
DTEND;VALUE=DATE:20151010
DTSTAMP:20260425T031723
CREATED:20150621T185923Z
LAST-MODIFIED:20150705T170307Z
UID:2576-1444348800-1444435199@www.srpskilegat.rs
SUMMARY:ИСЛАМСКИ : 26. Зул-хиџе 1436.г
DESCRIPTION:
URL:https://www.srpskilegat.rs/dogadjaj/islamski-26-zul-hidze-1436-g/
CATEGORIES:Верски празници,Исламски празници
END:VEVENT
BEGIN:VEVENT
DTSTART;VALUE=DATE:20151008
DTEND;VALUE=DATE:20151009
DTSTAMP:20260425T031723
CREATED:20150621T185849Z
LAST-MODIFIED:20150705T165525Z
UID:2575-1444262400-1444348799@www.srpskilegat.rs
SUMMARY:ИСЛАМСКИ : 25. Зул-хиџе 1436.г
DESCRIPTION:
URL:https://www.srpskilegat.rs/dogadjaj/islamski-25-zul-hidze-1436-g/
CATEGORIES:Верски празници,Исламски празници
END:VEVENT
BEGIN:VEVENT
DTSTART;VALUE=DATE:20151007
DTEND;VALUE=DATE:20151008
DTSTAMP:20260425T031723
CREATED:20150621T185822Z
LAST-MODIFIED:20150705T165554Z
UID:2574-1444176000-1444262399@www.srpskilegat.rs
SUMMARY:ИСЛАМСКИ : 24. Зул-хиџе 1436.г
DESCRIPTION:
URL:https://www.srpskilegat.rs/dogadjaj/islamski-24-zul-hidze-1436-g/
CATEGORIES:Верски празници,Исламски празници
END:VEVENT
BEGIN:VEVENT
DTSTART;VALUE=DATE:20151006
DTEND;VALUE=DATE:20151007
DTSTAMP:20260425T031723
CREATED:20150621T185753Z
LAST-MODIFIED:20150705T165637Z
UID:2573-1444089600-1444175999@www.srpskilegat.rs
SUMMARY:ИСЛАМСКИ : 23. Зул-хиџе 1436.г
DESCRIPTION:
URL:https://www.srpskilegat.rs/dogadjaj/islamski-23-zul-hidze-1436-g/
CATEGORIES:Верски празници,Исламски празници
END:VEVENT
BEGIN:VEVENT
DTSTART;VALUE=DATE:20151005
DTEND;VALUE=DATE:20151006
DTSTAMP:20260425T031723
CREATED:20150621T185720Z
LAST-MODIFIED:20150705T165714Z
UID:2572-1444003200-1444089599@www.srpskilegat.rs
SUMMARY:ИСЛАМСКИ : 22. Зул-хиџе 1436.г
DESCRIPTION:
URL:https://www.srpskilegat.rs/dogadjaj/islamski-22-zul-hidze-1436-g/
CATEGORIES:Верски празници,Исламски празници
END:VEVENT
BEGIN:VEVENT
DTSTART;VALUE=DATE:20151004
DTEND;VALUE=DATE:20151005
DTSTAMP:20260425T031723
CREATED:20150621T185646Z
LAST-MODIFIED:20150705T165746Z
UID:2571-1443916800-1444003199@www.srpskilegat.rs
SUMMARY:ИСЛАМСКИ : 21. Зул-хиџе 1436.г
DESCRIPTION:
URL:https://www.srpskilegat.rs/dogadjaj/islamski-21-zul-hidze-1436-g/
CATEGORIES:Верски празници,Исламски празници
END:VEVENT
BEGIN:VEVENT
DTSTART;VALUE=DATE:20151003
DTEND;VALUE=DATE:20151004
DTSTAMP:20260425T031723
CREATED:20150621T185623Z
LAST-MODIFIED:20150705T165830Z
UID:2570-1443830400-1443916799@www.srpskilegat.rs
SUMMARY:ИСЛАМСКИ : 20. Зул-хиџе 1436.г
DESCRIPTION:
URL:https://www.srpskilegat.rs/dogadjaj/islamski-20-zul-hidze-1436-g/
CATEGORIES:Верски празници,Исламски празници
END:VEVENT
END:VCALENDAR