BEGIN:VCALENDAR
VERSION:2.0
PRODID:-//Фондација Српски легат - ECPv6.3.4//NONSGML v1.0//EN
CALSCALE:GREGORIAN
METHOD:PUBLISH
X-WR-CALNAME:Фондација Српски легат
X-ORIGINAL-URL:https://www.srpskilegat.rs
X-WR-CALDESC:Events for Фондација Српски легат
REFRESH-INTERVAL;VALUE=DURATION:PT1H
X-Robots-Tag:noindex
X-PUBLISHED-TTL:PT1H
BEGIN:VTIMEZONE
TZID:Europe/Belgrade
BEGIN:DAYLIGHT
TZOFFSETFROM:+0100
TZOFFSETTO:+0200
TZNAME:CEST
DTSTART:20150329T010000
END:DAYLIGHT
BEGIN:STANDARD
TZOFFSETFROM:+0200
TZOFFSETTO:+0100
TZNAME:CET
DTSTART:20151025T010000
END:STANDARD
END:VTIMEZONE
BEGIN:VEVENT
DTSTART;VALUE=DATE:20151211
DTEND;VALUE=DATE:20151212
DTSTAMP:20260422T121537
CREATED:20150621T213122Z
LAST-MODIFIED:20150705T173617Z
UID:2668-1449792000-1449878399@www.srpskilegat.rs
SUMMARY:ИСЛАМСКИ : 29. Сафер 1437.г
DESCRIPTION:
URL:https://www.srpskilegat.rs/dogadjaj/islamski-29-safer-1437-g/
CATEGORIES:Верски празници,Исламски празници
END:VEVENT
BEGIN:VEVENT
DTSTART;VALUE=DATE:20151210
DTEND;VALUE=DATE:20151211
DTSTAMP:20260422T121537
CREATED:20150621T212329Z
LAST-MODIFIED:20150705T173646Z
UID:2667-1449705600-1449791999@www.srpskilegat.rs
SUMMARY:ИСЛАМСКИ : 28. Сафер 1437.г
DESCRIPTION:
URL:https://www.srpskilegat.rs/dogadjaj/islamski-28-safer-1437-g/
CATEGORIES:Верски празници,Исламски празници
END:VEVENT
BEGIN:VEVENT
DTSTART;VALUE=DATE:20151209
DTEND;VALUE=DATE:20151210
DTSTAMP:20260422T121537
CREATED:20150621T212248Z
LAST-MODIFIED:20150705T173708Z
UID:2666-1449619200-1449705599@www.srpskilegat.rs
SUMMARY:ИСЛАМСКИ : 27. Сафер 1437.г
DESCRIPTION:
URL:https://www.srpskilegat.rs/dogadjaj/islamski-27-safer-1437-g/
CATEGORIES:Верски празници,Исламски празници
END:VEVENT
BEGIN:VEVENT
DTSTART;VALUE=DATE:20151208
DTEND;VALUE=DATE:20151209
DTSTAMP:20260422T121537
CREATED:20150621T212155Z
LAST-MODIFIED:20150705T173731Z
UID:2665-1449532800-1449619199@www.srpskilegat.rs
SUMMARY:ИСЛАМСКИ : 26. Сафер 1437.г
DESCRIPTION:
URL:https://www.srpskilegat.rs/dogadjaj/islamski-26-safer-1437-g/
CATEGORIES:Верски празници,Исламски празници
END:VEVENT
BEGIN:VEVENT
DTSTART;VALUE=DATE:20151207
DTEND;VALUE=DATE:20151208
DTSTAMP:20260422T121537
CREATED:20150621T212122Z
LAST-MODIFIED:20150705T173752Z
UID:2664-1449446400-1449532799@www.srpskilegat.rs
SUMMARY:ИСЛАМСКИ : 25. Сафер 1437.г
DESCRIPTION:
URL:https://www.srpskilegat.rs/dogadjaj/islamski-25-safer-1437-g/
CATEGORIES:Верски празници,Исламски празници
END:VEVENT
BEGIN:VEVENT
DTSTART;VALUE=DATE:20151206
DTEND;VALUE=DATE:20151207
DTSTAMP:20260422T121537
CREATED:20150621T211940Z
LAST-MODIFIED:20150705T173224Z
UID:2663-1449360000-1449446399@www.srpskilegat.rs
SUMMARY:ИСЛАМСКИ : 24. Сафер 1437.г
DESCRIPTION:
URL:https://www.srpskilegat.rs/dogadjaj/islamski-24-safer-1437-g/
CATEGORIES:Верски празници,Исламски празници
END:VEVENT
BEGIN:VEVENT
DTSTART;VALUE=DATE:20151205
DTEND;VALUE=DATE:20151206
DTSTAMP:20260422T121537
CREATED:20150621T211832Z
LAST-MODIFIED:20150705T173251Z
UID:2662-1449273600-1449359999@www.srpskilegat.rs
SUMMARY:ИСЛАМСКИ : 23. Сафер 1437.г
DESCRIPTION:
URL:https://www.srpskilegat.rs/dogadjaj/islamski-23-safer-1437-g/
CATEGORIES:Верски празници,Исламски празници
END:VEVENT
BEGIN:VEVENT
DTSTART;VALUE=DATE:20151204
DTEND;VALUE=DATE:20151205
DTSTAMP:20260422T121537
CREATED:20150621T211756Z
LAST-MODIFIED:20150705T173333Z
UID:2661-1449187200-1449273599@www.srpskilegat.rs
SUMMARY:ИСЛАМСКИ : 22. Сафер 1437.г
DESCRIPTION:
URL:https://www.srpskilegat.rs/dogadjaj/islamski-22-safer-1437-g/
CATEGORIES:Верски празници,Исламски празници
END:VEVENT
BEGIN:VEVENT
DTSTART;VALUE=DATE:20151203
DTEND;VALUE=DATE:20151204
DTSTAMP:20260422T121537
CREATED:20150621T211717Z
LAST-MODIFIED:20150705T173356Z
UID:2660-1449100800-1449187199@www.srpskilegat.rs
SUMMARY:ИСЛАМСКИ : 21. Сафер 1437.г
DESCRIPTION:
URL:https://www.srpskilegat.rs/dogadjaj/islamski-21-safer-1437-g/
CATEGORIES:Верски празници,Исламски празници
END:VEVENT
BEGIN:VEVENT
DTSTART;VALUE=DATE:20151202
DTEND;VALUE=DATE:20151203
DTSTAMP:20260422T121537
CREATED:20150621T211630Z
LAST-MODIFIED:20150705T173420Z
UID:2659-1449014400-1449100799@www.srpskilegat.rs
SUMMARY:ИСЛАМСКИ : 20. Сафер 1437.г
DESCRIPTION:
URL:https://www.srpskilegat.rs/dogadjaj/islamski-20-safer-1437-g/
CATEGORIES:Верски празници,Исламски празници
END:VEVENT
BEGIN:VEVENT
DTSTART;VALUE=DATE:20151201
DTEND;VALUE=DATE:20151202
DTSTAMP:20260422T121537
CREATED:20150621T211524Z
LAST-MODIFIED:20150705T173443Z
UID:2658-1448928000-1449014399@www.srpskilegat.rs
SUMMARY:ИСЛАМСКИ : 19. Сафер 1437.г
DESCRIPTION:
URL:https://www.srpskilegat.rs/dogadjaj/islamski-19-safer-1437-g/
CATEGORIES:Верски празници,Исламски празници
END:VEVENT
BEGIN:VEVENT
DTSTART;VALUE=DATE:20151130
DTEND;VALUE=DATE:20151201
DTSTAMP:20260422T121537
CREATED:20150621T211001Z
LAST-MODIFIED:20150705T172915Z
UID:2657-1448841600-1448927999@www.srpskilegat.rs
SUMMARY:ИСЛАМСКИ : 18. Сафер 1437.г
DESCRIPTION:
URL:https://www.srpskilegat.rs/dogadjaj/islamski-18-safer-1437-g/
CATEGORIES:Верски празници,Исламски празници
END:VEVENT
BEGIN:VEVENT
DTSTART;VALUE=DATE:20151129
DTEND;VALUE=DATE:20151130
DTSTAMP:20260422T121537
CREATED:20150621T210925Z
LAST-MODIFIED:20150705T172937Z
UID:2656-1448755200-1448841599@www.srpskilegat.rs
SUMMARY:ИСЛАМСКИ : 17. Сафер 1437.г
DESCRIPTION:
URL:https://www.srpskilegat.rs/dogadjaj/islamski-17-safer-1437-g/
CATEGORIES:Верски празници,Исламски празници
END:VEVENT
BEGIN:VEVENT
DTSTART;VALUE=DATE:20151128
DTEND;VALUE=DATE:20151129
DTSTAMP:20260422T121537
CREATED:20150621T210834Z
LAST-MODIFIED:20150705T173007Z
UID:2655-1448668800-1448755199@www.srpskilegat.rs
SUMMARY:ИСЛАМСКИ : 16. Сафер 1437.г
DESCRIPTION:
URL:https://www.srpskilegat.rs/dogadjaj/islamski-16-safer-1437-g/
CATEGORIES:Верски празници,Исламски празници
END:VEVENT
BEGIN:VEVENT
DTSTART;VALUE=DATE:20151127
DTEND;VALUE=DATE:20151128
DTSTAMP:20260422T121537
CREATED:20150621T210622Z
LAST-MODIFIED:20150705T173032Z
UID:2654-1448582400-1448668799@www.srpskilegat.rs
SUMMARY:ИСЛАМСКИ : 15. Сафер 1437.г
DESCRIPTION:
URL:https://www.srpskilegat.rs/dogadjaj/islamski-15-safer-1437-g/
CATEGORIES:Верски празници,Исламски празници
END:VEVENT
BEGIN:VEVENT
DTSTART;VALUE=DATE:20151126
DTEND;VALUE=DATE:20151127
DTSTAMP:20260422T121537
CREATED:20150621T210348Z
LAST-MODIFIED:20150705T173101Z
UID:2653-1448496000-1448582399@www.srpskilegat.rs
SUMMARY:ИСЛАМСКИ : 14. Сафер 1437.г
DESCRIPTION:
URL:https://www.srpskilegat.rs/dogadjaj/islamski-14-safer-1437-g/
CATEGORIES:Верски празници,Исламски празници
END:VEVENT
BEGIN:VEVENT
DTSTART;VALUE=DATE:20151125
DTEND;VALUE=DATE:20151126
DTSTAMP:20260422T121537
CREATED:20150621T210217Z
LAST-MODIFIED:20150705T173131Z
UID:2652-1448409600-1448495999@www.srpskilegat.rs
SUMMARY:ИСЛАМСКИ : 13. Сафер 1437.г
DESCRIPTION:
URL:https://www.srpskilegat.rs/dogadjaj/islamski-13-safer-1437-g/
CATEGORIES:Верски празници,Исламски празници
END:VEVENT
BEGIN:VEVENT
DTSTART;VALUE=DATE:20151124
DTEND;VALUE=DATE:20151125
DTSTAMP:20260422T121537
CREATED:20150621T210130Z
LAST-MODIFIED:20150705T173154Z
UID:2651-1448323200-1448409599@www.srpskilegat.rs
SUMMARY:ИСЛАМСКИ : 12. Сафер 1437.г
DESCRIPTION:
URL:https://www.srpskilegat.rs/dogadjaj/islamski-12-safer-1437-g/
CATEGORIES:Верски празници,Исламски празници
END:VEVENT
BEGIN:VEVENT
DTSTART;VALUE=DATE:20151123
DTEND;VALUE=DATE:20151124
DTSTAMP:20260422T121537
CREATED:20150621T210039Z
LAST-MODIFIED:20150705T172626Z
UID:2650-1448236800-1448323199@www.srpskilegat.rs
SUMMARY:ИСЛАМСКИ : 11. Сафер 1437.г
DESCRIPTION:
URL:https://www.srpskilegat.rs/dogadjaj/islamski-11-safer-1437-g/
CATEGORIES:Верски празници,Исламски празници
END:VEVENT
BEGIN:VEVENT
DTSTART;VALUE=DATE:20151122
DTEND;VALUE=DATE:20151123
DTSTAMP:20260422T121537
CREATED:20150621T205906Z
LAST-MODIFIED:20150705T172651Z
UID:2649-1448150400-1448236799@www.srpskilegat.rs
SUMMARY:ИСЛАМСКИ : 10. Сафер 1437.г
DESCRIPTION:
URL:https://www.srpskilegat.rs/dogadjaj/islamski-10-safer-1437-g/
CATEGORIES:Верски празници,Исламски празници
END:VEVENT
BEGIN:VEVENT
DTSTART;VALUE=DATE:20151121
DTEND;VALUE=DATE:20151122
DTSTAMP:20260422T121537
CREATED:20150621T205728Z
LAST-MODIFIED:20150705T172715Z
UID:2648-1448064000-1448150399@www.srpskilegat.rs
SUMMARY:ИСЛАМСКИ : 9. Сафер 1437.г
DESCRIPTION:
URL:https://www.srpskilegat.rs/dogadjaj/islamski-9-safer-1437-g/
CATEGORIES:Верски празници,Исламски празници
END:VEVENT
BEGIN:VEVENT
DTSTART;VALUE=DATE:20151120
DTEND;VALUE=DATE:20151121
DTSTAMP:20260422T121537
CREATED:20150621T205642Z
LAST-MODIFIED:20150705T172747Z
UID:2647-1447977600-1448063999@www.srpskilegat.rs
SUMMARY:ИСЛАМСКИ : 8. Сафер 1437.г
DESCRIPTION:
URL:https://www.srpskilegat.rs/dogadjaj/islamski-8-safer-1437-g/
CATEGORIES:Верски празници,Исламски празници
END:VEVENT
BEGIN:VEVENT
DTSTART;VALUE=DATE:20151119
DTEND;VALUE=DATE:20151120
DTSTAMP:20260422T121537
CREATED:20150621T205533Z
LAST-MODIFIED:20150705T172815Z
UID:2646-1447891200-1447977599@www.srpskilegat.rs
SUMMARY:ИСЛАМСКИ : 7. Сафер 1437.г
DESCRIPTION:
URL:https://www.srpskilegat.rs/dogadjaj/islamski-7-safer-1437-g/
CATEGORIES:Верски празници,Исламски празници
END:VEVENT
BEGIN:VEVENT
DTSTART;VALUE=DATE:20151118
DTEND;VALUE=DATE:20151119
DTSTAMP:20260422T121537
CREATED:20150621T205437Z
LAST-MODIFIED:20150705T172838Z
UID:2645-1447804800-1447891199@www.srpskilegat.rs
SUMMARY:ИСЛАМСКИ : 6. Сафер 1437.г
DESCRIPTION:
URL:https://www.srpskilegat.rs/dogadjaj/islamski-6-safer-1437-g/
CATEGORIES:Верски празници,Исламски празници
END:VEVENT
BEGIN:VEVENT
DTSTART;VALUE=DATE:20151117
DTEND;VALUE=DATE:20151118
DTSTAMP:20260422T121537
CREATED:20150621T205341Z
LAST-MODIFIED:20150705T172900Z
UID:2644-1447718400-1447804799@www.srpskilegat.rs
SUMMARY:ИСЛАМСКИ : 5. Сафер 1437.г
DESCRIPTION:
URL:https://www.srpskilegat.rs/dogadjaj/islamski-5-safer-1437-g/
CATEGORIES:Верски празници,Исламски празници
END:VEVENT
BEGIN:VEVENT
DTSTART;VALUE=DATE:20151116
DTEND;VALUE=DATE:20151117
DTSTAMP:20260422T121537
CREATED:20150621T214620Z
LAST-MODIFIED:20150705T172227Z
UID:2673-1447632000-1447718399@www.srpskilegat.rs
SUMMARY:ИСЛАМСКИ : 4. Сафер 1437.г
DESCRIPTION:
URL:https://www.srpskilegat.rs/dogadjaj/islamski-4-safer-1437-g-2/
CATEGORIES:Верски празници,Исламски празници
END:VEVENT
BEGIN:VEVENT
DTSTART;VALUE=DATE:20151115
DTEND;VALUE=DATE:20151116
DTSTAMP:20260422T121537
CREATED:20150621T204808Z
LAST-MODIFIED:20150705T172322Z
UID:2642-1447545600-1447631999@www.srpskilegat.rs
SUMMARY:ИСЛАМСКИ : 3. Сафер 1437.г
DESCRIPTION:
URL:https://www.srpskilegat.rs/dogadjaj/islamski-3-safer-1437-g/
CATEGORIES:Верски празници,Исламски празници
END:VEVENT
BEGIN:VEVENT
DTSTART;VALUE=DATE:20151114
DTEND;VALUE=DATE:20151115
DTSTAMP:20260422T121537
CREATED:20150621T204735Z
LAST-MODIFIED:20150705T172348Z
UID:2641-1447459200-1447545599@www.srpskilegat.rs
SUMMARY:ИСЛАМСКИ : 2. Сафер 1437.г
DESCRIPTION:
URL:https://www.srpskilegat.rs/dogadjaj/islamski-2-safer-1437-g/
CATEGORIES:Верски празници,Исламски празници
END:VEVENT
BEGIN:VEVENT
DTSTART;VALUE=DATE:20151113
DTEND;VALUE=DATE:20151114
DTSTAMP:20260422T121537
CREATED:20150621T204627Z
LAST-MODIFIED:20150705T172424Z
UID:2640-1447372800-1447459199@www.srpskilegat.rs
SUMMARY:ИСЛАМСКИ : 1. Сафер 1437.г
DESCRIPTION:
URL:https://www.srpskilegat.rs/dogadjaj/islamski-1-safer-1437-g/
CATEGORIES:Верски празници,Исламски празници
END:VEVENT
BEGIN:VEVENT
DTSTART;VALUE=DATE:20151112
DTEND;VALUE=DATE:20151113
DTSTAMP:20260422T121537
CREATED:20150621T203326Z
LAST-MODIFIED:20150705T172517Z
UID:2639-1447286400-1447372799@www.srpskilegat.rs
SUMMARY:ИСЛАМСКИ : 30. Мухарем 1437.г
DESCRIPTION:
URL:https://www.srpskilegat.rs/dogadjaj/islamski-30-muharem-1437-g/
CATEGORIES:Верски празници,Исламски празници
END:VEVENT
END:VCALENDAR