BEGIN:VCALENDAR
VERSION:2.0
PRODID:-//Фондација Српски легат - ECPv6.3.4//NONSGML v1.0//EN
CALSCALE:GREGORIAN
METHOD:PUBLISH
X-ORIGINAL-URL:https://www.srpskilegat.rs
X-WR-CALDESC:Events for Фондација Српски легат
REFRESH-INTERVAL;VALUE=DURATION:PT1H
X-Robots-Tag:noindex
X-PUBLISHED-TTL:PT1H
BEGIN:VTIMEZONE
TZID:Europe/Belgrade
BEGIN:DAYLIGHT
TZOFFSETFROM:+0100
TZOFFSETTO:+0200
TZNAME:CEST
DTSTART:20150329T010000
END:DAYLIGHT
BEGIN:STANDARD
TZOFFSETFROM:+0200
TZOFFSETTO:+0100
TZNAME:CET
DTSTART:20151025T010000
END:STANDARD
END:VTIMEZONE
BEGIN:VEVENT
DTSTART;VALUE=DATE:20151231
DTEND;VALUE=DATE:20160101
DTSTAMP:20260422T090719
CREATED:20150621T224325Z
LAST-MODIFIED:20150712T224154Z
UID:2688-1451520000-1451606399@www.srpskilegat.rs
SUMMARY:ИСЛАМСКИ : 20. Ребиул-евел 1437.г
DESCRIPTION:
URL:https://www.srpskilegat.rs/dogadjaj/islamski-20-rebiul-evel-1437-g/
CATEGORIES:Верски празници,Исламски празници
END:VEVENT
BEGIN:VEVENT
DTSTART;VALUE=DATE:20151230
DTEND;VALUE=DATE:20151231
DTSTAMP:20260422T090719
CREATED:20150621T224155Z
LAST-MODIFIED:20150712T224155Z
UID:2687-1451433600-1451519999@www.srpskilegat.rs
SUMMARY:ИСЛАМСКИ : 19. Ребиул-евел 1437.г
DESCRIPTION:
URL:https://www.srpskilegat.rs/dogadjaj/islamski-19-rebiul-evel-1437-g/
CATEGORIES:Верски празници,Исламски празници
END:VEVENT
BEGIN:VEVENT
DTSTART;VALUE=DATE:20151229
DTEND;VALUE=DATE:20151230
DTSTAMP:20260422T090719
CREATED:20150621T224050Z
LAST-MODIFIED:20150712T224156Z
UID:2686-1451347200-1451433599@www.srpskilegat.rs
SUMMARY:ИСЛАМСКИ : 18. Ребиул-евел 1437.г
DESCRIPTION:
URL:https://www.srpskilegat.rs/dogadjaj/islamski-18-rebiul-evel-1437-g/
CATEGORIES:Верски празници,Исламски празници
END:VEVENT
BEGIN:VEVENT
DTSTART;VALUE=DATE:20151228
DTEND;VALUE=DATE:20151229
DTSTAMP:20260422T090719
CREATED:20150621T225258Z
LAST-MODIFIED:20150712T224156Z
UID:2690-1451260800-1451347199@www.srpskilegat.rs
SUMMARY:ИСЛАМСКИ : 17. Ребиул-евел 1437.г
DESCRIPTION:
URL:https://www.srpskilegat.rs/dogadjaj/islamski-17-rebiul-evel-1437-g-2/
CATEGORIES:Верски празници,Исламски празници
END:VEVENT
BEGIN:VEVENT
DTSTART;VALUE=DATE:20151227
DTEND;VALUE=DATE:20151228
DTSTAMP:20260422T090719
CREATED:20150621T223853Z
LAST-MODIFIED:20150712T224157Z
UID:2684-1451174400-1451260799@www.srpskilegat.rs
SUMMARY:ИСЛАМСКИ : 16. Ребиул-евел 1437.г
DESCRIPTION:
URL:https://www.srpskilegat.rs/dogadjaj/islamski-16-rebiul-evel-1437-g/
CATEGORIES:Верски празници,Исламски празници
END:VEVENT
BEGIN:VEVENT
DTSTART;VALUE=DATE:20151226
DTEND;VALUE=DATE:20151227
DTSTAMP:20260422T090719
CREATED:20150621T223653Z
LAST-MODIFIED:20150705T174108Z
UID:2683-1451088000-1451174399@www.srpskilegat.rs
SUMMARY:ИСЛАМСКИ : 15. Ребиул-евел 1437.г
DESCRIPTION:
URL:https://www.srpskilegat.rs/dogadjaj/islamski-15-rebiul-evel-1437-g/
CATEGORIES:Верски празници,Исламски празници
END:VEVENT
BEGIN:VEVENT
DTSTART;VALUE=DATE:20151225
DTEND;VALUE=DATE:20151226
DTSTAMP:20260422T090719
CREATED:20150621T222827Z
LAST-MODIFIED:20150705T174139Z
UID:2682-1451001600-1451087999@www.srpskilegat.rs
SUMMARY:ИСЛАМСКИ : 14. Ребиул-евел 1437.г
DESCRIPTION:
URL:https://www.srpskilegat.rs/dogadjaj/islamski-14-rebiul-evel-1437-g/
CATEGORIES:Верски празници,Исламски празници
END:VEVENT
BEGIN:VEVENT
DTSTART;VALUE=DATE:20151224
DTEND;VALUE=DATE:20151225
DTSTAMP:20260422T090719
CREATED:20150621T222354Z
LAST-MODIFIED:20150705T174201Z
UID:2681-1450915200-1451001599@www.srpskilegat.rs
SUMMARY:ИСЛАМСКИ : 13. Ребиул-евел 1437.г
DESCRIPTION:
URL:https://www.srpskilegat.rs/dogadjaj/islamski-13-rebiul-evel-1437-g/
CATEGORIES:Верски празници,Исламски празници
END:VEVENT
BEGIN:VEVENT
DTSTART;VALUE=DATE:20151223
DTEND;VALUE=DATE:20151224
DTSTAMP:20260422T090719
CREATED:20150621T222309Z
LAST-MODIFIED:20150705T174230Z
UID:2680-1450828800-1450915199@www.srpskilegat.rs
SUMMARY:ИСЛАМСКИ : 12. Ребиул-евел 1437.г Мевлуд- рођендан Мухаммеда а.с.
DESCRIPTION:
URL:https://www.srpskilegat.rs/dogadjaj/islamski-12-rebiul-evel-1437-g-mevlud-rodjendan-muhammeda-a-s/
CATEGORIES:Верски празници,Исламски празници
END:VEVENT
BEGIN:VEVENT
DTSTART;VALUE=DATE:20151222
DTEND;VALUE=DATE:20151223
DTSTAMP:20260422T090719
CREATED:20150621T222015Z
LAST-MODIFIED:20150705T174252Z
UID:2679-1450742400-1450828799@www.srpskilegat.rs
SUMMARY:ИСЛАМСКИ : 11. Ребиул-евел 1437.г
DESCRIPTION:
URL:https://www.srpskilegat.rs/dogadjaj/islamski-11-rebiul-evel-1437-g/
CATEGORIES:Верски празници,Исламски празници
END:VEVENT
BEGIN:VEVENT
DTSTART;VALUE=DATE:20151221
DTEND;VALUE=DATE:20151222
DTSTAMP:20260422T090719
CREATED:20150621T221842Z
LAST-MODIFIED:20150705T174326Z
UID:2678-1450656000-1450742399@www.srpskilegat.rs
SUMMARY:ИСЛАМСКИ : 10. Ребиул-евел 1437.г
DESCRIPTION:
URL:https://www.srpskilegat.rs/dogadjaj/islamski-10-rebiul-evel-1437-g/
CATEGORIES:Верски празници,Исламски празници
END:VEVENT
BEGIN:VEVENT
DTSTART;VALUE=DATE:20151220
DTEND;VALUE=DATE:20151221
DTSTAMP:20260422T090719
CREATED:20150621T220701Z
LAST-MODIFIED:20150705T174403Z
UID:2677-1450569600-1450655999@www.srpskilegat.rs
SUMMARY:ИСЛАМСКИ : 9. Ребиул-евел 1437.г
DESCRIPTION:
URL:https://www.srpskilegat.rs/dogadjaj/islamski-9-rebiul-evel-1437-g/
CATEGORIES:Верски празници,Исламски празници
END:VEVENT
BEGIN:VEVENT
DTSTART;VALUE=DATE:20151219
DTEND;VALUE=DATE:20151220
DTSTAMP:20260422T090719
CREATED:20150621T220615Z
LAST-MODIFIED:20150705T173817Z
UID:2676-1450483200-1450569599@www.srpskilegat.rs
SUMMARY:ИСЛАМСКИ : 8. Ребиул-евел 1437.г
DESCRIPTION:
URL:https://www.srpskilegat.rs/dogadjaj/islamski-8-rebiul-evel-1437-g/
CATEGORIES:Верски празници,Исламски празници
END:VEVENT
BEGIN:VEVENT
DTSTART;VALUE=DATE:20151218
DTEND;VALUE=DATE:20151219
DTSTAMP:20260422T090719
CREATED:20150621T220526Z
LAST-MODIFIED:20150705T173842Z
UID:2675-1450396800-1450483199@www.srpskilegat.rs
SUMMARY:ИСЛАМСКИ : 7. Ребиул-евел 1437.г
DESCRIPTION:
URL:https://www.srpskilegat.rs/dogadjaj/islamski-7-rebiul-evel-1437-g/
CATEGORIES:Верски празници,Исламски празници
END:VEVENT
BEGIN:VEVENT
DTSTART;VALUE=DATE:20151217
DTEND;VALUE=DATE:20151218
DTSTAMP:20260422T090719
CREATED:20150621T220440Z
LAST-MODIFIED:20150705T173857Z
UID:2674-1450310400-1450396799@www.srpskilegat.rs
SUMMARY:ИСЛАМСКИ : 6. Ребиул-евел 1437.г
DESCRIPTION:
URL:https://www.srpskilegat.rs/dogadjaj/islamski-6-rebiul-evel-1437-g/
CATEGORIES:Верски празници,Исламски празници
END:VEVENT
BEGIN:VEVENT
DTSTART;VALUE=DATE:20151216
DTEND;VALUE=DATE:20151217
DTSTAMP:20260422T090719
CREATED:20150621T205103Z
LAST-MODIFIED:20150705T173927Z
UID:2643-1450224000-1450310399@www.srpskilegat.rs
SUMMARY:ИСЛАМСКИ : 5. Ребиул-евел 1437.г
DESCRIPTION:
URL:https://www.srpskilegat.rs/dogadjaj/islamski-4-safer-1437-g/
CATEGORIES:Верски празници,Исламски празници
END:VEVENT
BEGIN:VEVENT
DTSTART;VALUE=DATE:20151215
DTEND;VALUE=DATE:20151216
DTSTAMP:20260422T090719
CREATED:20150621T213552Z
LAST-MODIFIED:20150705T173953Z
UID:2672-1450137600-1450223999@www.srpskilegat.rs
SUMMARY:ИСЛАМСКИ : 4. Ребиул-евел 1437.г
DESCRIPTION:
URL:https://www.srpskilegat.rs/dogadjaj/islamski-4-rebiul-evel-1437-g/
CATEGORIES:Верски празници,Исламски празници
END:VEVENT
BEGIN:VEVENT
DTSTART;VALUE=DATE:20151214
DTEND;VALUE=DATE:20151215
DTSTAMP:20260422T090719
CREATED:20150621T213511Z
LAST-MODIFIED:20150705T174018Z
UID:2671-1450051200-1450137599@www.srpskilegat.rs
SUMMARY:ИСЛАМСКИ : 3. Ребиул-евел 1437.г
DESCRIPTION:
URL:https://www.srpskilegat.rs/dogadjaj/islamski-3-rebiul-evel-1437-g/
CATEGORIES:Верски празници,Исламски празници
END:VEVENT
BEGIN:VEVENT
DTSTART;VALUE=DATE:20151213
DTEND;VALUE=DATE:20151214
DTSTAMP:20260422T090719
CREATED:20150621T213438Z
LAST-MODIFIED:20150705T173517Z
UID:2670-1449964800-1450051199@www.srpskilegat.rs
SUMMARY:ИСЛАМСКИ : 2. Ребиул-евел 1437.г
DESCRIPTION:
URL:https://www.srpskilegat.rs/dogadjaj/islamski-2-rebiul-evel-1437-g/
CATEGORIES:Верски празници,Исламски празници
END:VEVENT
BEGIN:VEVENT
DTSTART;VALUE=DATE:20151212
DTEND;VALUE=DATE:20151213
DTSTAMP:20260422T090719
CREATED:20150621T213359Z
LAST-MODIFIED:20150705T173539Z
UID:2669-1449878400-1449964799@www.srpskilegat.rs
SUMMARY:ИСЛАМСКИ : 1. Ребиул-евел 1437.г
DESCRIPTION:
URL:https://www.srpskilegat.rs/dogadjaj/islamski-1-rebiul-evel-1437-g/
CATEGORIES:Верски празници,Исламски празници
END:VEVENT
BEGIN:VEVENT
DTSTART;VALUE=DATE:20151211
DTEND;VALUE=DATE:20151212
DTSTAMP:20260422T090719
CREATED:20150621T213122Z
LAST-MODIFIED:20150705T173617Z
UID:2668-1449792000-1449878399@www.srpskilegat.rs
SUMMARY:ИСЛАМСКИ : 29. Сафер 1437.г
DESCRIPTION:
URL:https://www.srpskilegat.rs/dogadjaj/islamski-29-safer-1437-g/
CATEGORIES:Верски празници,Исламски празници
END:VEVENT
BEGIN:VEVENT
DTSTART;VALUE=DATE:20151210
DTEND;VALUE=DATE:20151211
DTSTAMP:20260422T090719
CREATED:20150621T212329Z
LAST-MODIFIED:20150705T173646Z
UID:2667-1449705600-1449791999@www.srpskilegat.rs
SUMMARY:ИСЛАМСКИ : 28. Сафер 1437.г
DESCRIPTION:
URL:https://www.srpskilegat.rs/dogadjaj/islamski-28-safer-1437-g/
CATEGORIES:Верски празници,Исламски празници
END:VEVENT
BEGIN:VEVENT
DTSTART;VALUE=DATE:20151209
DTEND;VALUE=DATE:20151210
DTSTAMP:20260422T090719
CREATED:20150621T212248Z
LAST-MODIFIED:20150705T173708Z
UID:2666-1449619200-1449705599@www.srpskilegat.rs
SUMMARY:ИСЛАМСКИ : 27. Сафер 1437.г
DESCRIPTION:
URL:https://www.srpskilegat.rs/dogadjaj/islamski-27-safer-1437-g/
CATEGORIES:Верски празници,Исламски празници
END:VEVENT
BEGIN:VEVENT
DTSTART;VALUE=DATE:20151208
DTEND;VALUE=DATE:20151209
DTSTAMP:20260422T090719
CREATED:20150621T212155Z
LAST-MODIFIED:20150705T173731Z
UID:2665-1449532800-1449619199@www.srpskilegat.rs
SUMMARY:ИСЛАМСКИ : 26. Сафер 1437.г
DESCRIPTION:
URL:https://www.srpskilegat.rs/dogadjaj/islamski-26-safer-1437-g/
CATEGORIES:Верски празници,Исламски празници
END:VEVENT
BEGIN:VEVENT
DTSTART;VALUE=DATE:20151207
DTEND;VALUE=DATE:20151208
DTSTAMP:20260422T090719
CREATED:20150621T212122Z
LAST-MODIFIED:20150705T173752Z
UID:2664-1449446400-1449532799@www.srpskilegat.rs
SUMMARY:ИСЛАМСКИ : 25. Сафер 1437.г
DESCRIPTION:
URL:https://www.srpskilegat.rs/dogadjaj/islamski-25-safer-1437-g/
CATEGORIES:Верски празници,Исламски празници
END:VEVENT
BEGIN:VEVENT
DTSTART;VALUE=DATE:20151206
DTEND;VALUE=DATE:20151207
DTSTAMP:20260422T090719
CREATED:20150621T211940Z
LAST-MODIFIED:20150705T173224Z
UID:2663-1449360000-1449446399@www.srpskilegat.rs
SUMMARY:ИСЛАМСКИ : 24. Сафер 1437.г
DESCRIPTION:
URL:https://www.srpskilegat.rs/dogadjaj/islamski-24-safer-1437-g/
CATEGORIES:Верски празници,Исламски празници
END:VEVENT
BEGIN:VEVENT
DTSTART;VALUE=DATE:20151205
DTEND;VALUE=DATE:20151206
DTSTAMP:20260422T090719
CREATED:20150621T211832Z
LAST-MODIFIED:20150705T173251Z
UID:2662-1449273600-1449359999@www.srpskilegat.rs
SUMMARY:ИСЛАМСКИ : 23. Сафер 1437.г
DESCRIPTION:
URL:https://www.srpskilegat.rs/dogadjaj/islamski-23-safer-1437-g/
CATEGORIES:Верски празници,Исламски празници
END:VEVENT
BEGIN:VEVENT
DTSTART;VALUE=DATE:20151204
DTEND;VALUE=DATE:20151205
DTSTAMP:20260422T090719
CREATED:20150621T211756Z
LAST-MODIFIED:20150705T173333Z
UID:2661-1449187200-1449273599@www.srpskilegat.rs
SUMMARY:ИСЛАМСКИ : 22. Сафер 1437.г
DESCRIPTION:
URL:https://www.srpskilegat.rs/dogadjaj/islamski-22-safer-1437-g/
CATEGORIES:Верски празници,Исламски празници
END:VEVENT
BEGIN:VEVENT
DTSTART;VALUE=DATE:20151203
DTEND;VALUE=DATE:20151204
DTSTAMP:20260422T090719
CREATED:20150621T211717Z
LAST-MODIFIED:20150705T173356Z
UID:2660-1449100800-1449187199@www.srpskilegat.rs
SUMMARY:ИСЛАМСКИ : 21. Сафер 1437.г
DESCRIPTION:
URL:https://www.srpskilegat.rs/dogadjaj/islamski-21-safer-1437-g/
CATEGORIES:Верски празници,Исламски празници
END:VEVENT
BEGIN:VEVENT
DTSTART;VALUE=DATE:20151202
DTEND;VALUE=DATE:20151203
DTSTAMP:20260422T090719
CREATED:20150621T211630Z
LAST-MODIFIED:20150705T173420Z
UID:2659-1449014400-1449100799@www.srpskilegat.rs
SUMMARY:ИСЛАМСКИ : 20. Сафер 1437.г
DESCRIPTION:
URL:https://www.srpskilegat.rs/dogadjaj/islamski-20-safer-1437-g/
CATEGORIES:Верски празници,Исламски празници
END:VEVENT
END:VCALENDAR