BEGIN:VCALENDAR
VERSION:2.0
PRODID:-//Фондација Српски легат - ECPv6.3.4//NONSGML v1.0//EN
CALSCALE:GREGORIAN
METHOD:PUBLISH
X-WR-CALNAME:Фондација Српски легат
X-ORIGINAL-URL:https://www.srpskilegat.rs
X-WR-CALDESC:Events for Фондација Српски легат
REFRESH-INTERVAL;VALUE=DURATION:PT1H
X-Robots-Tag:noindex
X-PUBLISHED-TTL:PT1H
BEGIN:VTIMEZONE
TZID:Europe/Belgrade
BEGIN:DAYLIGHT
TZOFFSETFROM:+0100
TZOFFSETTO:+0200
TZNAME:CEST
DTSTART:20150329T010000
END:DAYLIGHT
BEGIN:STANDARD
TZOFFSETFROM:+0200
TZOFFSETTO:+0100
TZNAME:CET
DTSTART:20151025T010000
END:STANDARD
BEGIN:DAYLIGHT
TZOFFSETFROM:+0100
TZOFFSETTO:+0200
TZNAME:CEST
DTSTART:20160327T010000
END:DAYLIGHT
BEGIN:STANDARD
TZOFFSETFROM:+0200
TZOFFSETTO:+0100
TZNAME:CET
DTSTART:20161030T010000
END:STANDARD
END:VTIMEZONE
BEGIN:VEVENT
DTSTART;TZID=Europe/Belgrade:20160322T080000
DTEND;TZID=Europe/Belgrade:20160322T170000
DTSTAMP:20260422T033754
CREATED:20160322T154237Z
LAST-MODIFIED:20160322T154652Z
UID:7439-1458633600-1458666000@www.srpskilegat.rs
SUMMARY:Изложба - Средњовековни Рудник: археолошка истраживања 2009–2015\, у Галерији Српске академије наука и уметности
DESCRIPTION:Изложба Средњовековни Рудник: археолошка истраживања 2009–2015 у Галерији Српске академије наука и уметности Српска академија наука и уметности и Музеј рудничко-таковског краја из Горњег Милановца организују у Галерији САНУ изложбу Средњовековни Рудник: археолошка истраживања 2009–2015 аутора Ане Цицовић\, вишег кустоса археолога Музеја рудничко-таковског краја у Горњем Милановцу и др Дејана Радичевића\, доцента на Катедри за археологију Филозофског факултета у Београду. Музеј рудничко-таковског краја је покренуо ову изложбу желећи да српској јавности представи Рудник у периоду великог успона средњовековне српске државе\, када је Рудник био један од најзначајнијих рударских и трговачких средишта у земљи. Изложба кроз пажљиво одабран материјал приказује црквену архитектуру\, насеобинске објекте\, богате и разноврсне предмете материјалне и духовне културе XIV и XV века. Последња ископавања изнедрила су и један изузетан археолошки налаз\, на нашим просторима јединствен. Ради се о типару (печатњаку) из времена владавине кнеза Лазара над овим важним рударским и трговачким центром. Обликом одудара од свих до сада познатих средњовековних типара\, а садржај печатне легенде такође је необичан и јединствен. Својом лепотом\, уметничком обрадом и целокупним утиском који оставља\, типар се сврстава у бисере српске средњовековне сфрагистике.
URL:https://www.srpskilegat.rs/dogadjaj/izlozba-srednjovekovni-rudnik/
CATEGORIES:Култура,Планирани догађаји
ATTACH;FMTTYPE=image/jpeg:https://www.srpskilegat.rs/wp-content/uploads/2016/03/1.-Tipar-kneza-Lazara.jpg
END:VEVENT
BEGIN:VEVENT
DTSTART;VALUE=DATE:20151004
DTEND;VALUE=DATE:20151005
DTSTAMP:20260422T033754
CREATED:20150704T134443Z
LAST-MODIFIED:20150705T165756Z
UID:3021-1443916800-1444003199@www.srpskilegat.rs
SUMMARY:Међународни салон фотографија „Дете“
DESCRIPTION:
URL:https://www.srpskilegat.rs/dogadjaj/medjunarodni-salon-fotografija-dete/
LOCATION:Зајечар\, Зајечар\, Srbija
CATEGORIES:Зајечар,Култура,Планирани догађаји
ATTACH;FMTTYPE=image/jpeg:https://www.srpskilegat.rs/wp-content/uploads/2015/07/4-sept.jpg
END:VEVENT
BEGIN:VEVENT
DTSTART;VALUE=DATE:20151001
DTEND;VALUE=DATE:20151101
DTSTAMP:20260422T033754
CREATED:20150704T134927Z
LAST-MODIFIED:20150705T165152Z
UID:3024-1443657600-1446335999@www.srpskilegat.rs
SUMMARY:Годишња изложба чланова УЗУС-а
DESCRIPTION:
URL:https://www.srpskilegat.rs/dogadjaj/godisnja-izlozba-clanova-uzus-a/
LOCATION:Зајечар\, Зајечар\, Srbija
CATEGORIES:Зајечар,Изложба,Култура,Планирани догађаји
ATTACH;FMTTYPE=image/jpeg:https://www.srpskilegat.rs/wp-content/uploads/2015/07/oktobar.jpg
END:VEVENT
BEGIN:VEVENT
DTSTART;VALUE=DATE:20150921
DTEND;VALUE=DATE:20150922
DTSTAMP:20260422T033754
CREATED:20150704T133726Z
LAST-MODIFIED:20150705T165050Z
UID:3015-1442793600-1442879999@www.srpskilegat.rs
SUMMARY:Градска слава Златне руке и сајам меда
DESCRIPTION:
URL:https://www.srpskilegat.rs/dogadjaj/gradska-slava-zlatne-ruke-i-sajam-meda/
LOCATION:Зајечар\, Зајечар\, Srbija
CATEGORIES:Гастрономија,Зајечар,Култура,Планирани догађаји
ATTACH;FMTTYPE=image/jpeg:https://www.srpskilegat.rs/wp-content/uploads/2015/07/21-sept.jpg
END:VEVENT
BEGIN:VEVENT
DTSTART;VALUE=DATE:20150905
DTEND;VALUE=DATE:20150906
DTSTAMP:20260422T033754
CREATED:20150704T133446Z
LAST-MODIFIED:20150705T164031Z
UID:3012-1441411200-1441497599@www.srpskilegat.rs
SUMMARY:Башта Балкана
DESCRIPTION:
URL:https://www.srpskilegat.rs/dogadjaj/basta-balkana/
LOCATION:Велики Извор\, Велики Извор\, Srbija
CATEGORIES:Зајечар,Култура,Планирани догађаји
ATTACH;FMTTYPE=image/jpeg:https://www.srpskilegat.rs/wp-content/uploads/2015/07/5-sept.jpg
END:VEVENT
BEGIN:VEVENT
DTSTART;VALUE=DATE:20150827
DTEND;VALUE=DATE:20150831
DTSTAMP:20260422T033754
CREATED:20150704T132338Z
LAST-MODIFIED:20150705T163134Z
UID:3004-1440633600-1440979199@www.srpskilegat.rs
SUMMARY:16. Међународна филозофска школа
DESCRIPTION:
URL:https://www.srpskilegat.rs/dogadjaj/16-medjunarodna-filozofska-skola/
LOCATION:Феликс Ромулијана\, Феликс Ромулијана\, Srbija
CATEGORIES:Зајечар,Култура,Планирани догађаји
ATTACH;FMTTYPE=image/jpeg:https://www.srpskilegat.rs/wp-content/uploads/2015/07/20-i-30-avg.jpg
END:VEVENT
BEGIN:VEVENT
DTSTART;VALUE=DATE:20150820
DTEND;VALUE=DATE:20150831
DTSTAMP:20260422T033754
CREATED:20150704T132120Z
LAST-MODIFIED:20150705T162828Z
UID:3001-1440028800-1440979199@www.srpskilegat.rs
SUMMARY:Међународна ликовна колонија „Гамзиград“
DESCRIPTION:
URL:https://www.srpskilegat.rs/dogadjaj/medjunarodna-likovna-kolonija-gamzigrad/
LOCATION:Гамзиградска Бања\, Гамзиградска Бања
CATEGORIES:Зајечар,Култура,Планирани догађаји
ATTACH;FMTTYPE=image/jpeg:https://www.srpskilegat.rs/wp-content/uploads/2015/07/20-30-avgust.jpg
END:VEVENT
BEGIN:VEVENT
DTSTART;VALUE=DATE:20150815
DTEND;VALUE=DATE:20150901
DTSTAMP:20260422T033754
CREATED:20150702T090515Z
LAST-MODIFIED:20150705T161003Z
UID:2922-1439596800-1441065599@www.srpskilegat.rs
SUMMARY:ВЕЛИКОГОСПОЈИНСКЕ ВЕЧЕРИ У СТАПАРУ
DESCRIPTION:У част Велике Госпојине у другој половини августа\, одржава се манифестација са програмом: вече фолклора\, књижевно вече\, изложба слика\, такмичење у фудбалу\, стоно-тениско такмичење\, изложба голубова\, изложба паса свих раса\, изложба фијакера\,традиционално такмичење у кувању овчијег паприкаша и Дударијада.
URL:https://www.srpskilegat.rs/dogadjaj/velikogospojinske-veceri-u-staparu/
LOCATION:Стапар\, Стапар\, Srbija
CATEGORIES:Гастрономија,Култура,Народно стваралаштво,Планирани догађаји,Спорт
END:VEVENT
BEGIN:VEVENT
DTSTART;VALUE=DATE:20150815
DTEND;VALUE=DATE:20150816
DTSTAMP:20260422T033754
CREATED:20150704T131840Z
LAST-MODIFIED:20150705T161106Z
UID:2998-1439596800-1439683199@www.srpskilegat.rs
SUMMARY:Балкански фестивал културе Влаха
DESCRIPTION:
URL:https://www.srpskilegat.rs/dogadjaj/balkanski-festival-kulture-vlaha/
LOCATION:Дубочане\, Дубочане\, Srbija
CATEGORIES:Зајечар,Култура,Планирани догађаји
ATTACH;FMTTYPE=image/jpeg:https://www.srpskilegat.rs/wp-content/uploads/2015/07/15-avgust.jpg
END:VEVENT
BEGIN:VEVENT
DTSTART;VALUE=DATE:20150807
DTEND;VALUE=DATE:20150809
DTSTAMP:20260422T033754
CREATED:20150704T130634Z
LAST-MODIFIED:20150705T160859Z
UID:2995-1438905600-1439078399@www.srpskilegat.rs
SUMMARY:Вражогрначки точак
DESCRIPTION:
URL:https://www.srpskilegat.rs/dogadjaj/vrazogrnacki-tocak/
LOCATION:Вражогрнац\, Вражогрнац
CATEGORIES:Зајечар,Култура,Народно стваралаштво,Планирани догађаји
ATTACH;FMTTYPE=image/jpeg:https://www.srpskilegat.rs/wp-content/uploads/2015/07/7-i-8-vgust.jpg
END:VEVENT
BEGIN:VEVENT
DTSTART;VALUE=DATE:20150807
DTEND;VALUE=DATE:20150809
DTSTAMP:20260422T033754
CREATED:20150702T153732Z
LAST-MODIFIED:20150705T160827Z
UID:2950-1438905600-1439078399@www.srpskilegat.rs
SUMMARY:БОДРОГ ФЕСТ У БАЧКОМ МОНОШТОРУ
DESCRIPTION:Етно фестивал хране\, традиције и старих заната усмерен је ка неговању традиције свих народа овог подручја и промовисању природних вредности „Горњег подунавља“. Састоји се из дводневног програма: „Бодрошки котлић“\, „Фијакеријада Бодрога“\, кулинарска  понуда\, културно класични програм\, културно уметнички програм\, занатски програм\, концерт „Бодрог фест за младе“ и још мноштво едукативних и културних садржаја
URL:https://www.srpskilegat.rs/dogadjaj/bodrog-fest-u-backom-monostoru-2/
LOCATION:Бачки Моноштор\, Бачки Моноштор\, Srbija
CATEGORIES:Гастрономија,Култура,Народно стваралаштво,Планирани догађаји,Сомбор
END:VEVENT
BEGIN:VEVENT
DTSTART;VALUE=DATE:20150803
DTEND;VALUE=DATE:20150811
DTSTAMP:20260422T033754
CREATED:20150702T084907Z
LAST-MODIFIED:20150705T154535Z
UID:2918-1438560000-1439251199@www.srpskilegat.rs
SUMMARY:ДАНИ ДЕС АРТСА
DESCRIPTION:У оквиру Сомборског лета већ традицонално се одржава манифестација у прелепом амбијенту кафе бара ”Дес Арта” као мултикултурална манифестација која обједињује све сфере културног живота.
URL:https://www.srpskilegat.rs/dogadjaj/dani-des-artsa/
LOCATION:Neimenovano mesto održavanja\, Сомбор
CATEGORIES:Култура,Планирани догађаји,Сомбор
END:VEVENT
BEGIN:VEVENT
DTSTART;VALUE=DATE:20150803
DTEND;VALUE=DATE:20150804
DTSTAMP:20260422T033754
CREATED:20150704T125309Z
LAST-MODIFIED:20150705T154632Z
UID:2987-1438560000-1438646399@www.srpskilegat.rs
SUMMARY:Илиндански сабор
DESCRIPTION:
URL:https://www.srpskilegat.rs/dogadjaj/ilindanski-sabor/
LOCATION:Шипиково\, Шипиково
CATEGORIES:Зајечар,Култура,Планирани догађаји
ATTACH;FMTTYPE=image/jpeg:https://www.srpskilegat.rs/wp-content/uploads/2015/07/03-avgust.jpg
END:VEVENT
BEGIN:VEVENT
DTSTART;VALUE=DATE:20150801
DTEND;VALUE=DATE:20150802
DTSTAMP:20260422T033754
CREATED:20150702T084115Z
LAST-MODIFIED:20150705T153701Z
UID:2914-1438387200-1438473599@www.srpskilegat.rs
SUMMARY:ЕТНО ФЕСТИВАЛ „ТРОЈНИ СУСРЕТ“ У БЕЗДАНУ
DESCRIPTION:Традиционално се одржава на Каналској обали у Бездану. Манифестација окупља бројна културно-уметничка друштва из Србије\, Мађарске и Хрватске\, као и излагаче рукотворина из наше земље. Тога дана се представљају: култура\, уметност\, невладин сектор и традиција свих народа који живе на овом подручју.
URL:https://www.srpskilegat.rs/dogadjaj/etno-festival-trojni-susret-u-bezdanu/
LOCATION:Бездан\, Сомбор
CATEGORIES:Култура,Народно стваралаштво,Планирани догађаји,Сомбор
END:VEVENT
BEGIN:VEVENT
DTSTART;VALUE=DATE:20150729
DTEND;VALUE=DATE:20150802
DTSTAMP:20260422T033754
CREATED:20150704T130107Z
LAST-MODIFIED:20150705T154004Z
UID:2992-1438128000-1438473599@www.srpskilegat.rs
SUMMARY:Гитаријада и Мото скуп
DESCRIPTION:
URL:https://www.srpskilegat.rs/dogadjaj/gitarijada-i-moto-skup/
LOCATION:Neimenovano mesto održavanja\, Зајечар\, Srbija
CATEGORIES:Зајечар,Концерт,Култура,Планирани догађаји
ATTACH;FMTTYPE=image/jpeg:https://www.srpskilegat.rs/wp-content/uploads/2015/07/29-jul-1-avgust.jpg
END:VEVENT
BEGIN:VEVENT
DTSTART;VALUE=DATE:20150726
DTEND;VALUE=DATE:20150727
DTSTAMP:20260422T033754
CREATED:20150702T083744Z
LAST-MODIFIED:20150705T153503Z
UID:2912-1437868800-1437955199@www.srpskilegat.rs
SUMMARY:ДУЖИОНИЦА
DESCRIPTION:Жетвене свечаности\, традиционално црквено-друштвена манифестација уз присуство великог броја гостију и учесника из земље и иностранства.
URL:https://www.srpskilegat.rs/dogadjaj/duzionica/
LOCATION:Neimenovano mesto održavanja\, Сомбор
CATEGORIES:Култура,Планирани догађаји,Сомбор
END:VEVENT
BEGIN:VEVENT
DTSTART;VALUE=DATE:20150714
DTEND;VALUE=DATE:20150719
DTSTAMP:20260422T033754
CREATED:20150702T080254Z
LAST-MODIFIED:20150712T003819Z
UID:2904-1436832000-1437263999@www.srpskilegat.rs
SUMMARY:СОМБОРСКО ЛЕТО
DESCRIPTION:Низ културних дешавања у центру Сомбора.
URL:https://www.srpskilegat.rs/dogadjaj/somborsko-leto/
LOCATION:Neimenovano mesto održavanja\, Сомбор\, Srbija
CATEGORIES:Култура,Планирани догађаји,Сомбор
END:VEVENT
BEGIN:VEVENT
DTSTART;VALUE=DATE:20150711
DTEND;VALUE=DATE:20150712
DTSTAMP:20260422T033754
CREATED:20150704T124206Z
LAST-MODIFIED:20150710T070335Z
UID:2980-1436572800-1436659199@www.srpskilegat.rs
SUMMARY:Хајдук Вељкови дани
DESCRIPTION:
URL:https://www.srpskilegat.rs/dogadjaj/hajduk-veljkovi-dani/
LOCATION:Леновац\, Леновац
CATEGORIES:Зајечар,Култура,Планирани догађаји
ATTACH;FMTTYPE=image/jpeg:https://www.srpskilegat.rs/wp-content/uploads/2015/07/11-jul.jpg
END:VEVENT
BEGIN:VEVENT
DTSTART;VALUE=DATE:20150709
DTEND;VALUE=DATE:20150731
DTSTAMP:20260422T033754
CREATED:20150703T121746Z
LAST-MODIFIED:20150703T121812Z
UID:2971-1436400000-1438300799@www.srpskilegat.rs
SUMMARY:ЈЕРМЕНСКА ЦРКВА У НОВОМ САДУ – ИЗБРИСАНА БАШТИНА
DESCRIPTION:У историји Новог Сада постоје поглавља која се\, само с времена на време\, поново отварају и читају. Једно од таквих је и прича о новосадским Јерменима – малој заједници која је своје уточиште пронашла у Петроварадинском Шанцу 1739. године. Њени чланови су били специфични по свом пореклу\, традицији\, верском опредељењу и економској моћи. У град су стигли под заштитом Ватикана и јерменског монашког реда мехитариста. Уз њихову помоћ и сопственим средствима\, Јермени су средином 18. века подигли своју прву цркву\, управо у време када је Нови Сад стекао привилегију слободног краљевског града. У панорами Новог Сада Црква Св. Гргура Просветитеља се није истицала величином и изгледом\, али је представљала једини јерменски храм на ширем географском подручју. \nНовосадски Јермени су просперирали до половине 19. века. Иако је у најбољим временима колонија достизала тек сто чланова\, био је приметан њихов допринос економском јачању града. Нажалост\, у бомбардовању града 1849. године\, срушена је Јерменска црква\, а број њених верника се драстично смањио. Захваљујући упорности јерменских свештеника-мехитариста и дарежљивости Марије Трандафил\, храм је обновљен 1872. године. Иако је од краја 19. века у Јерменску цркву улазило веома мало верника\, грађани су били навикнути на њену фасаду и присуство старих свештеника. За старије генерације овај објекат је представљао симбол старог Новог Сада. \nНосталгија и жеља за очувањем старе архитектуре\, међутим\, нису били довољно снажни аргументи који би послератне урбанисте убедили да сачувају објекте у старом језгру Новог Сада. Као жртва просецања Булевара маршала Тита\, Јерменска црква је срушена у октобру 1963. године. Преживео је део једног зида\, а последњи камен темеља је ископан у деветој деценији 20. века. На месту некадашњег гробља је подигнута неугледна ограда\, испред које\, и данас\, стоји надгробни споменик давно нестале и заборављене јерменске породице.
URL:https://www.srpskilegat.rs/dogadjaj/jermenska-crkva-u-novom-sadu-izbrisana-bastina/
LOCATION:Београд\, Студентски трг 13\, Београд
CATEGORIES:Београд,Изложба,Култура,Планирани догађаји
ATTACH;FMTTYPE=image/jpeg:https://www.srpskilegat.rs/wp-content/uploads/2015/07/Jermenska-crkva.jpg
END:VEVENT
BEGIN:VEVENT
DTSTART;VALUE=DATE:20150707
DTEND;VALUE=DATE:20150708
DTSTAMP:20260422T033754
CREATED:20150704T123226Z
LAST-MODIFIED:20150705T152819Z
UID:2974-1436227200-1436313599@www.srpskilegat.rs
SUMMARY:Ивањдански сабор
DESCRIPTION:
URL:https://www.srpskilegat.rs/dogadjaj/ivanjdanski-sabor/
LOCATION:Рготина\, Рготина
CATEGORIES:Зајечар,Култура,Планирани догађаји
ATTACH;FMTTYPE=image/jpeg:https://www.srpskilegat.rs/wp-content/uploads/2015/07/7-jul.jpg
END:VEVENT
BEGIN:VEVENT
DTSTART;VALUE=DATE:20150630
DTEND;VALUE=DATE:20150701
DTSTAMP:20260422T033754
CREATED:20150714T164217Z
LAST-MODIFIED:20150714T164217Z
UID:3478-1435622400-1435708799@www.srpskilegat.rs
SUMMARY:Сабор на Тројицу
DESCRIPTION:
URL:https://www.srpskilegat.rs/dogadjaj/sabor-na-trojicu/
LOCATION:Neimenovano mesto održavanja\, Боровац\, Srbija
CATEGORIES:Зајечар,Култура,Народно стваралаштво,Општина,Планирани догађаји
ATTACH;FMTTYPE=image/jpeg:https://www.srpskilegat.rs/wp-content/uploads/2015/07/31-jun.jpg
END:VEVENT
BEGIN:VEVENT
DTSTART;VALUE=DATE:20150627
DTEND;VALUE=DATE:20150629
DTSTAMP:20260422T033754
CREATED:20150713T151306Z
LAST-MODIFIED:20150713T151306Z
UID:3390-1435363200-1435535999@www.srpskilegat.rs
SUMMARY:МУЗИЧКИ ФЕСТИВАЛ ’’РЕГЕНЕРАЦИЈА ДУНАВА’’
DESCRIPTION:У Бачком Моноштору се на међународни Дан Дунава организује Регенерација Дунава\, еколошко-музички фестивал. Фестивал се одржава на простору Еко-рекреативног центра.
URL:https://www.srpskilegat.rs/dogadjaj/muzicki-festival-regeneracija-dunava/
LOCATION:Neimenovano mesto održavanja\, Бачки Моноштор\, Srbija
CATEGORIES:Култура,Општина,Планирани догађаји,Сомбор
END:VEVENT
BEGIN:VEVENT
DTSTART;VALUE=DATE:20150627
DTEND;VALUE=DATE:20150628
DTSTAMP:20260422T033754
CREATED:20150713T151016Z
LAST-MODIFIED:20150713T151016Z
UID:3387-1435363200-1435449599@www.srpskilegat.rs
SUMMARY:ФЕСТИВАЛ ЛЕМЕШКИ КУЛЕН
DESCRIPTION:
URL:https://www.srpskilegat.rs/dogadjaj/festival-lemeski-kulen/
LOCATION:Neimenovano mesto održavanja\, Сомбор\, Srbija
CATEGORIES:Изложба,Концерт,Култура,Општина,Планирани догађаји,Сомбор
END:VEVENT
BEGIN:VEVENT
DTSTART;VALUE=DATE:20150619
DTEND;VALUE=DATE:20150621
DTSTAMP:20260422T033754
CREATED:20150714T162049Z
LAST-MODIFIED:20150714T162049Z
UID:3472-1434672000-1434844799@www.srpskilegat.rs
SUMMARY:Сабор косовских Срба
DESCRIPTION:
URL:https://www.srpskilegat.rs/dogadjaj/sabor-kosovskih-srba/
LOCATION:Neimenovano mesto održavanja\, Звездан\, Srbija
CATEGORIES:Зајечар,Култура,Народно стваралаштво,Општина,Планирани догађаји
ATTACH;FMTTYPE=image/jpeg:https://www.srpskilegat.rs/wp-content/uploads/2015/07/19-i-20-jun.jpg
END:VEVENT
BEGIN:VEVENT
DTSTART;VALUE=DATE:20150612
DTEND;VALUE=DATE:20150615
DTSTAMP:20260422T033754
CREATED:20150713T145347Z
LAST-MODIFIED:20150713T145347Z
UID:3379-1434067200-1434326399@www.srpskilegat.rs
SUMMARY:СОМБОРСКИ ПОЗОРИШНИ МАРАТОН
DESCRIPTION:Од 1993. год. Народно позориште Сомбор сваку сезону завршава фестивалом Позоришни маратон. Током три дана и три ноћи\, једна за другом\, играју се представе сомборског позоришта и представе гостујућих позоришта\, позоришних група и студената драмских факултета.
URL:https://www.srpskilegat.rs/dogadjaj/somborski-pozorisni-maraton/
LOCATION:Neimenovano mesto održavanja\, Сомбор\, Srbija
CATEGORIES:Култура,Општина,Планирани догађаји,Сомбор
END:VEVENT
BEGIN:VEVENT
DTSTART;VALUE=DATE:20150606
DTEND;VALUE=DATE:20150607
DTSTAMP:20260422T033754
CREATED:20150714T161833Z
LAST-MODIFIED:20150714T161833Z
UID:3468-1433548800-1433635199@www.srpskilegat.rs
SUMMARY:Потекла вода студена
DESCRIPTION:
URL:https://www.srpskilegat.rs/dogadjaj/potekla-voda-studena/
LOCATION:Neimenovano mesto održavanja\, Зајечар\, Srbija
CATEGORIES:Зајечар,Култура,Народно стваралаштво,Општина,Планирани догађаји
ATTACH;FMTTYPE=image/jpeg:https://www.srpskilegat.rs/wp-content/uploads/2015/07/6-jun.jpg
END:VEVENT
BEGIN:VEVENT
DTSTART;VALUE=DATE:20150528
DTEND;VALUE=DATE:20150529
DTSTAMP:20260422T033754
CREATED:20150713T144343Z
LAST-MODIFIED:20150713T145048Z
UID:3376-1432771200-1432857599@www.srpskilegat.rs
SUMMARY:ВАЛЦЕНГРАД
DESCRIPTION:Манифестација окупља око 1.500 директних и индиректних учасника\, 9 школа на територији града Сомбора и друге партнерске институције културе. Манифестација је догађај вредан пажње са потенцијалом да прерасте у традиционалну.
URL:https://www.srpskilegat.rs/dogadjaj/valcengrad/
LOCATION:Neimenovano mesto održavanja\, Сомбор
CATEGORIES:Култура,Општина,Планирани догађаји,Сомбор
END:VEVENT
BEGIN:VEVENT
DTSTART;VALUE=DATE:20150523
DTEND;VALUE=DATE:20150524
DTSTAMP:20260422T033754
CREATED:20150714T101940Z
LAST-MODIFIED:20150714T101940Z
UID:3439-1432339200-1432425599@www.srpskilegat.rs
SUMMARY:Дани Адама Богосављевића
DESCRIPTION:
URL:https://www.srpskilegat.rs/dogadjaj/dani-adama-bogosavljevica/
LOCATION:Копривница\, Зајечар\, Srbija
CATEGORIES:Зајечар,Култура,Општина,Планирани догађаји
ATTACH;FMTTYPE=image/jpeg:https://www.srpskilegat.rs/wp-content/uploads/2015/07/23-maj-.jpg
END:VEVENT
BEGIN:VEVENT
DTSTART;VALUE=DATE:20150522
DTEND;VALUE=DATE:20150523
DTSTAMP:20260422T033754
CREATED:20150714T101656Z
LAST-MODIFIED:20150714T101656Z
UID:3436-1432252800-1432339199@www.srpskilegat.rs
SUMMARY:Матурантска парада
DESCRIPTION:
URL:https://www.srpskilegat.rs/dogadjaj/maturantska-parada/
LOCATION:Neimenovano mesto održavanja\, Зајечар\, Srbija
CATEGORIES:Зајечар,Култура,Општина,Планирани догађаји
ATTACH;FMTTYPE=image/jpeg:https://www.srpskilegat.rs/wp-content/uploads/2015/07/22-maj.jpg
END:VEVENT
BEGIN:VEVENT
DTSTART;VALUE=DATE:20150519
DTEND;VALUE=DATE:20150520
DTSTAMP:20260422T033754
CREATED:20150714T101256Z
LAST-MODIFIED:20150714T101256Z
UID:3433-1431993600-1432079999@www.srpskilegat.rs
SUMMARY:Ноћ музеја:  Поетске инсталације\, Поетско-музичке илустрације
DESCRIPTION:
URL:https://www.srpskilegat.rs/dogadjaj/noc-muzeja-poetske-instalacije-poetsko-muzicke-ilustracije/
LOCATION:Neimenovano mesto održavanja\, Зајечар\, Srbija
CATEGORIES:Зајечар,Култура,Општина,Планирани догађаји
ATTACH;FMTTYPE=image/jpeg:https://www.srpskilegat.rs/wp-content/uploads/2015/07/19-maj.jpg
END:VEVENT
END:VCALENDAR